BEGIN:VCALENDAR
VERSION:2.0
PRODID:-//Ateneo Mercantil de Valencia - ECPv6.0.4//NONSGML v1.0//EN
CALSCALE:GREGORIAN
METHOD:PUBLISH
X-ORIGINAL-URL:https://historico.ateneovalencia.es
X-WR-CALDESC:Eventos para Ateneo Mercantil de Valencia
REFRESH-INTERVAL;VALUE=DURATION:PT1H
X-Robots-Tag:noindex
X-PUBLISHED-TTL:PT1H
BEGIN:VTIMEZONE
TZID:Europe/Madrid
BEGIN:DAYLIGHT
TZOFFSETFROM:+0100
TZOFFSETTO:+0200
TZNAME:CEST
DTSTART:20170326T010000
END:DAYLIGHT
BEGIN:STANDARD
TZOFFSETFROM:+0200
TZOFFSETTO:+0100
TZNAME:CET
DTSTART:20171029T010000
END:STANDARD
END:VTIMEZONE
BEGIN:VEVENT
DTSTART;TZID=Europe/Madrid:20170512T220000
DTEND;TZID=Europe/Madrid:20170512T220000
DTSTAMP:20260422T235344
CREATED:20170428T080438Z
LAST-MODIFIED:20170428T080456Z
UID:23282-1494626400-1494626400@historico.ateneovalencia.es
SUMMARY:Cena homenaje a dos grandes aficionados taurinos y ateneístas
DESCRIPTION:Estimados amigos taurinos\, el próximo día 12 de Mayo de 2017\, la Tertulia Taurina del Ateneo Mercantil realizará un homenaje a dos grandes aficionados D. SALVADOR BOIX SOLER Y Dña. LINA HERRANZ OTERO que desde su infancia han sido grandes seguidores de la fiesta taurina\, estando casi siempre presentes en todos los actos taurinos y en algunas asociaciones de manera muy activa\, por todo lo cual estamos convencidos que se merecen este homenaje de reconocimiento de toda la afición. \nSi deseas asistir a este homenaje\, debes pasar por la Secretaría del Ateneo Mercantil antes del día 9 de Mayo para reservar y abonar el importe de la cena. \nPara compartir mesa con otros asistentes\, lo puedes hacer llamando al teléfono 670 50 58 72 (Paco) Portavoz de la Tertulia. \nLa CENA-HOMENAJE\, tendrá lugar en el Restaurante del Ateneo Mercantil y el precio del cubierto es de 30 euros por persona. \nEsperamos tu asistencia ya que las dos personas homenajeadas se lo merecen. \nMenú:\nENTRANTES: \n\nVirutas de Jamón con cuñas de queso manchego\nEnsalada de Cogollos con atún y vinagreta\nBrocheta Green Rice y Twister con salsa cocktail\nHojaldre de espinacas con crema de queso de cabra y pasas\n\nPLATO PRINCIPAL (A ELEGIR): \n\nCarrillada Ibérica estofada en su jugo\nBacalao Gratinado\n\nPOSTRE: \n\nTarta de Leche Merengada con helado de vainilla\n\nCAFÉ - INFUSIONES \nBEBIDAS: \n\nVino tinto\, blanco\, rosado\, agua\, refrescos y cerveza
URL:https://historico.ateneovalencia.es/evento/cena-homenaje-a-dos-grandes-aficionados-taurinos-y-ateneistas/
LOCATION:Ateneo Restaurante\, Plaza del Ayuntamiento\, 18\, Valencia\, España\, Valencia\, Comunidad Valenciana\, 46002\, España
CATEGORIES:Cenas,Tertulia Taurina
ATTACH;FMTTYPE=image/jpeg:https://historico.ateneovalencia.es/wp-content/uploads/2017/04/20170512-Cena-Homenaje-Tertulia-Taurina.jpg
END:VEVENT
END:VCALENDAR