BEGIN:VCALENDAR
VERSION:2.0
PRODID:-//Ateneo Mercantil de Valencia - ECPv6.0.4//NONSGML v1.0//EN
CALSCALE:GREGORIAN
METHOD:PUBLISH
X-WR-CALNAME:Ateneo Mercantil de Valencia
X-ORIGINAL-URL:https://historico.ateneovalencia.es
X-WR-CALDESC:Eventos para Ateneo Mercantil de Valencia
REFRESH-INTERVAL;VALUE=DURATION:PT1H
X-Robots-Tag:noindex
X-PUBLISHED-TTL:PT1H
BEGIN:VTIMEZONE
TZID:Europe/Madrid
BEGIN:DAYLIGHT
TZOFFSETFROM:+0100
TZOFFSETTO:+0200
TZNAME:CEST
DTSTART:20190331T010000
END:DAYLIGHT
BEGIN:STANDARD
TZOFFSETFROM:+0200
TZOFFSETTO:+0100
TZNAME:CET
DTSTART:20191027T010000
END:STANDARD
END:VTIMEZONE
BEGIN:VEVENT
DTSTART;TZID=Europe/Madrid:20191210T190000
DTEND;TZID=Europe/Madrid:20191210T210000
DTSTAMP:20260425T125320
CREATED:20191129T124918Z
LAST-MODIFIED:20191129T124918Z
UID:54407-1576004400-1576011600@historico.ateneovalencia.es
SUMMARY:Tertulia Taurina: “La gestión taurina por un joven intérprete”
DESCRIPTION:La Tertulia Taurina del Ateneo cambia de día y de su ubicación habitual ya que la próxima cita será en el Salón Sorolla el martes 10 de diciembre a las 19 horas. Una conferencia que contará con un invitado muy especial\, el empresario taurino\, fundador y director de Tauromanagement\, D. Luis María Garrido. El joven emprendedor de tan sólo 25 años vendrá a contar sus vivencias como empresario taurino encargado de la plaza de toros turolense de Cella\, ya que se ha hecho cargo del coso aragonés. \nLuis María desgranará sus inquietudes y su propuesta empresarial en Cella donde ha contado con la presencia de hierros de primer nivel\, pero sobre todo con un sello de calidad\, transparencia y promoción que su empresa está aplicando a todos sus festejos. El acto contará con la presencia en la mesa principal de varios integrantes de la Tertulia Taurina del Ateneo quienes preguntarán al invitado para completar una gran tarde de toros y lo que implica su vertiente más empresarial. \nCartel:
URL:https://historico.ateneovalencia.es/evento/tertulia-taurina-la-gestion-taurina-por-un-joven-interprete/
LOCATION:Salón Sorolla - Ateneo Mercantil de Valencia\, Plaza del Ayuntamiento 18\, Valencia\, Valencia\, 46002\, España
CATEGORIES:Tertulia Taurina
ATTACH;FMTTYPE=image/jpeg:https://historico.ateneovalencia.es/wp-content/uploads/2019/11/20191210-Tertulia-Taurina-Luis-Maria-Garrido.jpg
END:VEVENT
BEGIN:VEVENT
DTSTART;TZID=Europe/Madrid:20191212T190000
DTEND;TZID=Europe/Madrid:20191212T210000
DTSTAMP:20260425T125320
CREATED:20191211T134639Z
LAST-MODIFIED:20191211T134748Z
UID:54669-1576177200-1576184400@historico.ateneovalencia.es
SUMMARY:Tertulia Taurina: “Tauromaquia romántica y la Feria de Nimes 2019”
DESCRIPTION:La última cita de la Tertulia Taurina del Ateneo Mercantil de Valencia del año 2019 llega este jueves 12 de diciembre a las 19 horas en el séptimo piso del edificio y lo hace bajo el título “Tauromaquia romántica y la Feria de Nimes 2019” que será ofrecida por el tertuliano habitual D. Antonio Crespo. \nLas Ferias de Nimes constituyen un momento esencial en la vida cultural\, económica y turística nimeña. Dos citas la de Pentecostés y en Vendimia\, a mitad de septiembre. Los mejores toreros y las ganaderías más prestigiosas se dan cita en un anfiteatro romano que le dan un plus de belleza al evento. Llenazos absolutos\, aficionados exigentes y conocedores. Puro espectáculo. \nCartel:
URL:https://historico.ateneovalencia.es/evento/tertulia-taurina-tauromaquia-romantica-y-la-feria-de-nimes-2019/
LOCATION:Sala Multiusos - Tertulia Taurina
CATEGORIES:Tertulia Taurina
ATTACH;FMTTYPE=image/jpeg:https://historico.ateneovalencia.es/wp-content/uploads/2019/12/20191212-Tertulia-Taurina-Nimes-2019.jpg
END:VEVENT
BEGIN:VEVENT
DTSTART;TZID=Europe/Madrid:20191219T180000
DTEND;TZID=Europe/Madrid:20191219T193000
DTSTAMP:20260425T125320
CREATED:20191216T100226Z
LAST-MODIFIED:20191216T100240Z
UID:54764-1576778400-1576783800@historico.ateneovalencia.es
SUMMARY:Paco Ureña estará en el Ateneo Mercantil para recoger el XIV Premio Distinción Enrique Mora Guillén
DESCRIPTION:El torero de Lorca Paco Ureña recogerá este próximo jueves\, 19 de diciembre\, a las 18 horas el XIV Premio Distinción 2017 Enrique Mora que le concedió el Ateneo Mercantil en su Tertulia Taurina como triunfador de la temporada 2017 en Valencia. \nEl galardón se entregará durante la Gala de Navidad que celebra la entidad ya que el diestro no lo había podido recoger hasta el momento por su apretada agenda. Este Premio se concede de forma anual y lo han recibido en los últimos años toreros como Castella\, Roca Rey\, Enrique Ponce o El Juli\, entre otros. \nEl torero murciano\, tras su desgraciado percance en Albacete a finales del año pasado\, reapareció este año en la Feria de Fallas en un mano a mano con Enrique Ponce\, y no sólo ha cumplido un ejercicio notable\, con presencia en todas las ferias principales y plazas de primera\, sino que ha sido uno de los grandes triunfadores de la temporada con destacadas participaciones en plazas como Madrid\, Nimes\, Valencia o Bilbao y dio la cara allá donde actuó. Además\, ha pulido de manera notable su toreo\, dando más naturalidad a su empaque y trascendente profundidad. \nGalería de imágenes
URL:https://historico.ateneovalencia.es/evento/paco-urena-estara-en-el-ateneo-mercantil-para-recoger-el-xiv-premio-distincion-enrique-mora-guillen/
LOCATION:Teatro Ateneo
CATEGORIES:Tertulia Taurina
ATTACH;FMTTYPE=image/jpeg:https://historico.ateneovalencia.es/wp-content/uploads/2019/12/20180322-Premio-Distincion-Paco-Ureña.jpg
END:VEVENT
END:VCALENDAR