BEGIN:VCALENDAR
VERSION:2.0
PRODID:-//Ateneo Mercantil de Valencia - ECPv6.0.4//NONSGML v1.0//EN
CALSCALE:GREGORIAN
METHOD:PUBLISH
X-ORIGINAL-URL:https://historico.ateneovalencia.es
X-WR-CALDESC:Eventos para Ateneo Mercantil de Valencia
REFRESH-INTERVAL;VALUE=DURATION:PT1H
X-Robots-Tag:noindex
X-PUBLISHED-TTL:PT1H
BEGIN:VTIMEZONE
TZID:Europe/Madrid
BEGIN:DAYLIGHT
TZOFFSETFROM:+0100
TZOFFSETTO:+0200
TZNAME:CEST
DTSTART:20190331T010000
END:DAYLIGHT
BEGIN:STANDARD
TZOFFSETFROM:+0200
TZOFFSETTO:+0100
TZNAME:CET
DTSTART:20191027T010000
END:STANDARD
END:VTIMEZONE
BEGIN:VEVENT
DTSTART;TZID=Europe/Madrid:20190401T193000
DTEND;TZID=Europe/Madrid:20190401T213000
DTSTAMP:20260424T011352
CREATED:20190328T130240Z
LAST-MODIFIED:20190329T114429Z
UID:46511-1554147000-1554154200@historico.ateneovalencia.es
SUMMARY:La Federación de Peñas Taurinas organiza un coloquio político previo a las próximas Elecciones
DESCRIPTION:La Federación de Peñas Taurinas de Bous al Carrer de la Comunidad Valenciana\, organiza un coloquio político-taurino que se celebrará este lunes 1 de abril en el Salón Stolz del Ateneo Mercantil\, en vísperas a las próximas Elecciones Nacionales\, Autonómicas y Municipales y contará con los principales fuerzas políticas de nuestra ciudad y comunidad autónoma: PSPV\, PPCV\, Compromís\, Ciudadanos\, Som Valencians y VOX. \nEl objetivo del colectivo taurino ya no es dar a conocer a la sociedad quienes son\, lo que representan o como actúan; toda la sociedad valenciana conoce ya su trayectoria. Su objetivo en la próxima legislatura y con la ayuda de la nueva Administración es\, la de consolidar la “Cultura del Bou” que vertebra de norte a sur la Comunidad Valenciana. Para ello y con el objetivo de dar a conocer de primera mano a todo el colectivo taurino\, las ideas y apuestas de futuro respecto a Tauromaquia\, de todos los partidos políticos de la Comunitat Valenciana han convocado una Mesa de Debate político-taurina que será moderada por el periodista taurino D. José Luis Benlloch y que contará con los siguientes partipantes: \n\nJorge Bellver del PPCV\nManuel Mata del PSPV\nXavi Trenco de Compromís\nMamen Peris de Ciudadanos\nVicente Barrera de VOX\nJaume Hurtado de Som Valencians\n\nCartel:
URL:https://historico.ateneovalencia.es/evento/la-federacion-de-penas-taurinas-organiza-un-coloquio-politico-previo-a-las-proximas-elecciones/
LOCATION:Salón Stolz - Ateneo Mercantil de Valencia\, Plaza del Ayuntamiento\, 18\, Valencia\, España\, Valencia\, Valencia\, 46002\, España
CATEGORIES:Tertulia Taurina
ATTACH;FMTTYPE=image/jpeg:https://historico.ateneovalencia.es/wp-content/uploads/2019/03/20190401-Tertulia-Taurina-Debate-Politico-Taurino.jpg
END:VEVENT
BEGIN:VEVENT
DTSTART;TZID=Europe/Madrid:20190404T190000
DTEND;TZID=Europe/Madrid:20190404T210000
DTSTAMP:20260424T011352
CREATED:20190404T075934Z
LAST-MODIFIED:20190404T075934Z
UID:46575-1554404400-1554411600@historico.ateneovalencia.es
SUMMARY:Tertulia Taurina: Corrida del Duque de Veragua para Camará\, Nacional y Dominguín
DESCRIPTION:Este jueves 4 de abril regresa la Tertulia Taurina al séptimo piso del Ateneo Mercantil y lo hace de nuevo rescatando pasajes de la historia del toreo\, con temas de actualidad de la Feria de Castellón y con las últimas informaciones sobre el viaje donde primará la naturaleza y el descanso de este próximo domingo y lunes a Albacete. Por eso\, los responsables de la Tertulia Taurina agradecerán la asistencia de todos los viajeros que componen el viaje\, ya que entregará toda la información del mismo y se comentarán las últimas novedades de un viaje alque se le ha puesto mucho cariño. \nA continuación llegará la historia del toreo con el ponente habitual\, D. Salvador Chapa\, quien intervendrá con un bello pasaje: "La Corrida del 18 de mayo de 1919\, con las reses del Duque de Veragua\, para Camará\, Nacional y Dominguín\, que fue destacada por aquel gran toro que fue "Molinero"\, un toro cornigacho. Además\, se trarán diversos temas de actualidad hasta finalizar la Tertulia. \nSe hará un recordatorio a la compañera de la Tertulia Taurina\, Dª. Lina Herranz\, que falleció y recibió sepultura el pasado lunes entre familiares y amigos taurinos ateneístas; se hará un resumen de lo que ha sido la Feria de la Magdalena en Castellón de la Plana y por último se tratará el estudio de la Suerte de Varas\, el premio Zumel y comentarios al libro "Comportamiento y aprendizaje del Toro de Lidia". \nCartel:
URL:https://historico.ateneovalencia.es/evento/tertulia-taurina-corrida-del-duque-de-veragua-para-camara-nacional-y-dominguin/
LOCATION:Sala Multiusos - Tertulia Taurina
CATEGORIES:Tertulia Taurina
ATTACH;FMTTYPE=image/jpeg:https://historico.ateneovalencia.es/wp-content/uploads/2019/04/20190404-Tertulia-Taurina-18-Mayo-1919-Camara-Dominguin.jpg
END:VEVENT
BEGIN:VEVENT
DTSTART;TZID=Europe/Madrid:20190407T090000
DTEND;TZID=Europe/Madrid:20190408T203000
DTSTAMP:20260424T011352
CREATED:20190118T160948Z
LAST-MODIFIED:20190130T133104Z
UID:41880-1554627600-1554755400@historico.ateneovalencia.es
SUMMARY:Viaje-Hotel-SPA 'Baños de Benito'\, para los amantes de la naturaleza y aficionados taurinos
DESCRIPTION:La Tertulia Taurina del Ateneo Mercantil de Valencia ha preparado para todos los socios ateneístas que les guste la naturaleza y sean aficionados taurinos un viaje organizado por Viajes Transvía de dos días a Albacete para visitar la ganadería de 'Los Chospes'\, pero el viaje tiene muchas más actividades como puede ser disfrutar de un gran complejo hotelero de 4 estrellas y una sesión de SPA gratuita en el Balnerario Baños de Benito. \n \nAsí lo días 7 y 8  de Abril de 2019 se visitarán las ganaderías de toros bravos 'Los Chospes'\, con una visita completa a la finca\, con tienta y comida a las puertas de la misma. Además\, se realizará visita externa\, si el tiempo NO lo impide\, a la ganadería de 'Daniel Ruíz'. \nSalida de Valencia a las 9 de la mañana del Domingo día 7 y vuelta a Valencia sobre las 20 horas del Lunes día 8. El viaje incluye: \n\nIda y vuelta con Autobús\nComida\, cena y alojamiento en Hotel de 4 estrellas del complejo “Baños de Benito” en habitaciones dobles el día 7 y desayuno del día siguiente.\nEl Domingo por la tarde llevaremos a cabo en el Hotel proyecciones taurinas y una tertulia extraordinaria. Las personas que lo deseen pueden hacer uso de las instalaciones del balneario con un circuito de 90 minutos aproximadamente totalmente gratuito\, por deferencia del Hotel (deben llevar bañador propio). Suplemento para habitación individual sujeto a disponibilidad 20 euros.\nEl Lunes día 8 por la mañana después del desayuno traslado a la ganadería Los Chospes\, realizando la visita completa a la misma con tienta incluida y al finalizar pasaremos al restaurante cerca de la ganadería para comer\, finalizada la comida en autobús regresaremos a Valencia.\n\nPrecio del viaje para un mínimo de 40 personas 195 euros. \nCartel:
URL:https://historico.ateneovalencia.es/evento/viaje-hotel-spa-banos-de-benito-para-los-amantes-de-la-naturaleza-y-aficionados-taurinos/
LOCATION:Externo\, Valencia
CATEGORIES:Tertulia Taurina
ATTACH;FMTTYPE=image/jpeg:https://historico.ateneovalencia.es/wp-content/uploads/2019/01/20190407-Viaje-a-Ganaderia-Chospes.jpg
END:VEVENT
BEGIN:VEVENT
DTSTART;TZID=Europe/Madrid:20190411T190000
DTEND;TZID=Europe/Madrid:20190411T210000
DTSTAMP:20260424T011352
CREATED:20190409T133658Z
LAST-MODIFIED:20190409T173921Z
UID:46688-1555009200-1555016400@historico.ateneovalencia.es
SUMMARY:Tertulia Taurina: Homenaje a Lina Herranz y Viaje a la Ganadería 'Los Chospes'
DESCRIPTION:La Tertulia Taurina del Ateneo Mercantil de Valencia regresa este jueves a las 19 horas en el séptimo piso de nuestra casa con una Tertulia Homenaje a la compañera Dª. Lina Herranz. La primera hora estará dedicada a la memoria de la tertuliana taurina\, mientras que en la segunda hora se hará un resumen del viaje del pasado domingo 7 y el lunes 8 de abril a Albacete con los comentarios de los tertulianos que estuvieron y se escogerá nueva fecha para completarlo\, ya que debido a la lluvia que cayó en la ganaderia "Los Chospes" no se pudo completar el recorrido\, así que tendrán la ocasión de participar en ese segundo viaje los que sí que viajaron y los que por algún motivo no pudieron asistir. Además\, se hablará  de las próximas Ferias de Sevilla y la de Madrid. \nCartel:
URL:https://historico.ateneovalencia.es/evento/homenaje-lina-herranz/
LOCATION:Sala Multiusos - Tertulia Taurina
CATEGORIES:Tertulia Taurina
ATTACH;FMTTYPE=image/jpeg:https://historico.ateneovalencia.es/wp-content/uploads/2019/04/20190411-Tertulia-Taurina-Homenaje-Lina.jpg
END:VEVENT
END:VCALENDAR