BEGIN:VCALENDAR
VERSION:2.0
PRODID:-//Ateneo Mercantil de Valencia - ECPv6.0.4//NONSGML v1.0//EN
CALSCALE:GREGORIAN
METHOD:PUBLISH
X-WR-CALNAME:Ateneo Mercantil de Valencia
X-ORIGINAL-URL:https://historico.ateneovalencia.es
X-WR-CALDESC:Eventos para Ateneo Mercantil de Valencia
REFRESH-INTERVAL;VALUE=DURATION:PT1H
X-Robots-Tag:noindex
X-PUBLISHED-TTL:PT1H
BEGIN:VTIMEZONE
TZID:Europe/Madrid
BEGIN:DAYLIGHT
TZOFFSETFROM:+0100
TZOFFSETTO:+0200
TZNAME:CEST
DTSTART:20190331T010000
END:DAYLIGHT
BEGIN:STANDARD
TZOFFSETFROM:+0200
TZOFFSETTO:+0100
TZNAME:CET
DTSTART:20191027T010000
END:STANDARD
END:VTIMEZONE
BEGIN:VEVENT
DTSTART;TZID=Europe/Madrid:20190110T190000
DTEND;TZID=Europe/Madrid:20190110T210000
DTSTAMP:20260423T145223
CREATED:20190107T125623Z
LAST-MODIFIED:20190111T141245Z
UID:41237-1547146800-1547154000@historico.ateneovalencia.es
SUMMARY:Tertulia Taurina dedicada a D. Salvador Boix
DESCRIPTION:El próximo jueves 10 de enero a las 19.00 horas en la séptima planta\, se le rendirá un pequeño homenaje a un distinguido seguidor y el que fuera primer moderador de la Terulia Taurina del Ateneo\, D. Salvador Boix. La Tertulia Taurina de ese jueves será dedicada al distinguido miembro de la tertulia taurina ateneísta\, moderador y alma máter de la misma\, ya que desde sus inicios estuvo presente. \nD. Salvador Boix recibió ya un homaneje de la Tertulia Taurina hace unos años en el Restaurante del Ateneo Mercantil\, pero en esta ocasión se hablará durante toda la reunión de su figura y de todo lo que representó para este grupo de socios que se reúnen todos los jueves del año. En el Ateneo Mercantil\, D. Salvador dejó una huella imborrable por su calidad humana y por la pasión que sentía hacia la tauromaquia. En la tarde del 24 de diciembre falleció a los 90 años. Se marchó un gran aficionado de los toros. \nCartel:
URL:https://historico.ateneovalencia.es/evento/tertulia-taurina-tertulia-dedicada-a-d-salvador-boix/
LOCATION:Sala Multiusos - Tertulia Taurina
CATEGORIES:Tertulia Taurina
ATTACH;FMTTYPE=image/jpeg:https://historico.ateneovalencia.es/wp-content/uploads/2019/01/20190110-Tertulia-Taurina-Salvador-Boix.jpg
END:VEVENT
BEGIN:VEVENT
DTSTART;TZID=Europe/Madrid:20190117T190000
DTEND;TZID=Europe/Madrid:20190117T210000
DTSTAMP:20260423T145223
CREATED:20190115T125952Z
LAST-MODIFIED:20190115T125952Z
UID:41810-1547751600-1547758800@historico.ateneovalencia.es
SUMMARY:Tertulia Taurina: "La Feria de 1919: Toros del Duque de Veragua"
DESCRIPTION:El próximo jueves día 17 de enero regresa la Tertulia Taurina con las reuniones habituales en el séptimo piso y a las 19.00 horas. El inicio de la reunión será momento de nuevo para D. Salvador Chapa\, quién traerá la mejor historia de las Ferias en la plaza de toros de Valencia y por eso rescatará el comienzo del año 1919\, con aquella corrida del domingo 9 de Marzo de 1919\, en la que se lidiaron toros del Duque de Veragua\, para Carnicerito\, Paco Baró y de 'Chicuelo'\, quien debutaba en la plaza valenciana. Por otra parte\, el tema del día lo desarrollará D. Vicente Iborra con: "Anécdotas y curiosidades taurinas". \nCartel:
URL:https://historico.ateneovalencia.es/evento/tertulia-taurina-la-feria-de-1919-toros-del-duque-de-veragua/
LOCATION:Sala Multiusos - Tertulia Taurina
CATEGORIES:Tertulia Taurina
ATTACH;FMTTYPE=image/jpeg:https://historico.ateneovalencia.es/wp-content/uploads/2019/01/20190117-Tertulia-Taurina-Feria-1919.jpg
END:VEVENT
BEGIN:VEVENT
DTSTART;TZID=Europe/Madrid:20190124T190000
DTEND;TZID=Europe/Madrid:20190124T210000
DTSTAMP:20260423T145223
CREATED:20190123T085440Z
LAST-MODIFIED:20190123T120350Z
UID:41962-1548356400-1548363600@historico.ateneovalencia.es
SUMMARY:Tertulia Taurina: "Una novillada de Angoso para Chicuelo\, que fue el héroe\, Mendez y Facultades"
DESCRIPTION:Este próximo jueves 24 de enero se celebra un nuevo encuentro de la Tertulia Taurina en la que que Salvador Chapa continuará con la historia del torero y de la Feria de 1919 y lo hace con la ponencia que lleva el título: "Una novillada de Angoso para Chicuelo\, que fue el héroe\, Mendez y Facultades". Además\, Nicasio Jiménez acercará el tema del día y hablará sobre la composición y la complicada elaboración  del "Cartel Taurino". \nCartel:\n \n 
URL:https://historico.ateneovalencia.es/evento/tertulia-taurina-una-novillada-de-angoso-para-chicuelo-que-fue-el-heroe-mendez-y-facultades/
LOCATION:Sala Multiusos - Tertulia Taurina
CATEGORIES:Tertulia Taurina
ATTACH;FMTTYPE=image/jpeg:https://historico.ateneovalencia.es/wp-content/uploads/2019/01/20190124-Tertulia-Taurina-Novillada-Chicuelo.jpg
END:VEVENT
BEGIN:VEVENT
DTSTART;TZID=Europe/Madrid:20190131T190000
DTEND;TZID=Europe/Madrid:20190131T210000
DTSTAMP:20260423T145223
CREATED:20190130T171155Z
LAST-MODIFIED:20190130T171528Z
UID:42260-1548961200-1548968400@historico.ateneovalencia.es
SUMMARY:Feria de 1919: Mano a mano entre Gallito y Belmonte con toros de Concha y Sierra
DESCRIPTION:La Tertulia Taurina dará comienzo como cada jueves a las 19 horas en el séptimo piso del Ateneo Mercantil. Una nueva cita con la historia del toreo que traer Salvador Chapa\, esta vez con la Feria de 1919\, conmemorando el centenario de las corridas de toros en el coso valenciano\, que destacar el Mano a Mano que tuvieron Gallito y Belmonte con toros de Concha y Sierra. Valencia fue clave durante toda la trayectoria profesional de Juan Belmonte. Desde aquellas tres célebres novilladas económicas de mayo y junio de 1912\, que lo encumbraron al primer puesto de los novilleros\, hasta su último festejo de 1934\, Valencia estuvo presente en sus tardes más triunfales. Regresó a los ruedos en 1919 después de un año sin torear\, fueron 22 corridas hasta 1921). En todas sus actuaciones\, con sus éxitos y sus fracasos\, fue fiel a su toreo\, con su forma de torear con el capote\, sus faenas de muleta y sus maneras en la plaza. \nSu estilo revolucionario fue un eslabón imprescindible en la evolución del toreo\, desde esa tauromaquia entendida en los primeros años de su carrera como una lucha cuerpo a cuerpo con el toro hasta alcanzar un alto grado de desarrollo artístico en los últimos años de su carrera. A principios de 1919 había grandes deseos deverle torear\, después de haber permanecido un año alejado de los ruedos. Esta temporada ajustó en Valencia nueve corridas\, cinco de ellas de Feria. La esperada reaparición se produjo el 23 de marzo en un mano a mano con Gallito y con un encierro de Concha y Sierra. \nAdemás\, la Tertulia finalizará con el tema del día 'La Tauromaquia en la Provence' en Francia que recoge Antonio Crespo. Los "biòus" (toros) ocupan un lugar en el corazón y en la cabeza de los habitantes de estas tierras. El toro de la Camarga y las tradiciones que le rodean constituyen el signo identitario de PROVENCE PAYS D’ARLES. \nCartel:
URL:https://historico.ateneovalencia.es/evento/feria-de-1919-mano-a-mano-entre-gallito-y-belmonte-con-toros-de-concha-y-sierra/
LOCATION:Sala Multiusos - Tertulia Taurina
CATEGORIES:Tertulia Taurina
ATTACH;FMTTYPE=image/jpeg:https://historico.ateneovalencia.es/wp-content/uploads/2019/01/20190131-Tertulia-Taurina-Gallito-y-Belmonte.jpg
END:VEVENT
END:VCALENDAR