BEGIN:VCALENDAR
VERSION:2.0
PRODID:-//Ateneo Mercantil de Valencia - ECPv6.0.4//NONSGML v1.0//EN
CALSCALE:GREGORIAN
METHOD:PUBLISH
X-WR-CALNAME:Ateneo Mercantil de Valencia
X-ORIGINAL-URL:https://historico.ateneovalencia.es
X-WR-CALDESC:Eventos para Ateneo Mercantil de Valencia
REFRESH-INTERVAL;VALUE=DURATION:PT1H
X-Robots-Tag:noindex
X-PUBLISHED-TTL:PT1H
BEGIN:VTIMEZONE
TZID:Europe/Madrid
BEGIN:DAYLIGHT
TZOFFSETFROM:+0100
TZOFFSETTO:+0200
TZNAME:CEST
DTSTART:20170326T010000
END:DAYLIGHT
BEGIN:STANDARD
TZOFFSETFROM:+0200
TZOFFSETTO:+0100
TZNAME:CET
DTSTART:20171029T010000
END:STANDARD
END:VTIMEZONE
BEGIN:VEVENT
DTSTART;TZID=Europe/Madrid:20171214T190000
DTEND;TZID=Europe/Madrid:20171214T190000
DTSTAMP:20260422T234844
CREATED:20171120T100816Z
LAST-MODIFIED:20171120T103710Z
UID:27647-1513278000-1513278000@historico.ateneovalencia.es
SUMMARY:Conferencia "La Escuela Taurina de Valencia 2017"
DESCRIPTION:Conferencia que se desarrollará el próximo 14 de diciembre\, a las 19:00 h.\, en el Salón Sorolla del Ateneo\, para mostrar la labor de la Escuela Taurina de Valencia 2017. Los ponentes serán D. Antonio Gazquez\, Director del Centro de Asuntos Taurinos de la Diputación de Valencia\, D. Juan Carlos Vera y D. Víctor Manuel Blazquez\, profesores de la Escuela Taurina\, D. Carlos Bueno\, periodista taurino y alumnos de la Escuela de Tauromaquia de Valencia.
URL:https://historico.ateneovalencia.es/evento/conferencia-la-escuela-taurina-de-valencia-2017/
LOCATION:Salón Sorolla - Ateneo Mercantil de Valencia\, Plaza del Ayuntamiento 18\, Valencia\, Valencia\, 46002\, España
CATEGORIES:Tertulia Taurina
ATTACH;FMTTYPE=image/jpeg:https://historico.ateneovalencia.es/wp-content/uploads/2017/11/20171214-Tertulia-Taurina-Escuela-Tauromaquia-Valencia-2017.jpg
END:VEVENT
END:VCALENDAR