BEGIN:VCALENDAR
VERSION:2.0
PRODID:-//Ateneo Mercantil de Valencia - ECPv6.0.4//NONSGML v1.0//EN
CALSCALE:GREGORIAN
METHOD:PUBLISH
X-WR-CALNAME:Ateneo Mercantil de Valencia
X-ORIGINAL-URL:https://historico.ateneovalencia.es
X-WR-CALDESC:Eventos para Ateneo Mercantil de Valencia
REFRESH-INTERVAL;VALUE=DURATION:PT1H
X-Robots-Tag:noindex
X-PUBLISHED-TTL:PT1H
BEGIN:VTIMEZONE
TZID:Europe/Madrid
BEGIN:DAYLIGHT
TZOFFSETFROM:+0100
TZOFFSETTO:+0200
TZNAME:CEST
DTSTART:20170326T010000
END:DAYLIGHT
BEGIN:STANDARD
TZOFFSETFROM:+0200
TZOFFSETTO:+0100
TZNAME:CET
DTSTART:20171029T010000
END:STANDARD
END:VTIMEZONE
BEGIN:VEVENT
DTSTART;TZID=Europe/Madrid:20171005T190000
DTEND;TZID=Europe/Madrid:20171005T210000
DTSTAMP:20260422T002124
CREATED:20171004T095205Z
LAST-MODIFIED:20171004T095205Z
UID:26398-1507230000-1507237200@historico.ateneovalencia.es
SUMMARY:Tertulia Taurina: "Damaso González y Gregorio Sánchez"
DESCRIPTION:La Tertulia Taurina del Ateneo Mercantil arranca la temporada 2017-18 con una mesa redonda en la que se hablará de dos grandes maestros como son Damaso González y Gregorio Sánchez. Dos grandes maestros de la Tauromaquia fallecidos recientemente. Intervendrán todos los tertulianos asistentes que deseen hacer algún comentario sobre los mismos y moderan el debate\, D. Salvador Boix y D. Francisco Ferri. Intervendrá en primer lugar D. Francisco Cervera. \nEl diestro Dámaso González falleció en la madrugada del pasado 26 de agosto en el Hospital Quirón de Pozuelo de Alarcón (Madrid) a la edad de 68 años. Una fulminante enfermedad acabó con la vida de una de las figuras más relevantes del toreo en la década de los 70\, a quien la crítica bautizó como "el rey del temple". Retirado desde el año 2003 y entregado a su familia y a sus negocios\, el maestro fue un referente para las nuevas generaciones de toreros\, muchos de ellos asiduos a su finca Los Prados\, en su Albacete natal. \nPor su parte\, el matador de toros toledano Gregorio Sánchez (1927-2017) falleció a los 90 años en su domicilio por causas naturales. Murió en su casa de Galicia. La plaza de la madrileña calle de Alcalá fue la que más gloria le dio allá por los años 50 y 60\, donde se erigió en figura del toreo gracias a las nueve puertas grandes de Madrid que logró en su carrera\, más una décima como novillero. Siempre se le recordará por despachar en apenas 80 minutos seis toros en solitario\, de la ganadería de Barcial\, a los que\, además\, cortó un total de siete orejas.
URL:https://historico.ateneovalencia.es/evento/tertulia-taurina-damaso-gonzalez-y-gregorio-sanchez/
LOCATION:Sala Fundación - Ateneo Mercantil de Valencia\, Plaza del Ayuntamiento\, 18\, Valencia\, España\, Valencia\, Valencia\, 46002\, España
CATEGORIES:Tertulia Taurina
ATTACH;FMTTYPE=image/jpeg:https://historico.ateneovalencia.es/wp-content/uploads/2017/10/20171005-Damaso-González-Tertulia-Taurina.jpg
END:VEVENT
BEGIN:VEVENT
DTSTART;TZID=Europe/Madrid:20171019T190000
DTEND;TZID=Europe/Madrid:20171019T210000
DTSTAMP:20260422T002124
CREATED:20171016T143645Z
LAST-MODIFIED:20171017T073433Z
UID:26820-1508439600-1508446800@historico.ateneovalencia.es
SUMMARY:Tertulia Taurina: 40 años de "Aplausos" - 'Década de los 70'
DESCRIPTION:Con motivo de sus 40 años de vida\, la revista taurina 'Aplausos' preparó un número especial que repasa sus cuatro décadas de vida. Un libro conmemorativo en el que se rememora la historia de la publicación y del toreo contada por sus protagonistas. Rescatan portadas\, viñetas\, las mejores fotos de Arjona\, curiosidades\, analizan la evolución del arte del toreo\, del toro\, del mundo empresarial\, la Fiesta en cada uno de los países taurinos… y para ello cuentan con las mejores firmas y con la colaboración especial del pintor Fernando Botero\, que ilustra la portada de un libro tan significativo. \nEsta Tertulia será la primera de cinco que componen el Monográfico sobre la publicación de 'Aplausos' con motivo de su 40 aniversario. Intervedrá Paco Roger. La revista 'Aplausos' es quizás el medio de comunicación\, que siendo valenciano\, más repercusión tiene en todo el mundo taurino y en la Tertulia Taurina del Ateneo han creído conveniente dedicarle este monográfico desarrollado en dos partes\, una primera sobre los Medios de Comunicación Taurinos y una segunda parte sobre Los Personajes Populares del momento. En la primera sesión se analizarán los primeros números de los años 70\, mientras que en las cuatro tertulias posteriores se dedicará una a cada década de esta magnifica publicación ya que el "libro" recopilatorio lo merece.
URL:https://historico.ateneovalencia.es/evento/tertulia-taurina-40-anos-de-aplausos-decada-de-los-70/
LOCATION:Sala Fundación - Ateneo Mercantil de Valencia\, Plaza del Ayuntamiento\, 18\, Valencia\, España\, Valencia\, Valencia\, 46002\, España
CATEGORIES:Tertulia Taurina
ATTACH;FMTTYPE=image/jpeg:https://historico.ateneovalencia.es/wp-content/uploads/2017/10/20171019-Tertulia-Taurina-Aplausos-40-Años-I.jpg
END:VEVENT
BEGIN:VEVENT
DTSTART;TZID=Europe/Madrid:20171026T190000
DTEND;TZID=Europe/Madrid:20171026T210000
DTSTAMP:20260422T002124
CREATED:20171023T093626Z
LAST-MODIFIED:20171023T093626Z
UID:26953-1509044400-1509051600@historico.ateneovalencia.es
SUMMARY:Tertulia Taurina: 'Aplausos' en la Década 1980-90 (II)
DESCRIPTION:Segunda sesión del Ciclo 'Aplausos' de la Tertulia Taurina del Ateneo Mercantil de Valencia. La revista cumple 40 años y los componentes de la tertulia taurina están homenajeando a la publicación. Tras una primera sesión e la que se habló de los inicios de la revista\, ahora se hablará de la siguiente década. Un coloquio que será desarrollado por D. Juan Coca y en el que se hablará sobre el contexto histórico de la década y sobre las figuras más relevantes del toreo en esos años. Recuerda que es la asistencia es gratuita y que será en la Sala Multiusos a las 19.00 horas.
URL:https://historico.ateneovalencia.es/evento/tertulia-taurina-aplausos-en-la-decada-1980-90-ii/
LOCATION:Sala Fundación - Ateneo Mercantil de Valencia\, Plaza del Ayuntamiento\, 18\, Valencia\, España\, Valencia\, Valencia\, 46002\, España
CATEGORIES:Tertulia Taurina
ATTACH;FMTTYPE=image/jpeg:https://historico.ateneovalencia.es/wp-content/uploads/2017/10/20171026-Aplausos-II.jpg
END:VEVENT
END:VCALENDAR