BEGIN:VCALENDAR
VERSION:2.0
PRODID:-//Ateneo Mercantil de Valencia - ECPv6.0.4//NONSGML v1.0//EN
CALSCALE:GREGORIAN
METHOD:PUBLISH
X-WR-CALNAME:Ateneo Mercantil de Valencia
X-ORIGINAL-URL:https://historico.ateneovalencia.es
X-WR-CALDESC:Eventos para Ateneo Mercantil de Valencia
REFRESH-INTERVAL;VALUE=DURATION:PT1H
X-Robots-Tag:noindex
X-PUBLISHED-TTL:PT1H
BEGIN:VTIMEZONE
TZID:Europe/Madrid
BEGIN:DAYLIGHT
TZOFFSETFROM:+0100
TZOFFSETTO:+0200
TZNAME:CEST
DTSTART:20160327T010000
END:DAYLIGHT
BEGIN:STANDARD
TZOFFSETFROM:+0200
TZOFFSETTO:+0100
TZNAME:CET
DTSTART:20161030T010000
END:STANDARD
END:VTIMEZONE
BEGIN:VEVENT
DTSTART;TZID=Europe/Madrid:20160714T220000
DTEND;TZID=Europe/Madrid:20160714T233000
DTSTAMP:20260421T234643
CREATED:20160714T180031Z
LAST-MODIFIED:20170406T114614Z
UID:11637-1468533600-1468539000@historico.ateneovalencia.es
SUMMARY:Aula las Provincias: López Simón\, Román y Roca Rey debaten sobre la Feria de Julio
DESCRIPTION:Este próximo jueves 14 de julio\, el Aula de Las Provincias regresa al Ateneo Mercantil de Valencia con tres de las grandes sensaciones del toreo en el último año: López Simón\, Román y Roca Rey\, que debatirán sobre la Tauromaquia en vísperas de la Feria de Julio. Una mesa redonda con la que se quiere dar visibilidad y voz a los máximos representantes de la nueva generación de toreros. \nEl mundo del toro pedía a gritos una nueva generación de toreros y éste se ha encontrado con una generación especialmente brillante que ha logrado romper barreras. Con ellos tres se viven momentos de renovada ilusión. El futuro pasa por la renovación y ellos han promovido la competencia. Son tres personalidades muy distintas que transmitirán su forma de entender el toreo pero con un punto de encuentro común\, el valor.
URL:https://historico.ateneovalencia.es/evento/aula-las-provincias-lopez-simon-roman-y-roca-rey-debaten-sobre-la-feria-de-julio/
LOCATION:Teatro Ateneo
CATEGORIES:Aula Las Provincias,Tertulia Taurina
ATTACH;FMTTYPE=image/jpeg:https://historico.ateneovalencia.es/wp-content/uploads/2016/07/20160714-Nuevos_Toreros_Ateneo.jpg
END:VEVENT
END:VCALENDAR