BEGIN:VCALENDAR
VERSION:2.0
PRODID:-//Ateneo Mercantil de Valencia - ECPv6.0.4//NONSGML v1.0//EN
CALSCALE:GREGORIAN
METHOD:PUBLISH
X-WR-CALNAME:Ateneo Mercantil de Valencia
X-ORIGINAL-URL:https://historico.ateneovalencia.es
X-WR-CALDESC:Eventos para Ateneo Mercantil de Valencia
REFRESH-INTERVAL;VALUE=DURATION:PT1H
X-Robots-Tag:noindex
X-PUBLISHED-TTL:PT1H
BEGIN:VTIMEZONE
TZID:Europe/Madrid
BEGIN:DAYLIGHT
TZOFFSETFROM:+0100
TZOFFSETTO:+0200
TZNAME:CEST
DTSTART:20210328T010000
END:DAYLIGHT
BEGIN:STANDARD
TZOFFSETFROM:+0200
TZOFFSETTO:+0100
TZNAME:CET
DTSTART:20211031T010000
END:STANDARD
END:VTIMEZONE
BEGIN:VEVENT
DTSTART;TZID=Europe/Madrid:20210514T190000
DTEND;TZID=Europe/Madrid:20210514T203000
DTSTAMP:20260424T120740
CREATED:20201210T175258Z
LAST-MODIFIED:20210208T103430Z
UID:61308-1621018800-1621024200@historico.ateneovalencia.es
SUMMARY:“500 aniversario de la Germanía: una revuelta fallida”
DESCRIPTION:El próximo viernes 14 de mayo a las 19 horas se celebrará un acto muy especial en el Salón Stolz\, ya que a la conferencia sobre el "500 aniversario de la Germanía: una revuelta fallida" se le añadirá un desfile de trajes de la época gracias a la colaboración de las asociaciones A.C. Urrea y A.C. Terci de València. El ponente de la conferencia será el licenciado en Historia\, gestor cultural y animador socio-cultural\, D. Manuel Rochina Tárrega. \nEnlace para la conferencia On line: https://zoom.us/j/91663751819\nEn la España del Siglo XVI\, la Germanía fue una revuelta que recibe el nombre por la palabra “germá”\, que en valenciano significa hermano. El nombre se aplicó a los "hermanados" que lucharon en esta revuelta social que se desarrolló en el Reino de Valencia. \nLas causas que provocaron esta revuelta fueron de índole estrictamente social. Fue un enfrentamiento contra la nobleza por parte del pueblo llano. El pueblo estaba armado al haberles permitido Fernando el Católico crear milicias para luchar contra los piratas berberiscos que atacaban las costas del Levante peninsular. \nCartel:\n \n 
URL:https://historico.ateneovalencia.es/evento/500-aniversario-de-la-germania-una-revuelta-fallida/
LOCATION:Salón Stolz - Ateneo Mercantil de Valencia\, Plaza del Ayuntamiento\, 18\, Valencia\, España\, Valencia\, Valencia\, 46002\, España
CATEGORIES:Tertulia Histórica
ATTACH;FMTTYPE=image/jpeg:https://historico.ateneovalencia.es/wp-content/uploads/2020/12/20210129-Tertulia-Historica-Germania.jpg
END:VEVENT
END:VCALENDAR