BEGIN:VCALENDAR
VERSION:2.0
PRODID:-//Ateneo Mercantil de Valencia - ECPv6.0.4//NONSGML v1.0//EN
CALSCALE:GREGORIAN
METHOD:PUBLISH
X-WR-CALNAME:Ateneo Mercantil de Valencia
X-ORIGINAL-URL:https://historico.ateneovalencia.es
X-WR-CALDESC:Eventos para Ateneo Mercantil de Valencia
REFRESH-INTERVAL;VALUE=DURATION:PT1H
X-Robots-Tag:noindex
X-PUBLISHED-TTL:PT1H
BEGIN:VTIMEZONE
TZID:Europe/Madrid
BEGIN:DAYLIGHT
TZOFFSETFROM:+0100
TZOFFSETTO:+0200
TZNAME:CEST
DTSTART:20190331T010000
END:DAYLIGHT
BEGIN:STANDARD
TZOFFSETFROM:+0200
TZOFFSETTO:+0100
TZNAME:CET
DTSTART:20191027T010000
END:STANDARD
END:VTIMEZONE
BEGIN:VEVENT
DTSTART;TZID=Europe/Madrid:20191202T190000
DTEND;TZID=Europe/Madrid:20191202T210000
DTSTAMP:20260423T005301
CREATED:20191106T130028Z
LAST-MODIFIED:20191107T130301Z
UID:53796-1575313200-1575320400@historico.ateneovalencia.es
SUMMARY:Ciclo Tertulias: "Doña Urraca. Una reina feminista a comienzos del s. XII"
DESCRIPTION:Doña Urraca de León fue hija de Alfonso VI y resultó una monarca con talento y mucho carácter\, siempre trataron de derribarla por su condición de mujer\, pero 'La Temeraria'\, como se le conoce\, pudo con todo y con todos. Ella sí pudo ejercer como reina en la Edad Media\, ella sí tuvo plena autoridad real. En la Edad Media existía un absoluto predominio masculino\, las mujeres tenían la vitola de la debilidad y de la dependencia del hombre\, por eso llamó la atención la enorme habilidad\, el carácter y la determinación de Doña Urraca\, tras la muerte de su padre\, Alfonso VI\, que sin descendencia masculina\, le reconoció todos sus derechos al trono. \nEl próximo lunes 2 de diciembre regresa el Ciclo Tertulias\, el 'heredero' del Ciclo de Tertulia Histórica y trae a primer plano la figura de Doña Urraca\, la indomable Reina de León. La conferencia será en el Salón Sorolla a las 19 horas y la ponente será la socia y habitual de la Tertulia Histórica\, Dª. María Victoria Rodríguez. \nCartel:
URL:https://historico.ateneovalencia.es/evento/ciclo-tertulias-dona-urraca-la-indomable-reina-de-leon/
LOCATION:Salón Sorolla - Ateneo Mercantil de Valencia\, Plaza del Ayuntamiento 18\, Valencia\, Valencia\, 46002\, España
CATEGORIES:Tertulia Histórica
ATTACH;FMTTYPE=image/jpeg:https://historico.ateneovalencia.es/wp-content/uploads/2019/11/20191202-Tertulia-Historica-Doña-Urraca.jpg
END:VEVENT
END:VCALENDAR