BEGIN:VCALENDAR
VERSION:2.0
PRODID:-//Ateneo Mercantil de Valencia - ECPv6.0.4//NONSGML v1.0//EN
CALSCALE:GREGORIAN
METHOD:PUBLISH
X-WR-CALNAME:Ateneo Mercantil de Valencia
X-ORIGINAL-URL:https://historico.ateneovalencia.es
X-WR-CALDESC:Eventos para Ateneo Mercantil de Valencia
REFRESH-INTERVAL;VALUE=DURATION:PT1H
X-Robots-Tag:noindex
X-PUBLISHED-TTL:PT1H
BEGIN:VTIMEZONE
TZID:Europe/Madrid
BEGIN:DAYLIGHT
TZOFFSETFROM:+0100
TZOFFSETTO:+0200
TZNAME:CEST
DTSTART:20190331T010000
END:DAYLIGHT
BEGIN:STANDARD
TZOFFSETFROM:+0200
TZOFFSETTO:+0100
TZNAME:CET
DTSTART:20191027T010000
END:STANDARD
END:VTIMEZONE
BEGIN:VEVENT
DTSTART;TZID=Europe/Madrid:20190304T190000
DTEND;TZID=Europe/Madrid:20190304T203000
DTSTAMP:20260423T021041
CREATED:20190207T190729Z
LAST-MODIFIED:20190208T103648Z
UID:42511-1551726000-1551731400@historico.ateneovalencia.es
SUMMARY:"Como poner los puntos sobre las "ies" para evitar la manipulación del lenguaje"
DESCRIPTION:La próxima cita con la Tertulia Histórica será este lunes 4 de marzo a las 19 horas en el Salón Sorolla\, con una interesante conferencia que llega bajo el recurrente título: "Como poner los puntos sobre las "ies" para evitar la manipulación del lenguaje" y que impartirá el economista\, pensador creativo y socio del Ateneo Mercantil\, D. Eduardo Climent. Una conferencia que tratará sobre la manipulación\, sobre el carácter maleable del lenguaje y de las palabras y se responderán a muchas de las preguntas que se haga el público: ¿Qué es manipular?\, ¿quién manipula?\, ¿para qué y cómo se manipula? y se tratará de ofrecer una visión conjunta de las consecuencias de la manipulación para que nadie se deje manejar como una marioneta en manos de otros. \nCartel:
URL:https://historico.ateneovalencia.es/evento/como-poner-los-puntos-sobre-las-ies-para-evitar-la-manipulacion-del-lenguaje/
LOCATION:Salón Sorolla - Ateneo Mercantil de Valencia\, Plaza del Ayuntamiento 18\, Valencia\, Valencia\, 46002\, España
CATEGORIES:Tertulia Histórica
ATTACH;FMTTYPE=image/jpeg:https://historico.ateneovalencia.es/wp-content/uploads/2019/02/20190304-Tertulia-Historica-Manipulacion-Lenguaje.jpg
END:VEVENT
END:VCALENDAR