BEGIN:VCALENDAR
VERSION:2.0
PRODID:-//Ateneo Mercantil de Valencia - ECPv6.0.4//NONSGML v1.0//EN
CALSCALE:GREGORIAN
METHOD:PUBLISH
X-ORIGINAL-URL:https://historico.ateneovalencia.es
X-WR-CALDESC:Eventos para Ateneo Mercantil de Valencia
REFRESH-INTERVAL;VALUE=DURATION:PT1H
X-Robots-Tag:noindex
X-PUBLISHED-TTL:PT1H
BEGIN:VTIMEZONE
TZID:Europe/Madrid
BEGIN:DAYLIGHT
TZOFFSETFROM:+0100
TZOFFSETTO:+0200
TZNAME:CEST
DTSTART:20180325T010000
END:DAYLIGHT
BEGIN:STANDARD
TZOFFSETFROM:+0200
TZOFFSETTO:+0100
TZNAME:CET
DTSTART:20181028T010000
END:STANDARD
END:VTIMEZONE
BEGIN:VEVENT
DTSTART;TZID=Europe/Madrid:20180115T190000
DTEND;TZID=Europe/Madrid:20180115T203000
DTSTAMP:20260422T191435
CREATED:20180108T164529Z
LAST-MODIFIED:20180108T164529Z
UID:29023-1516042800-1516048200@historico.ateneovalencia.es
SUMMARY:Tertulia Histórica: "La Desamortización de Mendizábal"
DESCRIPTION:Llega el Ciclo Tertulia Histórica con la conferencia "la Desamortización de Mendizábal". La ponente será la socia del Ateneo\, Dña. María Victoria Rodríguez. La desamortización es el proceso de convertir en propiedad individual lo que antes eran derechos señoriales. El término proviene de que\, antes de 1811\, los bienes que no se podían vender ni comprar se decía que estaban en “manos muertas”. Ponerles en el mercado era resucitarles\, desamortizarles. Las tres Leyes de Desamortización básicas son: \nEl 19 de febrero de 1836 hubo un decreto declarando en venta\, por sistema de subasta\, las tierras de las órdenes religiosas suprimidas\, tierras convertidas en “bienes nacionales”. Sólo las de órdenes suprimidas. El decreto de supresión se había dado el 11 de octubre de 1835 y la venta de bienes estaba siendo ejecutada en ese momento. El 29 de julio de 1837 se desamortizaban los bienes del clero regular de cualquier tipo y se sumaban los del clero secular. Estas leyes fueron revitalizadas por Espartero en Ley de 2 de septiembre de 1841\, vigente hasta 8 de agosto de 1844.
URL:https://historico.ateneovalencia.es/evento/tertulia-historica-la-desamortizacion-de-mendizabal/
LOCATION:Salón Sorolla - Ateneo Mercantil de Valencia\, Plaza del Ayuntamiento 18\, Valencia\, Valencia\, 46002\, España
CATEGORIES:Tertulia Histórica
ATTACH;FMTTYPE=image/jpeg:https://historico.ateneovalencia.es/wp-content/uploads/2018/01/20180115-La-Desamortizacion.jpg
END:VEVENT
END:VCALENDAR