BEGIN:VCALENDAR
VERSION:2.0
PRODID:-//Ateneo Mercantil de Valencia - ECPv6.0.4//NONSGML v1.0//EN
CALSCALE:GREGORIAN
METHOD:PUBLISH
X-ORIGINAL-URL:https://historico.ateneovalencia.es
X-WR-CALDESC:Eventos para Ateneo Mercantil de Valencia
REFRESH-INTERVAL;VALUE=DURATION:PT1H
X-Robots-Tag:noindex
X-PUBLISHED-TTL:PT1H
BEGIN:VTIMEZONE
TZID:Europe/Madrid
BEGIN:DAYLIGHT
TZOFFSETFROM:+0100
TZOFFSETTO:+0200
TZNAME:CEST
DTSTART:20170326T010000
END:DAYLIGHT
BEGIN:STANDARD
TZOFFSETFROM:+0200
TZOFFSETTO:+0100
TZNAME:CET
DTSTART:20171029T010000
END:STANDARD
END:VTIMEZONE
BEGIN:VEVENT
DTSTART;TZID=Europe/Madrid:20171211T173000
DTEND;TZID=Europe/Madrid:20171211T173000
DTSTAMP:20260422T235411
CREATED:20171123T101851Z
LAST-MODIFIED:20171128T123713Z
UID:27772-1513013400-1513013400@historico.ateneovalencia.es
SUMMARY:Conferencia "El secreto de los paraísos fiscales"
DESCRIPTION:Vuelve el ciclo Tertulias Históricas\, en esta ocasión el 11 de diciembre a las 17:30 horas en el Salón Sorolla con la conferencia "El secreto de los paraísos fiscales" impartida por Asun Hernández\, licenciada en Derecho y experta en comunicación.
URL:https://historico.ateneovalencia.es/evento/conferencia-el-secreto-de-los-paraisos-fiscales/
LOCATION:Salón Sorolla - Ateneo Mercantil de Valencia\, Plaza del Ayuntamiento 18\, Valencia\, Valencia\, 46002\, España
CATEGORIES:Tertulia Histórica
ATTACH;FMTTYPE=image/jpeg:https://historico.ateneovalencia.es/wp-content/uploads/2017/11/20171211-Tertulia-Historica-Paraisos-Fiscales.jpg
END:VEVENT
END:VCALENDAR