BEGIN:VCALENDAR
VERSION:2.0
PRODID:-//Ateneo Mercantil de Valencia - ECPv6.0.4//NONSGML v1.0//EN
CALSCALE:GREGORIAN
METHOD:PUBLISH
X-WR-CALNAME:Ateneo Mercantil de Valencia
X-ORIGINAL-URL:https://historico.ateneovalencia.es
X-WR-CALDESC:Eventos para Ateneo Mercantil de Valencia
REFRESH-INTERVAL;VALUE=DURATION:PT1H
X-Robots-Tag:noindex
X-PUBLISHED-TTL:PT1H
BEGIN:VTIMEZONE
TZID:Europe/Madrid
BEGIN:DAYLIGHT
TZOFFSETFROM:+0100
TZOFFSETTO:+0200
TZNAME:CEST
DTSTART:20170326T010000
END:DAYLIGHT
BEGIN:STANDARD
TZOFFSETFROM:+0200
TZOFFSETTO:+0100
TZNAME:CET
DTSTART:20171029T010000
END:STANDARD
END:VTIMEZONE
BEGIN:VEVENT
DTSTART;TZID=Europe/Madrid:20170109T190000
DTEND;TZID=Europe/Madrid:20170109T190000
DTSTAMP:20260422T214218
CREATED:20161220T134623Z
LAST-MODIFIED:20170105T120719Z
UID:18101-1483988400-1483988400@historico.ateneovalencia.es
SUMMARY:Tertulia Histórica: "Los Valencianos Primitivos"
DESCRIPTION:La Tertulia histórica inicia 2017 con una ponencia de D. José Mahiques Gandía\, socio del Ateneo\, que tratará sobre los indicios existentes de los primeros valencianos que habitaron esta zona del litoral levantino\, declarada\, por la UNESCO\, patrimonio de la humanidad. \nUna nueva ocasión\, para que D. José Mahiques nos hable de una época tan importante y desconocida de la historia de Valencia\, en la que nos aportará los últimos acontecimientos encontrados sobre la materia. Todo ello contado con la dicción tan personal del ponente que tanto éxito ha tenido en otras ocasiones en las que nos ha hablado de otras etapas de la historia de valencia. \nLa tertulia se celebrará el 9 de enero de 2017 a las 19:00 horas\, esta vez en la Salón Sorolla (5º piso).
URL:https://historico.ateneovalencia.es/evento/tertulia-historica-los-valencianos-primitivos/
LOCATION:Salón Sorolla - Ateneo Mercantil de Valencia\, Plaza del Ayuntamiento 18\, Valencia\, Valencia\, 46002\, España
CATEGORIES:Tertulia Histórica
ATTACH;FMTTYPE=image/jpeg:https://historico.ateneovalencia.es/wp-content/uploads/2016/12/20170109-Tertulia-Historica-Los-Valencianos-Primitivos.jpg
END:VEVENT
END:VCALENDAR