BEGIN:VCALENDAR
VERSION:2.0
PRODID:-//Ateneo Mercantil de Valencia - ECPv6.0.4//NONSGML v1.0//EN
CALSCALE:GREGORIAN
METHOD:PUBLISH
X-WR-CALNAME:Ateneo Mercantil de Valencia
X-ORIGINAL-URL:https://historico.ateneovalencia.es
X-WR-CALDESC:Eventos para Ateneo Mercantil de Valencia
REFRESH-INTERVAL;VALUE=DURATION:PT1H
X-Robots-Tag:noindex
X-PUBLISHED-TTL:PT1H
BEGIN:VTIMEZONE
TZID:Europe/Madrid
BEGIN:DAYLIGHT
TZOFFSETFROM:+0100
TZOFFSETTO:+0200
TZNAME:CEST
DTSTART:20160327T010000
END:DAYLIGHT
BEGIN:STANDARD
TZOFFSETFROM:+0200
TZOFFSETTO:+0100
TZNAME:CET
DTSTART:20161030T010000
END:STANDARD
END:VTIMEZONE
BEGIN:VEVENT
DTSTART;TZID=Europe/Madrid:20161003T193000
DTEND;TZID=Europe/Madrid:20161004T213000
DTSTAMP:20260423T011256
CREATED:20160722T062221Z
LAST-MODIFIED:20160725T094541Z
UID:11553-1475523000-1475616600@historico.ateneovalencia.es
SUMMARY:Tertulia Histórica: ‘El Servicio Militar e ingreso de Las Fuerzas Armadas’
DESCRIPTION:Los españoles varones que en la actualidad cuentan con más de 40 años de edad fueron protagonistas de la “Mili”\, como se denominaba a aquel servicio que de forma forzosa los convertía en soldados uniformados y armados\, con los que año tras año se nutrían los Ejércitos de España. Las diferentes épocas y transformaciones de nuestra sociedad determinaron desiguales plazos de permanencia en filas. \nHubo diferentes Leyes del Servicio Militar Obligatorio desde 1.940 (nada más finalizar la Guerra Civil) hasta la de 2001 que la suspendió. Desde entonces se profesionalizó el Ejercito\, creando las Fuerzas Armadas. El sistema de reclutamiento profesional permite la incorporación en un plazo muy breve de tiempo. Por eso es necesario siempre acreditar los niveles de estudios o de la titulación exigida o sus equivalentes a efectos académicos\, en su caso\, para acceder a las distintas plazas. Esta interesante tertulia la impartirá\, D. Francisco Guirado Burguete\, que es Coronel de Infantería retirado.
URL:https://historico.ateneovalencia.es/evento/tertulia-historica-el-servicio-militar-e-ingreso-de-las-fuerzas-armadas/
LOCATION:Salón Sorolla - Ateneo Mercantil de Valencia\, Plaza del Ayuntamiento 18\, Valencia\, Valencia\, 46002\, España
CATEGORIES:Tertulia Histórica
ATTACH;FMTTYPE=image/jpeg:https://historico.ateneovalencia.es/wp-content/uploads/2016/07/20161003-Servicio-Militar.jpg
END:VEVENT
END:VCALENDAR