BEGIN:VCALENDAR
VERSION:2.0
PRODID:-//Ateneo Mercantil de Valencia - ECPv6.0.4//NONSGML v1.0//EN
CALSCALE:GREGORIAN
METHOD:PUBLISH
X-ORIGINAL-URL:https://historico.ateneovalencia.es
X-WR-CALDESC:Eventos para Ateneo Mercantil de Valencia
REFRESH-INTERVAL;VALUE=DURATION:PT1H
X-Robots-Tag:noindex
X-PUBLISHED-TTL:PT1H
BEGIN:VTIMEZONE
TZID:Europe/Madrid
BEGIN:DAYLIGHT
TZOFFSETFROM:+0100
TZOFFSETTO:+0200
TZNAME:CEST
DTSTART:20190331T010000
END:DAYLIGHT
BEGIN:STANDARD
TZOFFSETFROM:+0200
TZOFFSETTO:+0100
TZNAME:CET
DTSTART:20191027T010000
END:STANDARD
END:VTIMEZONE
BEGIN:VEVENT
DTSTART;TZID=Europe/Madrid:20191007T190000
DTEND;TZID=Europe/Madrid:20191007T203000
DTSTAMP:20260423T095821
CREATED:20190712T101719Z
LAST-MODIFIED:20190712T101719Z
UID:49657-1570474800-1570480200@historico.ateneovalencia.es
SUMMARY:Ciclo Tertulia Histórica: "El Cid\, mito o leyenda"
DESCRIPTION:Arranca un nuevo curso para la Tertulia Histórica en el Ateneo Mercantil de Valencia con una interesante ponencia en la que se desgranará la figura de Rodrigo Díaz de Vivar\, el Cid. Pese a su relevancia histórica y literaria\,  es vedad que no se conocen datos sobre su aspecto físico\, a excepción de unas pocas referencias en las que se indicaba que llevaba "larga barba recogida en un cordón". Pero por no saberse de El Cid\, no se sabe ni en qué año nació. Es verdad que los historiadores lo datan a mediados del s. XI\, en el norte de Burgos\, en Vivar\, uno de los lugares del dominio señorial de su padre\, Diego Laínez\, caballero al servicio del Rey Fernando I de León. \nLa conferencia será el próximo lunes 7 de octubre en el Salón Sorolla y el encargado de desgranar la vida y obras de El Cid será D. José Manuel Fernández García-Escudero y estará presentada por D. José Luis Climent. En la conferencia se tratará de explicar si El Cid tiene más de mito o de leyenda\, ya que la figura de El Cid es tan grande para los españoles que hoy en día la sociedad es incapaz de discernir qué fue realidad y qué ficción en la vida de Rodrigo Díaz de Vivar.  \nCartel:
URL:https://historico.ateneovalencia.es/evento/ciclo-tertulia-historica-el-cid-mito-o-leyenda/
LOCATION:Salón Sorolla - Ateneo Mercantil de Valencia\, Plaza del Ayuntamiento 18\, Valencia\, Valencia\, 46002\, España
CATEGORIES:Tertulia Histórica
ATTACH;FMTTYPE=image/jpeg:https://historico.ateneovalencia.es/wp-content/uploads/2019/07/20191007-Tertulia-Historica-El-Cid.jpg
END:VEVENT
BEGIN:VEVENT
DTSTART;TZID=Europe/Madrid:20191021T190000
DTEND;TZID=Europe/Madrid:20191021T210000
DTSTAMP:20260423T095821
CREATED:20191008T161816Z
LAST-MODIFIED:20191010T101415Z
UID:52856-1571684400-1571691600@historico.ateneovalencia.es
SUMMARY:Tertulia Histórica: "Otros Mapas"
DESCRIPTION:La Tertulia Histórica regresa el próximo lunes 21 de octubre a las 19 horas en el Salón Sorolla con una conferencia sobre mapas que dará el topógrafo y cartógrafo D. Emilio Forcén Tárrega. Una conferencia que vendrá a hablar sobre algunos mapas donde la métrica no es lo único importante\, ya que ellos mismos hicieron historia por su enorme importancia. La cartografía es una ciencia y un arte antiguo\, que no siempre fue precisa\, ya que hay que tener en cuenta que siempre habrá un primer mapa que representa algo que nunca se había cartografiado. \nEn la conferencia se verán mapas que fueron los primeros en mostrar aspectos del mundo hasta ese momento desconocidos. El primer mapa en mostrar América fue el de Juan de la Cosa: el cántabro Juan de la Cosa acompañó a Colón en su primer viaje a América en 1492. Ocho años más tarde\, en 1500\, crea el primer mapa en el que aparecen todas las tierras exploradas en el nuevo mundo por castellanos\, portugueses e ingleses. El Mapa de Juan de la Cosa es el único documento cartográfico que se conserva realizado por un testigo de primera mano de los viajes colombinos. Se guarda en el Museo Naval de Madrid. Y se verán algunos más que han sido muy importantes. \nCartel:\n \n 
URL:https://historico.ateneovalencia.es/evento/tertulia-historica-otros-mapas/
LOCATION:Salón Sorolla - Ateneo Mercantil de Valencia\, Plaza del Ayuntamiento 18\, Valencia\, Valencia\, 46002\, España
CATEGORIES:Tertulia Histórica
ATTACH;FMTTYPE=image/jpeg:https://historico.ateneovalencia.es/wp-content/uploads/2019/10/20191030-Entrega-Carta-Juan-de-la-Cosa.jpg
END:VEVENT
END:VCALENDAR