BEGIN:VCALENDAR
VERSION:2.0
PRODID:-//Ateneo Mercantil de Valencia - ECPv6.0.4//NONSGML v1.0//EN
CALSCALE:GREGORIAN
METHOD:PUBLISH
X-ORIGINAL-URL:https://historico.ateneovalencia.es
X-WR-CALDESC:Eventos para Ateneo Mercantil de Valencia
REFRESH-INTERVAL;VALUE=DURATION:PT1H
X-Robots-Tag:noindex
X-PUBLISHED-TTL:PT1H
BEGIN:VTIMEZONE
TZID:Europe/Madrid
BEGIN:DAYLIGHT
TZOFFSETFROM:+0100
TZOFFSETTO:+0200
TZNAME:CEST
DTSTART:20190331T010000
END:DAYLIGHT
BEGIN:STANDARD
TZOFFSETFROM:+0200
TZOFFSETTO:+0100
TZNAME:CET
DTSTART:20191027T010000
END:STANDARD
END:VTIMEZONE
BEGIN:VEVENT
DTSTART;TZID=Europe/Madrid:20190605T193000
DTEND;TZID=Europe/Madrid:20190605T210000
DTSTAMP:20260423T021059
CREATED:20190530T154429Z
LAST-MODIFIED:20190530T154429Z
UID:48418-1559763000-1559768400@historico.ateneovalencia.es
SUMMARY:"Los Castillos en el Camino del Cid" por Miguel Jover Cerdá
DESCRIPTION:La conquista de Valencia por El Cid en el siglo XI dejó una huella evidente en la Comunidad Valenciana\, un pasado en la Edad Media en la que muchos castillos y fortalezas se han mantenido y son característicos de nuestras poblaciones. Con una arquitectura peculiar y muchos de ellos en buen estado hablan muy bien del gran pasado histórico que posee nuestra tierra. El Profesor y Doctor en Ingeniería D. Miguel Jover Cerdá\, que es presidente de la Sección Provincial de Valencia de la Asociación Española de Amigos de los Castillos será el encargado de dar la conferencia el próximo miércoles 5 de junio a las 19.30 horas en el Salón Sorolla. \nUna conferencia en la que desgranará episodios de El Cid en la Comunidad Valenciana utilizando como guía principal los distintos castillos que nos podemos encontrar en el Camino del Cid; una ruta que de manera directa o indirecta tuvieron relación con la presencia de El Cid; cerca de una cuarentena de fortalezas a lo largo de nuestra tierra. Castillon con una diversidad especial cada uno de ellos por sus dimensiones\, su conservación y por su rango histórico. Conferencia organzada por la Hermandad de Hijosdalgo de Rio Ubierna e Infanzones de Vivar del Cid\, en colaboración con el Ateneo Mercantil de Valencia\, con motivo de la celebración del 925 Aniversario de la entrada del Cid en Valencia. \nCartel:\n \n 
URL:https://historico.ateneovalencia.es/evento/los-castillos-en-el-camino-del-cid-por-miguel-jover-cerda/
LOCATION:Salón Sorolla - Ateneo Mercantil de Valencia\, Plaza del Ayuntamiento 18\, Valencia\, Valencia\, 46002\, España
CATEGORIES:Tertulia Histórica
ATTACH;FMTTYPE=image/jpeg:https://historico.ateneovalencia.es/wp-content/uploads/2019/05/El-Cid-principal-FINAL.jpg
END:VEVENT
BEGIN:VEVENT
DTSTART;TZID=Europe/Madrid:20190612T190000
DTEND;TZID=Europe/Madrid:20190612T210000
DTSTAMP:20260423T021059
CREATED:20190612T114859Z
LAST-MODIFIED:20190612T114859Z
UID:48689-1560366000-1560373200@historico.ateneovalencia.es
SUMMARY:Tertulia Histórica: "Algunas consideraciones de Valencia y los valencianos"
DESCRIPTION:La Tertulia Histórica regresa al Salón Sorolla este miércoles 12 de junio a las 19 horas con una conferencia sobre Valencia y los valencianos que impartirá el catedrático de Radiodiagnóstico de la Universidad de Valencia\, D. Eduardo Nogués. La ponencia llega bajo el título "Algunas consideraciones de Valencia y los valencianos". Una conferencia en la que se podrá comprobar cuál es la 'salud' de nuestra ciudad porque se hablará largo y tendido de nuestra tierra\, pero siempre con amor. Recuerda que la entrada es libre y gratuita hasta completar aforo. \n  \nCartel:
URL:https://historico.ateneovalencia.es/evento/tertulia-historica-algunas-consideraciones-de-valencia-y-los-valencianos/
LOCATION:Salón Sorolla - Ateneo Mercantil de Valencia\, Plaza del Ayuntamiento 18\, Valencia\, Valencia\, 46002\, España
CATEGORIES:Tertulia Histórica
ATTACH;FMTTYPE=image/jpeg:https://historico.ateneovalencia.es/wp-content/uploads/2019/06/20190612-Tertulia-Historica-Valencia.jpg
END:VEVENT
BEGIN:VEVENT
DTSTART;TZID=Europe/Madrid:20190613T173000
DTEND;TZID=Europe/Madrid:20190613T190000
DTSTAMP:20260423T021059
CREATED:20190515T101401Z
LAST-MODIFIED:20190527T122114Z
UID:47937-1560447000-1560452400@historico.ateneovalencia.es
SUMMARY:Tertulia Histórica: "Las curiosidades del Corpus Christi de Valencia"
DESCRIPTION:Tras la comida de Fin de Curso de las Actividades Culturales del Ateneo Mercantil se celebrará en el Salón de Actos a las 17.30 horas una conferencia que llega bajo el título "Las curiosidades del Corpus de Valencia" y que imparatirá el profesor del Aula Cultural\, presidente de la Asociación Cultural “Via Vicentius Valentiae – Gogistes Valencians”\, presidente de la ONG Valencianistes per la Solidaritat\, creador y coordinador del “Grupo Cultural Germanies” y el director/editor de la Editorial Vinatea\, d. Salvador Raga Navarro. Desde el último tercio del siglo XIV hasta finales del XIX la festividad del Corpus Christi ha sido considerada tradicionalmente de las más importantes de la ciudad. Poco a poco fue perdiendo notoriedad hasta que la Asociación Amics del Corpus de la Ciutat de Valencia la recuperó y la colocó de nuevo en lo alto del escalafón. \nCartel:\n \n 
URL:https://historico.ateneovalencia.es/evento/tertulia-historica-las-curiosidades-del-corpus-christi-de-valencia/
LOCATION:Teatro Ateneo
CATEGORIES:Tertulia Histórica
ATTACH;FMTTYPE=image/jpeg:https://historico.ateneovalencia.es/wp-content/uploads/2019/05/20190613-Tertulia-Historica-Corpus.jpg
END:VEVENT
END:VCALENDAR