BEGIN:VCALENDAR
VERSION:2.0
PRODID:-//Ateneo Mercantil de Valencia - ECPv6.0.4//NONSGML v1.0//EN
CALSCALE:GREGORIAN
METHOD:PUBLISH
X-ORIGINAL-URL:https://historico.ateneovalencia.es
X-WR-CALDESC:Eventos para Ateneo Mercantil de Valencia
REFRESH-INTERVAL;VALUE=DURATION:PT1H
X-Robots-Tag:noindex
X-PUBLISHED-TTL:PT1H
BEGIN:VTIMEZONE
TZID:Europe/Madrid
BEGIN:DAYLIGHT
TZOFFSETFROM:+0100
TZOFFSETTO:+0200
TZNAME:CEST
DTSTART:20190331T010000
END:DAYLIGHT
BEGIN:STANDARD
TZOFFSETFROM:+0200
TZOFFSETTO:+0100
TZNAME:CET
DTSTART:20191027T010000
END:STANDARD
END:VTIMEZONE
BEGIN:VEVENT
DTSTART;TZID=Europe/Madrid:20190506T190000
DTEND;TZID=Europe/Madrid:20190506T210000
DTSTAMP:20260423T055447
CREATED:20190410T110434Z
LAST-MODIFIED:20190410T110434Z
UID:46711-1557169200-1557176400@historico.ateneovalencia.es
SUMMARY:Ciclo Tertulia Histórica: "La Nación Española. ¿Desde cuándo?"
DESCRIPTION:La Tertulia Histórica regresa al Ateneo Mercantil de Valencia el próximo 6 de mayo a las 19 horas en el Salón Sorolla con la conferencia "La Nación Española. ¿Desde cuándo?" que impartirá el socio y fundador de la Tertulia Histórica\, D. José Luis Climent. Una conferencia que servirá para aclarar los términos de 'Nación' y de 'Estado'\, ya que lo que define a una nación es un elemento subjetivo\, grupos de individuos que creen compartir ciertos rasgos culturales y viven sobre un territorio al que consideran propio\, mientras que los Estados modernos son estructuras político-administrativas que controlan un territorio y la población que lo habita. En ese sentido se cree que España es considerada una nación desde la Constitución de 1812. Lo que en la actualidad se entiende por nación es lo que conoce como Estado-nación\, con unas fronteras\, que responden a un nombre y ese nombre es España. \nCartel:
URL:https://historico.ateneovalencia.es/evento/ciclo-tertulia-historica-la-nacion-espanola-desde-cuando/
LOCATION:Salón Sorolla - Ateneo Mercantil de Valencia\, Plaza del Ayuntamiento 18\, Valencia\, Valencia\, 46002\, España
CATEGORIES:Tertulia Histórica
ATTACH;FMTTYPE=image/jpeg:https://historico.ateneovalencia.es/wp-content/uploads/2019/04/20190506-Tertulia-Historica-España-Nacion.jpg
END:VEVENT
BEGIN:VEVENT
DTSTART;TZID=Europe/Madrid:20190513T190000
DTEND;TZID=Europe/Madrid:20190513T210000
DTSTAMP:20260423T055447
CREATED:20190417T080006Z
LAST-MODIFIED:20190417T080006Z
UID:46914-1557774000-1557781200@historico.ateneovalencia.es
SUMMARY:Tertulia Histórica: "Referéndum: el peligro de la democracia directa"
DESCRIPTION:El próximo lunes 13 de mayo regresa la Tertulia Histórica al Salón Sorolla del Ateneo Mercantil a las 19 horas con la conferencia: "Referéndum: el peligro de la democracia directa" que será impartida por D. Antonio Lastra\, que es doctor en Filosofía\, profesor de Filosofía e investigador del Instituto La Torre del Virrey y director de la Escuela de Filosofía del Ateneo Mercantil de Valencia. Presenta el acto el socio y fundador de la Tertulia Histórica\, D. José Luis Climent. \nLos dos instrumentos de democracia directa que se incluyen en nuestra Constitución son el referéndum (consultivo) y la iniciativa legislativa popular. Por un lado se busca encontrar el adecuado encaje de los mecanismos de participación directa de los ciudadanos en los procesos de toma de decisiones\, pero hay un peligro con la democracia participativa ya que se podría acabar sustituyendo el gobierno representativo\, es decir\, el gobierno de las leyes. La democracia directa o participativa suena bien como concepto\, pero tiene riesgos porque esconde una pulsión totalizante y supone\, en malas manos\, una amenaza al imperio de la ley\, la seguridad jurídica y la libertad individual. \nCartel:
URL:https://historico.ateneovalencia.es/evento/tertulia-historica-referendum-el-peligro-de-la-democracia-directa/
LOCATION:Salón Sorolla - Ateneo Mercantil de Valencia\, Plaza del Ayuntamiento 18\, Valencia\, Valencia\, 46002\, España
CATEGORIES:Tertulia Histórica
ATTACH;FMTTYPE=image/jpeg:https://historico.ateneovalencia.es/wp-content/uploads/2019/04/20190513-Tertulia-Historica-Referendum.jpg
END:VEVENT
END:VCALENDAR