BEGIN:VCALENDAR
VERSION:2.0
PRODID:-//Ateneo Mercantil de Valencia - ECPv6.0.4//NONSGML v1.0//EN
CALSCALE:GREGORIAN
METHOD:PUBLISH
X-WR-CALNAME:Ateneo Mercantil de Valencia
X-ORIGINAL-URL:https://historico.ateneovalencia.es
X-WR-CALDESC:Eventos para Ateneo Mercantil de Valencia
REFRESH-INTERVAL;VALUE=DURATION:PT1H
X-Robots-Tag:noindex
X-PUBLISHED-TTL:PT1H
BEGIN:VTIMEZONE
TZID:Europe/Madrid
BEGIN:DAYLIGHT
TZOFFSETFROM:+0100
TZOFFSETTO:+0200
TZNAME:CEST
DTSTART:20180325T010000
END:DAYLIGHT
BEGIN:STANDARD
TZOFFSETFROM:+0200
TZOFFSETTO:+0100
TZNAME:CET
DTSTART:20181028T010000
END:STANDARD
END:VTIMEZONE
BEGIN:VEVENT
DTSTART;TZID=Europe/Madrid:20181001T190000
DTEND;TZID=Europe/Madrid:20181001T203000
DTSTAMP:20260422T214922
CREATED:20180730T123419Z
LAST-MODIFIED:20180911T111920Z
UID:37715-1538420400-1538425800@historico.ateneovalencia.es
SUMMARY:Tertulia Histórica: Próceres\, personajes que cambiaron el paisaje urbano y trajeron la modernidad
DESCRIPTION:En la conferencia que impartirá D. Salvador Raga el próximo 1 de octubre\, se destacará la vida de varios de los personajes más relevantes en Valencia que cambiaron el paisaje urbano y trajeron la modernidad a la ciudad. Entre ellos el Marqués de Campo de Valencia. La plaza del Mercado de Valencia alumbró un 22 de mayo de 1814 a José Gabriel Campo Pérez. Genes aragoneses por parte de padre (provenía de una próspera familia de comerciantes) y madre valenciana para un pequeño de familia acomodada que se convertiría en prohombre de la economía y de la política. Porque con tan sólo 29 años fue nombrado alcalde de Valencia. Ocupó el cargo desde 1843 hasta 1847 por recomendación del partido moderado. En este periplo impulsó tres aspectos de la vida capitalina que perdurarían mucho tiempo: la actividad financiera y bancaria\, la mejora de las comunicaciones de los comercios de Valencia con la implantación del ferrocarril y numerosas transformaciones urbanas e industriales. \n  \n 
URL:https://historico.ateneovalencia.es/evento/tertulia-historica-personajes-que-cambiaron-el-paisaje-urbano-y-trajeron-la-modernidad/
LOCATION:Salón Sorolla - Ateneo Mercantil de Valencia\, Plaza del Ayuntamiento 18\, Valencia\, Valencia\, 46002\, España
CATEGORIES:Tertulia Histórica
ATTACH;FMTTYPE=image/jpeg:https://historico.ateneovalencia.es/wp-content/uploads/2018/07/20181001-Tertulia-Historica-Marques-Campo.jpg
END:VEVENT
BEGIN:VEVENT
DTSTART;TZID=Europe/Madrid:20181015T190000
DTEND;TZID=Europe/Madrid:20181015T203000
DTSTAMP:20260422T214922
CREATED:20180905T161202Z
LAST-MODIFIED:20180918T110319Z
UID:37927-1539630000-1539635400@historico.ateneovalencia.es
SUMMARY:Tertulia Histórica: "Pascual Dasí y Puigmoltó - Vizconde de Bétera"
DESCRIPTION:La Tertulia Histórica regresa al Ateneo Mercantil tras las vacaciones de verano con una gran conferencia sobre el Vizconde de Bétera\, D. Pascual Dasí y Puigmoltó\, que será impartida por D. Salvador Chapa\, el próximo 15 de octubre a las 19.00 horas en el Salón Sorolla. \nPascual Dasí y Puigmoltó (Picassent\, 30 de marzo de 1851 - Valencia\, 2 de diciembre de 1886) fue un aristócrata\, abogado y político valenciano\, vizconde de Bétera\, diputado en las Cortes Españolas durante la restauración borbónica. Su padre fue el Marqués de Dos Aguas\, gran propietario agrícola. Cuando se produjo la revolución de 1868 tuvo que huir a Francia con su familia. Estudió en Inglaterra e Italia y volvió en España el 1872. El 1875 se casó en Madrid con Concepción Moreno Campo\, sobrina del Marqués de Campo. \nSe estableció en Valencia durante la restauración borbónica y ingresó al Partido Conservador\, con lo que fue escogido concejal y alcalde interino de Valencia el 1877\, en calidad de la que hizo el discurso inaugural de la nueva sociedad Lo Rat Penat. Fue elegido diputado por Enguera a las elecciones generales españolas de 1879. Promovió La Revista de Valencia (1880-1883) y la Sociedad Valenciana de Bibliófilos. Fue escogido nuevamente diputado por el distrito de Sueca a las elecciones generales españolas de 1884 y por el de Llíria a las de 1886. Dentro del partido conservador se mostró próximo al sector de Francisco Silvela. El 4 de febrero de 1878 recibió el título de vizconde de Bétera. \nCartel:
URL:https://historico.ateneovalencia.es/evento/tertulia-historica-vicente-dasi-y-lluesma-marques-de-dos-aguas/
LOCATION:Salón Sorolla - Ateneo Mercantil de Valencia\, Plaza del Ayuntamiento 18\, Valencia\, Valencia\, 46002\, España
CATEGORIES:Tertulia Histórica
ATTACH;FMTTYPE=image/jpeg:https://historico.ateneovalencia.es/wp-content/uploads/2018/09/20181015-Tertulia-Historica-Vizconde-Betera.jpg
END:VEVENT
END:VCALENDAR