BEGIN:VCALENDAR
VERSION:2.0
PRODID:-//Ateneo Mercantil de Valencia - ECPv6.0.4//NONSGML v1.0//EN
CALSCALE:GREGORIAN
METHOD:PUBLISH
X-WR-CALNAME:Ateneo Mercantil de Valencia
X-ORIGINAL-URL:https://historico.ateneovalencia.es
X-WR-CALDESC:Eventos para Ateneo Mercantil de Valencia
REFRESH-INTERVAL;VALUE=DURATION:PT1H
X-Robots-Tag:noindex
X-PUBLISHED-TTL:PT1H
BEGIN:VTIMEZONE
TZID:Europe/Madrid
BEGIN:DAYLIGHT
TZOFFSETFROM:+0100
TZOFFSETTO:+0200
TZNAME:CEST
DTSTART:20170326T010000
END:DAYLIGHT
BEGIN:STANDARD
TZOFFSETFROM:+0200
TZOFFSETTO:+0100
TZNAME:CET
DTSTART:20171029T010000
END:STANDARD
END:VTIMEZONE
BEGIN:VEVENT
DTSTART;TZID=Europe/Madrid:20171106T190000
DTEND;TZID=Europe/Madrid:20171106T210000
DTSTAMP:20260422T013626
CREATED:20171011T115915Z
LAST-MODIFIED:20171106T163418Z
UID:26765-1509994800-1510002000@historico.ateneovalencia.es
SUMMARY:Tertulia Histórica: “Cervantes en Valencia”
DESCRIPTION:El archivero Jesús Villalmanzo\, nuestro próximo ponente de la Tertulia Histórica\, fue el que encontró un documento inédito con la firma original de Miguel de Cervantes que durante siglos había permanecido dormido en el Archivo del Reino de Valencia. El historiador castellano-leonés encontró la declaración como testigo que el escritor hizo ante la Justicia Criminal de Valencia el 8 de noviembre de 1580\, durante su estancia en la capital valenciana\, sobre si había visto durante su cautiverio en la cárcel de Argel a un pescador de Valencia al que se daba por muerto. \nVillalmanzo se encontró un escrito en perfecto estado y que está pasando en la actualidad por un proceso de restauración y permanecerá en el archivo valenciano. Recuerda que la conferencia se producirá el próximo lunes 6 de noviembre en el Salón Sorolla a las 19.30 horas y que es completamente gratuita.
URL:https://historico.ateneovalencia.es/evento/tertulia-historica-cervantes-en-valencia/
LOCATION:Salón Sorolla - Ateneo Mercantil de Valencia\, Plaza del Ayuntamiento 18\, Valencia\, Valencia\, 46002\, España
CATEGORIES:Tertulia Histórica
ATTACH;FMTTYPE=image/jpeg:https://historico.ateneovalencia.es/wp-content/uploads/2017/10/20171106-Cervantes-Tertulia-Historica.jpg
END:VEVENT
BEGIN:VEVENT
DTSTART;TZID=Europe/Madrid:20171113T190000
DTEND;TZID=Europe/Madrid:20171113T210000
DTSTAMP:20260422T013626
CREATED:20171016T120315Z
LAST-MODIFIED:20171016T142022Z
UID:26817-1510599600-1510606800@historico.ateneovalencia.es
SUMMARY:Tertulia Histórica: "Waterloo. Aspectos inéditos de una batalla"
DESCRIPTION:Han pasado más de 200 años desde que el mundo vio como la Séptima Coalición vencía al ejército francés de Napoleón Bonaparte en la misma Bélgica. De esta forma\, los aliados acabaron con las ansias expansionistas del «Sire»\, recién llegado de su exilio en Elba para liderar a sus tropas en un último intento de dominar Europa. La Tertulia Histórica regresa al Salón Sorolla con una conferencia en la que se descurirán algunos de los aspectos inéditos de la batalla y además\, se descubrirán otros aspectos arraigados en la mente de la población sobre la batalla de Waterloo y que no son reales. Curiosidades sobre la batalla de Waterloo que probablemente no conocías. La conferencia será impartida por el socio ateneísta D. Juan Sanz.
URL:https://historico.ateneovalencia.es/evento/tertulia-historica-waterloo-aspectos-ineditos-de-una-batalla/
LOCATION:Salón Sorolla - Ateneo Mercantil de Valencia\, Plaza del Ayuntamiento 18\, Valencia\, Valencia\, 46002\, España
CATEGORIES:Tertulia Histórica
ATTACH;FMTTYPE=image/jpeg:https://historico.ateneovalencia.es/wp-content/uploads/2017/10/20171113-Tertulia-Historica-Waterloo.jpg
END:VEVENT
END:VCALENDAR