BEGIN:VCALENDAR
VERSION:2.0
PRODID:-//Ateneo Mercantil de Valencia - ECPv6.0.4//NONSGML v1.0//EN
CALSCALE:GREGORIAN
METHOD:PUBLISH
X-ORIGINAL-URL:https://historico.ateneovalencia.es
X-WR-CALDESC:Eventos para Ateneo Mercantil de Valencia
REFRESH-INTERVAL;VALUE=DURATION:PT1H
X-Robots-Tag:noindex
X-PUBLISHED-TTL:PT1H
BEGIN:VTIMEZONE
TZID:Europe/Madrid
BEGIN:DAYLIGHT
TZOFFSETFROM:+0100
TZOFFSETTO:+0200
TZNAME:CEST
DTSTART:20170326T010000
END:DAYLIGHT
BEGIN:STANDARD
TZOFFSETFROM:+0200
TZOFFSETTO:+0100
TZNAME:CET
DTSTART:20171029T010000
END:STANDARD
END:VTIMEZONE
BEGIN:VEVENT
DTSTART;TZID=Europe/Madrid:20170615T143000
DTEND;TZID=Europe/Madrid:20170615T170000
DTSTAMP:20260422T014351
CREATED:20170519T111313Z
LAST-MODIFIED:20170519T111313Z
UID:23842-1497537000-1497546000@historico.ateneovalencia.es
SUMMARY:Comida Fin de Curso de las Actividades Culturales
DESCRIPTION:El próximo jueves 15 de junio se celebra la comida de Fin de Curso de todas las actividades y visitas culturales que se realizan en el Ateneo Mercantil a lo largo del año. Los socios que habitualmente disfrutan de las ponencias comparten mesa y mantel con los ponentes y expertos en la materia que realizan las tertulias. Además\, en la comida también se entregan los diplomas a todos los alumnos que se han dado cita en el Aula Cultural y además\, se invita a todos los profesores que durante todo este curso han dado las clases. \nUn año más se celebrará la comida de fin de curso para dar por concluido el año de las Actividades y Visitas Culturales\, la Tertulia Histórica\, la Poesía… Al finalizar la comida se realizará un pequeño homenaje a los ponentes de las tertulias y a los “cicerones” de las visitas culturales. El pasado año acudieron unos 170 comensales al Restaurante del Ateneo Mercantil para celebrar un año intenso de cultura.
URL:https://historico.ateneovalencia.es/evento/comida-fin-de-curso-de-las-actividades-culturales/
LOCATION:Restaurante - Ateneo Mercantil de Valencia\, Plaza del Ayuntamiento 18\, Valencia\, Valencia\, 46002\, España
CATEGORIES:Aula de Poesía,Ciclo Civilizaciones Europeas,Ciclo Historia de la Pintura Valenciana,Ciclo Horizontes de Amistad,Ciclo Israel en el Siglo I,Ciclo Otras Tertulias,Ciclo Paseos Virtuales por la Arquitectura de la Ciudad,Ciclos y Conferencias,Social,Tertulia Histórica,Tertulias y Foros,Visitas Culturales
ATTACH;FMTTYPE=image/jpeg:https://historico.ateneovalencia.es/wp-content/uploads/2017/05/Portada_Comida_FinCurso.jpg
END:VEVENT
BEGIN:VEVENT
DTSTART;TZID=Europe/Madrid:20170615T173000
DTEND;TZID=Europe/Madrid:20170615T190000
DTSTAMP:20260422T014351
CREATED:20170519T090027Z
LAST-MODIFIED:20170519T090027Z
UID:23826-1497547800-1497553200@historico.ateneovalencia.es
SUMMARY:Tertulia Histórica: "La Primera Cruzada hasta la Conquista de Jerusalem"
DESCRIPTION:La Tertulia Histórica nos trae una nueva ponencia en la que se tratará el interesante tema de la "La Primera Cruzada hasta la Conquista de Jerusalem". Una ponencia que correrá acargo del miembro fundador de las tertulias del Ateneo Mercantil\, D. José Luis Climent\, el próximo jueves 15 de junio tras la comida de cierre del curso que tendrá lugar en el Restaurante del Ateneo Mercantil. \nLa Primera Cruzada\, en particular\, tuvo su origen en acontecimientos anteriores en la Edad media. La división de Imperio Carolingio siglos antes\, y la relativa estabilidad de fronteras Europeas después de la cristianización de las tribus bárbaras\, que han creado toda una clase de guerreros que luchaban entre sí por la tierra y la riqueza. \nLos cristianos habían luchado contra heterogéneos efectivos turcos durante el trayecto hasta Jerusalén. Las tropas egipcias tenían una preparación muy deficiente. La derrota del emir de Mosul Kerbogá impulsó al gran visir de El Cairo Al-Afdal a intentar el dominio de Palestina. Los fatimitas se hicieron con Jerusalén tras un asedio de mes y medio\, y la posterior defensa queda a cargo del gobernador Iftikar. El lento avance cristiano permitió organizar con detalle la defensa de la ciudad y la desolación de los alrededores. Iftikar ordenó la expulsión de los cristianos fuera del recinto de la ciudad. Comanda las tropas cristianas Godofredo de Bouillón\, responsable tanto de la victoria como de la posterior matanza.
URL:https://historico.ateneovalencia.es/evento/tertulia-historica-la-primera-cruzada-hasta-la-conquista-de-jerusalem/
LOCATION:Salón Sorolla - Ateneo Mercantil de Valencia\, Plaza del Ayuntamiento 18\, Valencia\, Valencia\, 46002\, España
CATEGORIES:Tertulia Histórica
ATTACH;FMTTYPE=image/jpeg:https://historico.ateneovalencia.es/wp-content/uploads/2017/05/Portada_Primera_Cruzada.jpg
END:VEVENT
END:VCALENDAR