BEGIN:VCALENDAR
VERSION:2.0
PRODID:-//Ateneo Mercantil de Valencia - ECPv6.0.4//NONSGML v1.0//EN
CALSCALE:GREGORIAN
METHOD:PUBLISH
X-WR-CALNAME:Ateneo Mercantil de Valencia
X-ORIGINAL-URL:https://historico.ateneovalencia.es
X-WR-CALDESC:Eventos para Ateneo Mercantil de Valencia
REFRESH-INTERVAL;VALUE=DURATION:PT1H
X-Robots-Tag:noindex
X-PUBLISHED-TTL:PT1H
BEGIN:VTIMEZONE
TZID:Europe/Madrid
BEGIN:DAYLIGHT
TZOFFSETFROM:+0100
TZOFFSETTO:+0200
TZNAME:CEST
DTSTART:20160327T010000
END:DAYLIGHT
BEGIN:STANDARD
TZOFFSETFROM:+0200
TZOFFSETTO:+0100
TZNAME:CET
DTSTART:20161030T010000
END:STANDARD
END:VTIMEZONE
BEGIN:VEVENT
DTSTART;TZID=Europe/Madrid:20161107T183000
DTEND;TZID=Europe/Madrid:20161108T203000
DTSTAMP:20260421T233309
CREATED:20161010T075144Z
LAST-MODIFIED:20161010T075144Z
UID:15768-1478543400-1478637000@historico.ateneovalencia.es
SUMMARY:Tertulia Histórica: Los Iberos
DESCRIPTION:Interesante tertulia que explicará el origen de los iberos. Así es cómo llamaron los antiguos escritores griegos a las gentes del levante y sur de la península ibérica para distinguirlos de los pueblos del interior\, cuya cultura y costumbres eran diferentes. De estos pueblos escribieron Hecateo de Mileto\, Heródoto\, Estrabón o Rufo Festo Avieno. Geográficamente\, Estrabón y Apiano denominaron Iberia al territorio de la península ibérica. La ponencia correrá a cargo de D. Manuel García Durán y se desarrollará en dos días: 7 y 8 de noviembre a las 17:30 horas. \nA pesar de que estos pueblos compartían ciertas características comunes\, no eran un grupo étnico homogéneo ya que divergían en muchos aspectos. No se sabe detalladamente el origen de los iberos\, aunque hay varias teorías que intentan establecerlo: \n\nUna hipótesis sugiere que llegaron a la península ibérica en el periodo Neolítico\, y su llegada se data desde el quinto milenio antes de Cristo al tercer milenio antes de Cristo. La mayoría de los estudiosos que adoptan esta teoría se apoyan en evidencias arqueológicas\, antropológicas y genéticas estimando que los iberos procedían de las regiones mediterráneas situadas más al este.\nOtros estudiosos han sugerido que pueden tener su origen en el norte de África\, aunque se trata de una hipótesis discutida. Los iberos inicialmente se habrían asentado a lo largo de la costa oriental de España y\, posiblemente\, más adelante se propagaron por parte de la península ibérica.\nOtra hipótesis alternativa afirma que formaban parte de los habitantes originales de Europa occidental y los creadores/herederos de la gran cultura megalítica que surge en toda esta zona\, posiblemente\, una teoría respaldada por estudios genéticos. Los iberos serían similares a las poblaciones celtas del primer milenio antes de Cristo de Irlanda\, Gran Bretaña y Francia. Posteriormente (según la interpretación más tradicional)\, los celtas cruzarían los Pirineos en dos grandes migraciones: en el IX y el VII siglo a. C. Los celtas se establecieron en su mayor parte al norte del río Duero y el río Ebro\, donde se mezclaron con los iberos para conformar el grupo llamado celtíbero.
URL:https://historico.ateneovalencia.es/evento/tertulia-historica-los-iberos/
LOCATION:Salón Sorolla - Ateneo Mercantil de Valencia\, Plaza del Ayuntamiento 18\, Valencia\, Valencia\, 46002\, España
CATEGORIES:Tertulia Histórica
ATTACH;FMTTYPE=image/jpeg:https://historico.ateneovalencia.es/wp-content/uploads/2016/10/Los-iberos.jpg
END:VEVENT
END:VCALENDAR