BEGIN:VCALENDAR
VERSION:2.0
PRODID:-//Ateneo Mercantil de Valencia - ECPv6.0.4//NONSGML v1.0//EN
CALSCALE:GREGORIAN
METHOD:PUBLISH
X-ORIGINAL-URL:https://historico.ateneovalencia.es
X-WR-CALDESC:Eventos para Ateneo Mercantil de Valencia
REFRESH-INTERVAL;VALUE=DURATION:PT1H
X-Robots-Tag:noindex
X-PUBLISHED-TTL:PT1H
BEGIN:VTIMEZONE
TZID:Europe/Madrid
BEGIN:DAYLIGHT
TZOFFSETFROM:+0100
TZOFFSETTO:+0200
TZNAME:CEST
DTSTART:20160327T010000
END:DAYLIGHT
BEGIN:STANDARD
TZOFFSETFROM:+0200
TZOFFSETTO:+0100
TZNAME:CET
DTSTART:20161030T010000
END:STANDARD
END:VTIMEZONE
BEGIN:VEVENT
DTSTART;TZID=Europe/Madrid:20160307T183000
DTEND;TZID=Europe/Madrid:20160308T200000
DTSTAMP:20260424T020116
CREATED:20160307T055930Z
LAST-MODIFIED:20160728T050246Z
UID:11881-1457375400-1457467200@historico.ateneovalencia.es
SUMMARY:Tertulia histórica: Semblanza de Damas Regias de Valencia. Siglos XIII-XIV
DESCRIPTION:Regresa la Tertulia Histórica a las 17:30 horas en el Salón Sorolla (7 de marzo) y en la Sala de Exposiciones (8 de marzo) con un tema de enorme interés\, la ‘Semblanza de las Damas regias de Valencia en los Siglos XIII y XIV. Aquellas mujeres poderosas del Reino de Valencia que son historia viva. Tertulia en la que se focalizará sobre Teresa Gil de Vidaure\, fallecida en Valencia en 1285\, hija del noble navarro Juan de Vidaure y hermana de Pedro Gil de Vidaure\, y en Constanza Augusta Emperatriz de Grecia. Hija ilegítima de Federico II y de Bianca Lancia.
URL:https://historico.ateneovalencia.es/evento/tertulia-historica-semblanza-de-damas-regias-de-valencia-siglos-xiii-xiv/
LOCATION:Salón Sorolla - Ateneo Mercantil de Valencia\, Plaza del Ayuntamiento 18\, Valencia\, Valencia\, 46002\, España
CATEGORIES:Tertulia Histórica
ATTACH;FMTTYPE=image/jpeg:https://historico.ateneovalencia.es/wp-content/uploads/2016/02/Damas_Regias_Valencia.jpg
END:VEVENT
END:VCALENDAR