BEGIN:VCALENDAR
VERSION:2.0
PRODID:-//Ateneo Mercantil de Valencia - ECPv6.0.4//NONSGML v1.0//EN
CALSCALE:GREGORIAN
METHOD:PUBLISH
X-WR-CALNAME:Ateneo Mercantil de Valencia
X-ORIGINAL-URL:https://historico.ateneovalencia.es
X-WR-CALDESC:Eventos para Ateneo Mercantil de Valencia
REFRESH-INTERVAL;VALUE=DURATION:PT1H
X-Robots-Tag:noindex
X-PUBLISHED-TTL:PT1H
BEGIN:VTIMEZONE
TZID:Europe/Madrid
BEGIN:DAYLIGHT
TZOFFSETFROM:+0100
TZOFFSETTO:+0200
TZNAME:CEST
DTSTART:20240331T010000
END:DAYLIGHT
BEGIN:STANDARD
TZOFFSETFROM:+0200
TZOFFSETTO:+0100
TZNAME:CET
DTSTART:20241027T010000
END:STANDARD
END:VTIMEZONE
BEGIN:VEVENT
DTSTART;TZID=Europe/Madrid:20240923T193000
DTEND;TZID=Europe/Madrid:20240923T203000
DTSTAMP:20260421T180950
CREATED:20240917T122256Z
LAST-MODIFIED:20240917T122257Z
UID:81533-1727119800-1727123400@historico.ateneovalencia.es
SUMMARY:Foro Universitas - Sensus Communis: "El arte de Recomenzar: Cómo tomar decisiones"
DESCRIPTION:El Ateneo Mercantil de Valencia acoge una nueva temporada del Foro Universitas - Sensus Communis organizado por Free Thinkers y la primera conferencia será el próximo lunes 23 de septiembre a las 19.30 horas en el hall colonial (sexta planta del Ateneo Mercantil) y llega bajo el título "El arte de Recomenzar: Cómo tomar decisiones". El ponente es Aniceto Masferrer (@anicetomasferrer). \nSi una misma persona conoce bien el proceso por el que toma sus propias decisiones\, pensamos que esta persona será capaz de tomarlas mejor y más efectivamente. Además\, si se conoce cómo trabaja la mente en este tipo de procesos también te otorgará la capacidad de influir en las decisiones de otras personas. \nTítulo: "El arte de Recomenzar: Cómo tomar decisiones" \nConferenciante: Prof. Aniceto Masferrer \nDía: Lunes\, 23 de septiembre de 2024 \nHora: 19.30 horas \nLugar: Hall Colonial (Sexta planta del Ateneo Mercantil) \nEntrada libre y gratuita hasta completar aforo. \nCartel:\n \n 
URL:https://historico.ateneovalencia.es/evento/foro-universitas-sensus-communis-el-arte-de-recomenzar-como-tomar-decisiones/
LOCATION:Hall Restaurante - Ateneo Mercantil de Valencia\, Plaza del Ayuntamiento\, 18\, Valencia\, España\, Valencia\, Valencia\, 46002\, España
CATEGORIES:Sensus Communis
ATTACH;FMTTYPE=image/jpeg:https://historico.ateneovalencia.es/wp-content/uploads/2024/09/20240923-Sensus-Communis-Arte-Elegir.jpg
END:VEVENT
END:VCALENDAR