BEGIN:VCALENDAR
VERSION:2.0
PRODID:-//Ateneo Mercantil de Valencia - ECPv6.0.4//NONSGML v1.0//EN
CALSCALE:GREGORIAN
METHOD:PUBLISH
X-ORIGINAL-URL:https://historico.ateneovalencia.es
X-WR-CALDESC:Eventos para Ateneo Mercantil de Valencia
REFRESH-INTERVAL;VALUE=DURATION:PT1H
X-Robots-Tag:noindex
X-PUBLISHED-TTL:PT1H
BEGIN:VTIMEZONE
TZID:Europe/Madrid
BEGIN:DAYLIGHT
TZOFFSETFROM:+0100
TZOFFSETTO:+0200
TZNAME:CEST
DTSTART:20240331T010000
END:DAYLIGHT
BEGIN:STANDARD
TZOFFSETFROM:+0200
TZOFFSETTO:+0100
TZNAME:CET
DTSTART:20241027T010000
END:STANDARD
END:VTIMEZONE
BEGIN:VEVENT
DTSTART;TZID=Europe/Madrid:20240321T193000
DTEND;TZID=Europe/Madrid:20240321T203000
DTSTAMP:20260421T222808
CREATED:20240321T093507Z
LAST-MODIFIED:20240321T093507Z
UID:76936-1711049400-1711053000@historico.ateneovalencia.es
SUMMARY:Sensus Communis - "Los miedos: cómo gestionarlos y superarlos"
DESCRIPTION:El Ateneo Mercantil de Valencia en colaboración con el Foro Universitas de Análisis Social y Free Thinkers han organizado una nueva sesión del Foro Sensus Communis en el Hall Colonial de la sexta planta del Ateneo. Una sesión junto a Aniceto Masferrer\, catedrático de Historia del Derecho y cofundador de Free Thinkers\, en la que se tratara cómo gestionar y superar los miedos. \nEl miedo es una de las emociones más básicas del ser humano. Es una emoción que cumple el papel fundamental de la supervivencia. Si viviéramos sin miedo\, viviríamos de forma tan temeraria que pondríamos en peligro nuestra vida. El miedo tiene una utilidad muy importante en nuestra vida\, pero nuestro gran problema con el miedo\, es que convivimos con miedos disfuncionales que hay que saber gestionar y superar. \nTítulo: Los miedos: cómo gestionarlos y superarlos \nConferenciante: Aniceto Masferrer. Catedrático de Historia del Derecho y cofundador de Free Thinkers. \nDía: Jueves\, 21 de marzo de 2024 \nHora: 19.30 horas \nLugar: Hall Colonial \nEntrada libre y gratuita hasta completar aforo. \nCartel:
URL:https://historico.ateneovalencia.es/evento/sensus-communis-los-miedos-como-gestionarlos-y-superarlos/
LOCATION:Hall Restaurante - Ateneo Mercantil de Valencia\, Plaza del Ayuntamiento\, 18\, Valencia\, España\, Valencia\, Valencia\, 46002\, España
CATEGORIES:Sensus Communis
ATTACH;FMTTYPE=image/jpeg:https://historico.ateneovalencia.es/wp-content/uploads/2024/03/20240321-Sensus-Communis-El-Miedo.jpg
END:VEVENT
END:VCALENDAR