BEGIN:VCALENDAR
VERSION:2.0
PRODID:-//Ateneo Mercantil de Valencia - ECPv6.0.4//NONSGML v1.0//EN
CALSCALE:GREGORIAN
METHOD:PUBLISH
X-ORIGINAL-URL:https://historico.ateneovalencia.es
X-WR-CALDESC:Eventos para Ateneo Mercantil de Valencia
REFRESH-INTERVAL;VALUE=DURATION:PT1H
X-Robots-Tag:noindex
X-PUBLISHED-TTL:PT1H
BEGIN:VTIMEZONE
TZID:Europe/Madrid
BEGIN:DAYLIGHT
TZOFFSETFROM:+0100
TZOFFSETTO:+0200
TZNAME:CEST
DTSTART:20230326T010000
END:DAYLIGHT
BEGIN:STANDARD
TZOFFSETFROM:+0200
TZOFFSETTO:+0100
TZNAME:CET
DTSTART:20231029T010000
END:STANDARD
END:VTIMEZONE
BEGIN:VEVENT
DTSTART;TZID=Europe/Madrid:20230111T193000
DTEND;TZID=Europe/Madrid:20230111T203000
DTSTAMP:20260421T214253
CREATED:20230109T101820Z
LAST-MODIFIED:20230109T101822Z
UID:72599-1673465400-1673469000@historico.ateneovalencia.es
SUMMARY:Sensus Communis: "El proyecto de tu vida y la vida en tu proyecto"
DESCRIPTION:El Foro Sensus Communis del Ateneo Mercantil y el Foro Universitas de Análisis Social traen el próximo miércoles 11 de enero de 2023 la primera reunión del año en la que se tratará un tema sobre compromiso social. En España hay más de 50.000 niños tutelados por la Administración y unos 20.000 son apartados de sus padres cada año. Cuando estos niños enferman\, se enfrentan a solas a los ingresos hospitalarios. La iniciativa "Mamás en Acción" trabaja para que estos pequeños\, que ya de por sí viven situaciones complicadas\, no sufran la falta de afecto y cariño en esos momentos críticos de su niñez que podrían dejarles hondas heridas emocionales. \nBajo el título "El proyecto de tu vida y la vida en tu proyecto"\, la ponente Majo Gimeno\, CEO de Mamás en Acción\, nos traerá esta historia tan ejemplar como bonita. Majo Gimeno es el alma\, la voz y el origen de un proyectazo llamado Mamás en Acción\, que ha conseguido su objetivo: que en Valencia no haya niños solos en un hospital\, que haya sido la primera ciudad de España en conseguirlo. Un proyecto que tiene detrás a un millar de voluntarias que\, en diez minutos\, cubren los turnos para acompañar durante las 24 horas del día a nuestros niños y niñas. Un proyecto al que Majo ha entregado mucho de sí misma. \nTítulo: "El proyecto de tu vida y la vida en tu proyecto" \nConferenciante: Majo Gimeno \nFecha: Miércoles 11 de enero de 2023 \nHora: 19.30 horas \nSalón: Salón Sorolla \nEntrada gratuita y libre hasta completar aforo del salón. \nCurriculum de Majo Gimeno:\nLigada al ecosistema emprendedor español desde 2008\, Majo Gimeno es la fundadora y CEO de Mamás en Acción\, organización que creó en 2013 para cubrir las necesidades afectivas de los más de 50.000 niños enfermos y solos en los hospitales de España. Actualmente\, con una comunidad de más de 3000 personas y expandiéndose por todos los hospitales del país\, empiezan su andadura en Europa y Latinoamérica. \nEl impacto de su trabajo ha demostrado\, científicamente\, que son capaces de transformar patrones de conducta. Este método\, que transforma a las personas a mejor\, tiene el mismo efecto en adultos\, colectivos y organizaciones. Majo comparte esta visión con líderes\, emprendedores\, empresarios\, colectivos y público en general con el único fin de crear un mundo mejor. \nCartel:\n \n 
URL:https://historico.ateneovalencia.es/evento/sensus-communis-el-proyecto-de-tu-vida-y-la-vida-en-tu-proyecto/
LOCATION:Salón Sorolla - Ateneo Mercantil de Valencia\, Plaza del Ayuntamiento 18\, Valencia\, Valencia\, 46002\, España
CATEGORIES:Sensus Communis
ATTACH;FMTTYPE=image/jpeg:https://historico.ateneovalencia.es/wp-content/uploads/2023/01/20230111-Sensus-Communis-Proyecto-de-Vida.jpg
END:VEVENT
END:VCALENDAR