BEGIN:VCALENDAR
VERSION:2.0
PRODID:-//Ateneo Mercantil de Valencia - ECPv6.0.4//NONSGML v1.0//EN
CALSCALE:GREGORIAN
METHOD:PUBLISH
X-ORIGINAL-URL:https://historico.ateneovalencia.es
X-WR-CALDESC:Eventos para Ateneo Mercantil de Valencia
REFRESH-INTERVAL;VALUE=DURATION:PT1H
X-Robots-Tag:noindex
X-PUBLISHED-TTL:PT1H
BEGIN:VTIMEZONE
TZID:Europe/Madrid
BEGIN:DAYLIGHT
TZOFFSETFROM:+0100
TZOFFSETTO:+0200
TZNAME:CEST
DTSTART:20220327T010000
END:DAYLIGHT
BEGIN:STANDARD
TZOFFSETFROM:+0200
TZOFFSETTO:+0100
TZNAME:CET
DTSTART:20221030T010000
END:STANDARD
END:VTIMEZONE
BEGIN:VEVENT
DTSTART;TZID=Europe/Madrid:20220630T190000
DTEND;TZID=Europe/Madrid:20220630T203000
DTSTAMP:20260423T020411
CREATED:20220626T065000Z
LAST-MODIFIED:20220626T065003Z
UID:70626-1656615600-1656621000@historico.ateneovalencia.es
SUMMARY:Sensus Communis: "La OTAN\, España y el futuro"
DESCRIPTION:El Foro Sensus Communis se despide antes de las vacaciones de verano con una ponencia y un posterior debate que tratará sobre un tema de enorme actualidad estas semanas en España\, ya que el 29 y el 30 de junio se celebra la Cumbre de la OTAN en nuestro país. Madrid acogerá esta reunión clave que arcará el futuro de la organización en las próximas décadas. Un encuentro que se celebra en la capital española en conmemoración de los 40 años de la adhesión de nuestro país a la Alianza Atlántica. \nLa ponencia llega bajo el título "La OTAN\, España y el futuro" y la persona invitada para dar la conferencia es el Teniente General Jefe del Cuartel General Terrestre de Alta Disponibilidad de la OTAN en Bétera (Valencia)\, D. Fernando García-Vaquero Pradal. El presentador y coordinador del Foro Sensus Communis será el Dr. Carlos Climent. \nEl propio secretario general de la Alianza Atlántica\, Jens Stoltenberg\, reconoció estos días que la cita de Madrid se produce en un momento crucial y que será transformadora\, ya que se tratarán temas como la invasión de Rusia a Ucrania\, la adhesión de Finlandia y Suecia o la estrategia para la próxima década. \nA la cumbre acudirán delegaciones de los 40 países participantes\, reunirá a más de 5.000 personas\, entre los que se encuentran algunos de los principales líderes mundiales. \nCartel:
URL:https://historico.ateneovalencia.es/evento/sensus-communis-la-otan-espana-y-el-futuro/
LOCATION:Salón Sorolla - Ateneo Mercantil de Valencia\, Plaza del Ayuntamiento 18\, Valencia\, Valencia\, 46002\, España
CATEGORIES:Sensus Communis
ATTACH;FMTTYPE=image/jpeg:https://historico.ateneovalencia.es/wp-content/uploads/2022/06/20220630-OTAN-y-España.jpg
END:VEVENT
END:VCALENDAR