BEGIN:VCALENDAR
VERSION:2.0
PRODID:-//Ateneo Mercantil de Valencia - ECPv6.0.4//NONSGML v1.0//EN
CALSCALE:GREGORIAN
METHOD:PUBLISH
X-ORIGINAL-URL:https://historico.ateneovalencia.es
X-WR-CALDESC:Eventos para Ateneo Mercantil de Valencia
REFRESH-INTERVAL;VALUE=DURATION:PT1H
X-Robots-Tag:noindex
X-PUBLISHED-TTL:PT1H
BEGIN:VTIMEZONE
TZID:Europe/Madrid
BEGIN:DAYLIGHT
TZOFFSETFROM:+0100
TZOFFSETTO:+0200
TZNAME:CEST
DTSTART:20220327T010000
END:DAYLIGHT
BEGIN:STANDARD
TZOFFSETFROM:+0200
TZOFFSETTO:+0100
TZNAME:CET
DTSTART:20221030T010000
END:STANDARD
END:VTIMEZONE
BEGIN:VEVENT
DTSTART;TZID=Europe/Madrid:20220615T190000
DTEND;TZID=Europe/Madrid:20220615T203000
DTSTAMP:20260423T013849
CREATED:20220611T110545Z
LAST-MODIFIED:20220611T111111Z
UID:70400-1655319600-1655325000@historico.ateneovalencia.es
SUMMARY:Sensus Communis: "¿Para qué se utilizan los paraísos fiscales?"
DESCRIPTION:El Foro Sensus Communis regresa el próximo miércoles 15 de junio a las 19 horas en el Salón Sorolla para hablarnos de nuevo sobre los paraísos fiscales\, aunque en esta ocasión la conferencia y posterior debate incidirá exclusivamente en para qué se utilizan estos países o territorios de tributación muy reducida o nula. El ponente será el Inspector de Hacienda y profesor\, José María Peláez Martos. La conferencia y posterior debate llega bajo el título: "¿Para que se utilizan los paraísos fiscales?". El coordinador y presentador será el Dr. Carlos Climent. \nEnlace para la conferencia Online: https://us06web.zoom.us/j/82490607281\nEn ests paraísos la normativa fiscal es muy flexible\, hay una coexistencia con diferente normativa para inversores extranjeros y residentes\, la opacidad es evidente ya que los propietarios de las sociedades no tiene que figurar en Registros Públicos\, pueden estar representados por testaferros\, no hay intercambio de información con otros países y existe una normativa estricta sobre el secreto bancario. Cada vez es más habitual la aparición y consolidación de las "sociedades offshore". \nEn definitiva la finalidad de los paraísos fiscales es clara: ahorrar en impuestos pues normalmente tan sólo tienen que hacer frente a una licencia. Tener dinero en un paraíso fiscal o crear una sociedad offshore no es ilegal. Lo que constituye un delito es la elusión del pago de impuestos. \nCartel:
URL:https://historico.ateneovalencia.es/evento/sensus-communis-para-que-se-utilizan-los-paraisos-fiscales/
LOCATION:Salón Sorolla - Ateneo Mercantil de Valencia\, Plaza del Ayuntamiento 18\, Valencia\, Valencia\, 46002\, España
CATEGORIES:Sensus Communis
ATTACH;FMTTYPE=image/jpeg:https://historico.ateneovalencia.es/wp-content/uploads/2022/06/20220615-Sensus-Communis-Uso-Paraisos-Fiscales.jpg
END:VEVENT
END:VCALENDAR