BEGIN:VCALENDAR
VERSION:2.0
PRODID:-//Ateneo Mercantil de Valencia - ECPv6.0.4//NONSGML v1.0//EN
CALSCALE:GREGORIAN
METHOD:PUBLISH
X-ORIGINAL-URL:https://historico.ateneovalencia.es
X-WR-CALDESC:Eventos para Ateneo Mercantil de Valencia
REFRESH-INTERVAL;VALUE=DURATION:PT1H
X-Robots-Tag:noindex
X-PUBLISHED-TTL:PT1H
BEGIN:VTIMEZONE
TZID:Europe/Madrid
BEGIN:DAYLIGHT
TZOFFSETFROM:+0100
TZOFFSETTO:+0200
TZNAME:CEST
DTSTART:20220327T010000
END:DAYLIGHT
BEGIN:STANDARD
TZOFFSETFROM:+0200
TZOFFSETTO:+0100
TZNAME:CET
DTSTART:20221030T010000
END:STANDARD
END:VTIMEZONE
BEGIN:VEVENT
DTSTART;TZID=Europe/Madrid:20220323T190000
DTEND;TZID=Europe/Madrid:20220323T203000
DTSTAMP:20260423T051500
CREATED:20220315T100753Z
LAST-MODIFIED:20220322T105912Z
UID:68701-1648062000-1648067400@historico.ateneovalencia.es
SUMMARY:Sensus Communis: "¿Cómo nos está cambiando la guerra de Ucrania?"
DESCRIPTION:El Foro Sensus Communis se vuelve a reunir el próximo miércoles 23 de marzo a las 19 horas en la Sala de Exposiciones. Una sesión que será presencial y online\, ya que los presentadores serán el Prof. Dr. Chris Skowronski\, Profesor en el Departamento de Estudios Culturales de la Universidad de Opole\, y Manager de asuntos científicos del Berlin Practical Philosophy International Forum y el Dr. Carlos Climent\, Vicepresidente de la Fundación del Ateneo Mercantil de CV. \nEnlace para la conferencia Online: https://us06web.zoom.us/j/88675206842\n\nEl debate será entorno a la guerra de Ucrania y cómo repercute en los ciudadanos europeos. "¿Cómo nos está cambiando la guerra de Ucrania?"\, un problema de actualidad ya que\, aunque hemos visto como la Unión Europea ha unificado al máximo sus posturas y han trabajado codo con codo todos los países\, pero económicamente\, el conflicto\, está repercutiendo en la sociedad con una inflación disparada\, con la luz\, la gasolina y el gas por las nubes\, además\, de un posible futuro desabastecimiento de productos básicos alimenticios. En otro plano está la cada vez más militarización de los paises europeos. \nCartel:
URL:https://historico.ateneovalencia.es/evento/sensus-communis-como-nos-esta-cambiando-la-guerra-de-ucrania/
LOCATION:Sala de Exposiciones - Ateneo Mercantil de Valencia\, Plaza del Ayuntamiento\, 18\, Valencia\, España\, Valencia\, Valencia\, 46002\, España
CATEGORIES:Sensus Communis
ATTACH;FMTTYPE=image/jpeg:https://historico.ateneovalencia.es/wp-content/uploads/2022/03/20220323-Sensus-Communis-Cambios-Guerra-Ucrania.jpg
END:VEVENT
END:VCALENDAR