BEGIN:VCALENDAR
VERSION:2.0
PRODID:-//Ateneo Mercantil de Valencia - ECPv6.0.4//NONSGML v1.0//EN
CALSCALE:GREGORIAN
METHOD:PUBLISH
X-WR-CALNAME:Ateneo Mercantil de Valencia
X-ORIGINAL-URL:https://historico.ateneovalencia.es
X-WR-CALDESC:Eventos para Ateneo Mercantil de Valencia
REFRESH-INTERVAL;VALUE=DURATION:PT1H
X-Robots-Tag:noindex
X-PUBLISHED-TTL:PT1H
BEGIN:VTIMEZONE
TZID:Europe/Madrid
BEGIN:DAYLIGHT
TZOFFSETFROM:+0100
TZOFFSETTO:+0200
TZNAME:CEST
DTSTART:20220327T010000
END:DAYLIGHT
BEGIN:STANDARD
TZOFFSETFROM:+0200
TZOFFSETTO:+0100
TZNAME:CET
DTSTART:20221030T010000
END:STANDARD
END:VTIMEZONE
BEGIN:VEVENT
DTSTART;TZID=Europe/Madrid:20220216T193000
DTEND;TZID=Europe/Madrid:20220216T210000
DTSTAMP:20260423T065343
CREATED:20220201T224520Z
LAST-MODIFIED:20220201T224541Z
UID:66809-1645039800-1645045200@historico.ateneovalencia.es
SUMMARY:Sensus Communis: "Transparencia y corrupción pública"
DESCRIPTION:El Foro Sensus Communis vuelve a reunirse el próximo miércoles 16 de febrero a las 19.30 horas en el Salón Sorolla para debatir sobre un tema de enorme vigencia como es el de la corrupción. La conferencia llega bajo el título "Transparencia y corrupción pública" que ofrecerá el Catedrático de Derecho Constitucional por la Universitat de València\, el Prof. Dr. Lorenzo Cotino Hueso. El coordinador del acto será el también Dr. Carlos Climent\, vicepresidente de la Fundación del Ateneo Mercantil de Valencia. \nEn 2021 España no progresa en la lucha contra la corrupción y baja un punto y dos puestos en el ranking del Índice de Percepción de la Corrupción. Con esta calificación\, España ocupa la posición 34/180 del ranking global del IPC\, junto con Lituania. Por otro lado\, se ubica en el puesto número 14/27 de la Unión Europea. Esta bajada de un punto tanto a nivel mundial como en Europa no es significativa\, pero refleja que sigue latente en España un nivel de corrupción que incide en el buen funcionamiento de las instituciones democráticas\, y que requiere una llamada a la acción a las autoridades públicas\, al sector privado y a la sociedad civil. Y\, sobre todo\, cuando la economía española está entre las 15 más importantes del mundo.   \nReducir la corrupción es fundamental para garantizar la integridad política y el buen funcionamiento de las instituciones democráticas. Para que la lucha contra la corrupción no se estanque y se deteriore\, se está trabajando hacia la transparencia 4.0\, el uso de la inteligencia artificial y big data para la lucha contra el fraude y la corrupción y las (muchas) exigencias constitucionales. \nCurriculum de Lorenzo Cotino:\nCatedrático de Derecho Constitucional de la Universitat de Valencia\, Magistrado del TSJ Comunidad Valenciana del 2000 al 2019\, vocal Consejo de Transparencia C. Valenciana desde 2015. Doctor y licenciado en Derecho por la Universitat de València\, Máster en Derechos Fundamentales (ESADE\, Barcelona)\, Licenciado y Diplomado de Estudios Avanzados de Ciencias políticas (UNED). \nHa recibido premios de investigación nacionales (INAP\, Ministerio de Defensa\, Ejército Extraordinario de Doctorado). Profesor invitado en Konstanz (Alemania) desde 2004 y de diversas universidades colombianas (Prof. Honorario Universidad Nacional de Colombia)\, y estancias de investigación también en Utrech y Virginia. \nHa escrito 10 libros y coordinado 14 más\, es autor de 134 artículos científicos o capítulos de libro y 370 ponencias o comunicaciones. Ha dirigido cinco proyectos de investigación nacionales sobre libertad en internet\, e-Administración\, transparencia y participación\, Derecho de las nuevas tecnologías transformación digital e inteligencia artificial. También es especialista en Derecho de seguridad y educación\, sobre lo que versan varios libros y publicaciones. \nDesde 2020 es Director de privacidad y derechos de OdiseIA. Desde 2004 coordina la Asociación Nacional Red de especialistas en Derecho de las nuevas tecnologías de la información y comunicación www.derechotics.com\, y desde 2019 es cofundador de la Red DAIA (Derecho Administrativo de la Inteligencia artificial). \nCartel:
URL:https://historico.ateneovalencia.es/evento/sensus-communis-transparencia-y-corrupcion-publica/
LOCATION:Salón Sorolla - Ateneo Mercantil de Valencia\, Plaza del Ayuntamiento 18\, Valencia\, Valencia\, 46002\, España
CATEGORIES:Sensus Communis
ATTACH;FMTTYPE=image/jpeg:https://historico.ateneovalencia.es/wp-content/uploads/2022/02/20220216-Sensus-Communis-Transparencia.jpg
END:VEVENT
END:VCALENDAR