BEGIN:VCALENDAR
VERSION:2.0
PRODID:-//Ateneo Mercantil de Valencia - ECPv6.0.4//NONSGML v1.0//EN
CALSCALE:GREGORIAN
METHOD:PUBLISH
X-ORIGINAL-URL:https://historico.ateneovalencia.es
X-WR-CALDESC:Eventos para Ateneo Mercantil de Valencia
REFRESH-INTERVAL;VALUE=DURATION:PT1H
X-Robots-Tag:noindex
X-PUBLISHED-TTL:PT1H
BEGIN:VTIMEZONE
TZID:Europe/Madrid
BEGIN:DAYLIGHT
TZOFFSETFROM:+0100
TZOFFSETTO:+0200
TZNAME:CEST
DTSTART:20220327T010000
END:DAYLIGHT
BEGIN:STANDARD
TZOFFSETFROM:+0200
TZOFFSETTO:+0100
TZNAME:CET
DTSTART:20221030T010000
END:STANDARD
END:VTIMEZONE
BEGIN:VEVENT
DTSTART;TZID=Europe/Madrid:20220209T190000
DTEND;TZID=Europe/Madrid:20220209T203000
DTSTAMP:20260423T065447
CREATED:20220201T192510Z
LAST-MODIFIED:20220201T192510Z
UID:66805-1644433200-1644438600@historico.ateneovalencia.es
SUMMARY:Sensus Communis: "Por qué visitamos cada vez más a los psicólogos y psiquiatras"
DESCRIPTION:El Foro Sensus Communis se vuelve a reunir el próximo miércoles 9 de febrero a las 19 horas en el Salón Sorolla. Una sesión que será presencial y online\, ya que los presentadores serán el Prof. Dr. Chris Skowronski\, Profesor en el Departamento de Estudios Culturales de la Universidad de Opole\, y Manager de asuntos científicos del Berlin Practical Philosophy International Forum y el Dr. Carlos Climent\, Vicepresidente de la Fundación del Ateneo Mercantil de CV. El debate será entorno a "Por qué visitamos cada vez más a los psicólogos y psiquiatras"\, un problema de actualidad ya que cada vez más personas buscan la ayuda de profesionales para tener una buena salud mental. \nEnlace para la conferencia Online: https://us06web.zoom.us/j/87937939284\n\nLa salud mental es un aspecto al que\, en ocasiones\, no damos toda la importancia que necesita. Sin embargo\, para tener una buena calidad de vida es muy importante saber cuándo debemos acudir a un profesional que nos ayude a gestionar y sanar nuestras emociones y/o comportamientos. Contar con la posibilidad de tener un psicólogo o un psiquiatra al alcance de la mano puede ayudarnos a tener una buena salud mental. \nEl ritmo de vida que nos impone la sociedad actual ha elevado la depresión y el estrés a las posiciones más altas de las estadísticas de enfermedades que causan baja laboral. Además\, la pandemia sanitaria de la Covid-19 y las restricciones sociales han provocado que las personas\, y cada vez más jóvenes\, tengan conductas depresivas que pueden incluso llevar a las autolesiones o el suicidio\, por eso hay que acudir a los profesionales en busca de ayuda. \nCartel:
URL:https://historico.ateneovalencia.es/evento/sensus-communis-por-que-visitamos-cada-vez-a-los-psicologos-y-psiquiatras/
LOCATION:Salón Sorolla - Ateneo Mercantil de Valencia\, Plaza del Ayuntamiento 18\, Valencia\, Valencia\, 46002\, España
CATEGORIES:Sensus Communis
ATTACH;FMTTYPE=image/jpeg:https://historico.ateneovalencia.es/wp-content/uploads/2022/02/20220209-Sensus-Communis-Psicologos-Psiquiatras.jpg
END:VEVENT
END:VCALENDAR