BEGIN:VCALENDAR
VERSION:2.0
PRODID:-//Ateneo Mercantil de Valencia - ECPv6.0.4//NONSGML v1.0//EN
CALSCALE:GREGORIAN
METHOD:PUBLISH
X-WR-CALNAME:Ateneo Mercantil de Valencia
X-ORIGINAL-URL:https://historico.ateneovalencia.es
X-WR-CALDESC:Eventos para Ateneo Mercantil de Valencia
REFRESH-INTERVAL;VALUE=DURATION:PT1H
X-Robots-Tag:noindex
X-PUBLISHED-TTL:PT1H
BEGIN:VTIMEZONE
TZID:Europe/Madrid
BEGIN:DAYLIGHT
TZOFFSETFROM:+0100
TZOFFSETTO:+0200
TZNAME:CEST
DTSTART:20210328T010000
END:DAYLIGHT
BEGIN:STANDARD
TZOFFSETFROM:+0200
TZOFFSETTO:+0100
TZNAME:CET
DTSTART:20211031T010000
END:STANDARD
END:VTIMEZONE
BEGIN:VEVENT
DTSTART;TZID=Europe/Madrid:20211020T193000
DTEND;TZID=Europe/Madrid:20211020T210000
DTSTAMP:20260423T175229
CREATED:20211008T091904Z
LAST-MODIFIED:20211016T041447Z
UID:65156-1634758200-1634763600@historico.ateneovalencia.es
SUMMARY:Sensus Communis: "Lo que quiero llegar a ser: proyecto personal y relaciones humanas"
DESCRIPTION:El Foro Sensus Communis regresa al Ateneo Mercantil el próximo miércoles 20 de octubre a las 19.30 horas en el Salón Sorolla con la segunda conferencia del Ciclo Cómo vivir siendo uno mismo que organizan el Foro Sensus Communis junto al Foro Universitas de Análisis Social y que llega bajo el título "Lo que quiero llegar a ser: proyecto personal y relaciones humanas". El ponente será Aniceto Masferrer que es Catedrático de Historia del Derecho y de las Instituciones en la Universitat de València. \nCartel:
URL:https://historico.ateneovalencia.es/evento/sensus-communis-lo-que-quiero-llegar-a-ser-proyecto-personal-y-relaciones-humanas/
LOCATION:Salón Sorolla - Ateneo Mercantil de Valencia\, Plaza del Ayuntamiento 18\, Valencia\, Valencia\, 46002\, España
CATEGORIES:Sensus Communis
ATTACH;FMTTYPE=image/jpeg:https://historico.ateneovalencia.es/wp-content/uploads/2021/10/20211020-SENSUS-COMMUNIS-RELACIONES-PERSONALES.jpg
END:VEVENT
END:VCALENDAR