BEGIN:VCALENDAR
VERSION:2.0
PRODID:-//Ateneo Mercantil de Valencia - ECPv6.0.4//NONSGML v1.0//EN
CALSCALE:GREGORIAN
METHOD:PUBLISH
X-WR-CALNAME:Ateneo Mercantil de Valencia
X-ORIGINAL-URL:https://historico.ateneovalencia.es
X-WR-CALDESC:Eventos para Ateneo Mercantil de Valencia
REFRESH-INTERVAL;VALUE=DURATION:PT1H
X-Robots-Tag:noindex
X-PUBLISHED-TTL:PT1H
BEGIN:VTIMEZONE
TZID:Europe/Madrid
BEGIN:DAYLIGHT
TZOFFSETFROM:+0100
TZOFFSETTO:+0200
TZNAME:CEST
DTSTART:20210328T010000
END:DAYLIGHT
BEGIN:STANDARD
TZOFFSETFROM:+0200
TZOFFSETTO:+0100
TZNAME:CET
DTSTART:20211031T010000
END:STANDARD
END:VTIMEZONE
BEGIN:VEVENT
DTSTART;TZID=Europe/Madrid:20210714T190000
DTEND;TZID=Europe/Madrid:20210714T203000
DTSTAMP:20260424T002554
CREATED:20210702T101819Z
LAST-MODIFIED:20210707T115816Z
UID:64505-1626289200-1626294600@historico.ateneovalencia.es
SUMMARY:Foro Sensus Communis: "La nueva regulación de la Eutanasia"
DESCRIPTION:El Foro Sensus Communis se despide con una conferencia el próximo miércoles 14 de julio a las 19 horas en el Salón Sorolla en la que se abordará un tema de actualidad y que ha levantado cierta polémica entre varios sectores de la población como es el de la Eutanasia. Bajo el título "La nueva regulación de la Eutanasia"\, el foro contará con la presencia del Prof. Dr. Vicente Bellver Capella\, que es catedrático de Filosofía del Derecho y Filosofía Política y Director del Departamento de Filosofía del Derecho y de la Política de la Universitat de València. Una ponencia que tan sólo podrá seguirse de manera presencial. \nSe puede defender la eutanasia por muchas razones\, pero no resulta evidente que pueda ser defendida como un derecho. Que la la Ley Orgánica 3/2021\, de 24 de marzo\, que regulariza la eutanasia\, se ha presentado como un derecho y eso hace sospechar que\, para convencer a la opinión pública sobre algo extraordinariamente problemático\, se haya optado por el recurso fácil de cubrirla con la bandera de los derechos. \nCartel:\n \n 
URL:https://historico.ateneovalencia.es/evento/foro-sensus-communis-eutanasia/
LOCATION:Salón Sorolla - Ateneo Mercantil de Valencia\, Plaza del Ayuntamiento 18\, Valencia\, Valencia\, 46002\, España
CATEGORIES:Sensus Communis
ATTACH;FMTTYPE=image/jpeg:https://historico.ateneovalencia.es/wp-content/uploads/2021/07/20210714-Sensus-Communis-Eutanasia.jpg
END:VEVENT
END:VCALENDAR