BEGIN:VCALENDAR
VERSION:2.0
PRODID:-//Ateneo Mercantil de Valencia - ECPv6.0.4//NONSGML v1.0//EN
CALSCALE:GREGORIAN
METHOD:PUBLISH
X-ORIGINAL-URL:https://historico.ateneovalencia.es
X-WR-CALDESC:Eventos para Ateneo Mercantil de Valencia
REFRESH-INTERVAL;VALUE=DURATION:PT1H
X-Robots-Tag:noindex
X-PUBLISHED-TTL:PT1H
BEGIN:VTIMEZONE
TZID:Europe/Madrid
BEGIN:DAYLIGHT
TZOFFSETFROM:+0100
TZOFFSETTO:+0200
TZNAME:CEST
DTSTART:20210328T010000
END:DAYLIGHT
BEGIN:STANDARD
TZOFFSETFROM:+0200
TZOFFSETTO:+0100
TZNAME:CET
DTSTART:20211031T010000
END:STANDARD
END:VTIMEZONE
BEGIN:VEVENT
DTSTART;TZID=Europe/Madrid:20210707T193000
DTEND;TZID=Europe/Madrid:20210707T210000
DTSTAMP:20260424T002603
CREATED:20210702T110124Z
LAST-MODIFIED:20210702T110124Z
UID:64509-1625686200-1625691600@historico.ateneovalencia.es
SUMMARY:Ciclo Jóvenes Profesionales: “Mi experiencia como Shift Manager en Amazon”
DESCRIPTION:El próximo miércoles 7 de julio a las 19.30 horas llega al Salón Sorolla una nueva reunión del Ciclo ‘Cómo afrontar los inicios de la vida profesional en la era post-Covid19’ que organizan el Foro Sensus Communis del Ateneo Mercantil y el Foro Universitas de Análisis Social. Una reunión dirigida a jóvenes entre los 20 y los 35 años que llega bajo el título "Mi experiencia como Shift Manager en Amazon" y estará dirigida por la Shift Manager en Amazon Madrid\, D. Ignacio Sánchez-Ferragut. \nSi te interesa conocer de cerca el trabajo de un Shift Manager en Amazon no puedes perderte esta conferencia. Hay pros y contras\, como la conciliación familiar y la promoción interna\, pero si eres inteligente\, trabajador y sabes moverte\, es un puesto de trabajo en el que puedes ganar responsabilidad de forma rápida. Además\, te dan un equipo de 10-20 personas para gestionar y eso es un reto en sí mismo. Te esperamos. \nCartel:
URL:https://historico.ateneovalencia.es/evento/ciclo-jovenes-profesionales-mi-experiencia-como-shift-manager-en-amazon/
LOCATION:Salón Sorolla - Ateneo Mercantil de Valencia\, Plaza del Ayuntamiento 18\, Valencia\, Valencia\, 46002\, España
CATEGORIES:Sensus Communis
ATTACH;FMTTYPE=image/jpeg:https://historico.ateneovalencia.es/wp-content/uploads/2021/07/20210707-Amazon.jpg
END:VEVENT
END:VCALENDAR