BEGIN:VCALENDAR
VERSION:2.0
PRODID:-//Ateneo Mercantil de Valencia - ECPv6.0.4//NONSGML v1.0//EN
CALSCALE:GREGORIAN
METHOD:PUBLISH
X-ORIGINAL-URL:https://historico.ateneovalencia.es
X-WR-CALDESC:Eventos para Ateneo Mercantil de Valencia
REFRESH-INTERVAL;VALUE=DURATION:PT1H
X-Robots-Tag:noindex
X-PUBLISHED-TTL:PT1H
BEGIN:VTIMEZONE
TZID:Europe/Madrid
BEGIN:DAYLIGHT
TZOFFSETFROM:+0100
TZOFFSETTO:+0200
TZNAME:CEST
DTSTART:20210328T010000
END:DAYLIGHT
BEGIN:STANDARD
TZOFFSETFROM:+0200
TZOFFSETTO:+0100
TZNAME:CET
DTSTART:20211031T010000
END:STANDARD
END:VTIMEZONE
BEGIN:VEVENT
DTSTART;TZID=Europe/Madrid:20210701T190000
DTEND;TZID=Europe/Madrid:20210701T203000
DTSTAMP:20260424T002603
CREATED:20210616T161238Z
LAST-MODIFIED:20210628T160344Z
UID:64381-1625166000-1625171400@historico.ateneovalencia.es
SUMMARY:Sensus Communis: “El pluralismo cultural”
DESCRIPTION:El Foro Sensus Communis se reúne el próximo jueves 1 de julio a las 19 horas en el Salón Stolz del Ateneo Mercantil de Valencia para realizar una conferencia que llega bajo el título "El pluralismo cultural" y que contará con la presencia del Prof. Dr. Chris Skowronski\, profesor del Departamento de Estudios Culturales de la Universidad de Opole y Maneger del Berlin Practical Philosophy International Forum e. V. La conferencia se retransmitirá por Zoom y Facebook Live.\n \nEnlace para la conferencia online: https://zoom.us/j/93465962326\nEl pluralismo cultural es un término usado cuando los grupos más pequeños dentro de una sociedad más grande mantienen sus identidades culturales únicas\, y sus valores y prácticas son aceptados por la cultura más amplia siempre que sean consistentes con las leyes y valores de la sociedad en general. Como término sociológico\, la definición y descripción del pluralismo cultural ha evolucionado a lo largo del tiempo. Se ha descrito no sólo como un hecho sino como un objetivo social. \n​ El pluralismo cultural es distinto de (aunque a menudo se confunde con) el multiculturalismo. El multiculturalismo carece del requisito de una cultura dominante. Si la cultura dominante se debilita\, las sociedades pueden pasar fácilmente del pluralismo cultural al multiculturalismo sin que la sociedad tome pasos intencionales. Si las comunidades funcionan separadamente unas de otras o compiten entre sí\, no se consideran culturalmente pluralistas. \nCartel:
URL:https://historico.ateneovalencia.es/evento/el-pluralismo-cultural/
LOCATION:Salón Stolz - Ateneo Mercantil de Valencia\, Plaza del Ayuntamiento\, 18\, Valencia\, España\, Valencia\, Valencia\, 46002\, España
CATEGORIES:Sensus Communis
ATTACH;FMTTYPE=image/jpeg:https://historico.ateneovalencia.es/wp-content/uploads/2021/06/20210701-Sensus-Communis-Pluralismo-cultural.jpg
END:VEVENT
END:VCALENDAR