BEGIN:VCALENDAR
VERSION:2.0
PRODID:-//Ateneo Mercantil de Valencia - ECPv6.0.4//NONSGML v1.0//EN
CALSCALE:GREGORIAN
METHOD:PUBLISH
X-ORIGINAL-URL:https://historico.ateneovalencia.es
X-WR-CALDESC:Eventos para Ateneo Mercantil de Valencia
REFRESH-INTERVAL;VALUE=DURATION:PT1H
X-Robots-Tag:noindex
X-PUBLISHED-TTL:PT1H
BEGIN:VTIMEZONE
TZID:Europe/Madrid
BEGIN:DAYLIGHT
TZOFFSETFROM:+0100
TZOFFSETTO:+0200
TZNAME:CEST
DTSTART:20210328T010000
END:DAYLIGHT
BEGIN:STANDARD
TZOFFSETFROM:+0200
TZOFFSETTO:+0100
TZNAME:CET
DTSTART:20211031T010000
END:STANDARD
END:VTIMEZONE
BEGIN:VEVENT
DTSTART;TZID=Europe/Madrid:20210513T193000
DTEND;TZID=Europe/Madrid:20210513T210000
DTSTAMP:20260424T120037
CREATED:20210426T120844Z
LAST-MODIFIED:20210426T120844Z
UID:63522-1620934200-1620939600@historico.ateneovalencia.es
SUMMARY:Ciclo 'Cómo afrontar los inicios de la vida profesional en la era post-Covid19': "¿Es bueno trabajar?"
DESCRIPTION:El Foro Sensus Communis y el Foro Universitas de Análisis Social traen una reunión el próximo jueves 13 de mayo a las 19.30 horas en el Salón Sorolla del Ateneo Mercantil\, un encuentro presencial. En esta ocasión la conferencia está dirigida especialmente a jóvenes entre 20 y 35 años y se enmarca dentro del Ciclo 'Cómo afrontar los inicios de la vida profesional en la era post-Covid19'. \nEl título de la reunión es "¿Es bueno trabajar?" y el ponente especialista será el Prof. Dr. Ricardo Calleja Rovira\, que es Profesor de Ética Empresarial y de negociación en el IESE Business School. Doctor en Derecho por la Universidad Complutense de Madrid.  \nCartel:\n \n 
URL:https://historico.ateneovalencia.es/evento/ciclo-como-afrontar-los-inicios-de-la-vida-profesional-en-la-era-post-covid19-es-bueno-trabajar/
LOCATION:Salón Sorolla - Ateneo Mercantil de Valencia\, Plaza del Ayuntamiento 18\, Valencia\, Valencia\, 46002\, España
CATEGORIES:Sensus Communis
ATTACH;FMTTYPE=image/jpeg:https://historico.ateneovalencia.es/wp-content/uploads/2021/04/20210513-Foro-Sensus-Communis-Bueno-Trabajar.jpg
END:VEVENT
END:VCALENDAR