BEGIN:VCALENDAR
VERSION:2.0
PRODID:-//Ateneo Mercantil de Valencia - ECPv6.0.4//NONSGML v1.0//EN
CALSCALE:GREGORIAN
METHOD:PUBLISH
X-ORIGINAL-URL:https://historico.ateneovalencia.es
X-WR-CALDESC:Eventos para Ateneo Mercantil de Valencia
REFRESH-INTERVAL;VALUE=DURATION:PT1H
X-Robots-Tag:noindex
X-PUBLISHED-TTL:PT1H
BEGIN:VTIMEZONE
TZID:Europe/Madrid
BEGIN:DAYLIGHT
TZOFFSETFROM:+0100
TZOFFSETTO:+0200
TZNAME:CEST
DTSTART:20210328T010000
END:DAYLIGHT
BEGIN:STANDARD
TZOFFSETFROM:+0200
TZOFFSETTO:+0100
TZNAME:CET
DTSTART:20211031T010000
END:STANDARD
END:VTIMEZONE
BEGIN:VEVENT
DTSTART;TZID=Europe/Madrid:20210415T193000
DTEND;TZID=Europe/Madrid:20210415T210000
DTSTAMP:20260424T105101
CREATED:20201113T165744Z
LAST-MODIFIED:20210407T081609Z
UID:60853-1618515000-1618520400@historico.ateneovalencia.es
SUMMARY:Sensus Communis-Foro Universitas: "Customer experience: digitalización y personalización"
DESCRIPTION:El próximo jueves 15 de abril de 2021 a las 19.30 horas llega al Salón Sorolla una nueva reunión del Ciclo ‘Cómo afrontar los inicios de la vida profesional en la era post-Covid19’ que organizan el Foro Sensus Communis del Ateneo Mercantil y el Foro Universitas de Análisis Social. Una reunión dirigida a jóvenes entre los 20 y los 35 años que llega bajo el título "Customer experience: digitalización y personalización" y estará dirigida por la directora de Estrategia y Desarrollo de Negocio en Pangea\, the travel store\, Dª. Cristina Aznar Alonso. \nCartel:\n19
URL:https://historico.ateneovalencia.es/evento/sensus-communis-foro-universitas-customer-experience-digitalizacion-y-personalizacion/
LOCATION:Salón Sorolla - Ateneo Mercantil de Valencia\, Plaza del Ayuntamiento 18\, Valencia\, Valencia\, 46002\, España
CATEGORIES:Sensus Communis
ATTACH;FMTTYPE=image/jpeg:https://historico.ateneovalencia.es/wp-content/uploads/2020/11/20201123-Customer-experience.jpg
END:VEVENT
END:VCALENDAR