BEGIN:VCALENDAR
VERSION:2.0
PRODID:-//Ateneo Mercantil de Valencia - ECPv6.0.4//NONSGML v1.0//EN
CALSCALE:GREGORIAN
METHOD:PUBLISH
X-WR-CALNAME:Ateneo Mercantil de Valencia
X-ORIGINAL-URL:https://historico.ateneovalencia.es
X-WR-CALDESC:Eventos para Ateneo Mercantil de Valencia
REFRESH-INTERVAL;VALUE=DURATION:PT1H
X-Robots-Tag:noindex
X-PUBLISHED-TTL:PT1H
BEGIN:VTIMEZONE
TZID:Europe/Madrid
BEGIN:DAYLIGHT
TZOFFSETFROM:+0100
TZOFFSETTO:+0200
TZNAME:CEST
DTSTART:20210328T010000
END:DAYLIGHT
BEGIN:STANDARD
TZOFFSETFROM:+0200
TZOFFSETTO:+0100
TZNAME:CET
DTSTART:20211031T010000
END:STANDARD
END:VTIMEZONE
BEGIN:VEVENT
DTSTART;TZID=Europe/Madrid:20210329T190000
DTEND;TZID=Europe/Madrid:20210329T210000
DTSTAMP:20260424T092137
CREATED:20210325T132811Z
LAST-MODIFIED:20210325T133108Z
UID:63157-1617044400-1617051600@historico.ateneovalencia.es
SUMMARY:Sensus Communis-Foro Universitas: “POST-COVID: oposita que algo queda”
DESCRIPTION:El próximo lunes 29 de marzo de 2021 a las 19 horas llega una nueva reunión del Ciclo 'Cómo afrontar los inicios de la vida profesional en la era post-Covid19' que organizan el Foro Sensus Communis del Ateneo Mercantil y el Foro Universitas de Análisis Social. Una reunión online dirigida a jóvenes entre los 20 y los 35 años que llega bajo el título "POST-COVID: oposita que algo queda" y estará dirigida por la Notario de Simat de la Valldigna (Valencia)\, Dª. Mercedes Delgado Alcázar. \nEnlace para la conferencia online: https://zoom.us/j/94112202633\nCartel:
URL:https://historico.ateneovalencia.es/evento/sensus-communis-foro-universitas-post-covid-oposita-que-algo-queda/
LOCATION:On line
CATEGORIES:Sensus Communis
ATTACH;FMTTYPE=image/jpeg:https://historico.ateneovalencia.es/wp-content/uploads/2021/03/20210329-Ciclo-Jovenes-Sensus-Communis-Oposita.jpg
END:VEVENT
END:VCALENDAR