BEGIN:VCALENDAR
VERSION:2.0
PRODID:-//Ateneo Mercantil de Valencia - ECPv6.0.4//NONSGML v1.0//EN
CALSCALE:GREGORIAN
METHOD:PUBLISH
X-ORIGINAL-URL:https://historico.ateneovalencia.es
X-WR-CALDESC:Eventos para Ateneo Mercantil de Valencia
REFRESH-INTERVAL;VALUE=DURATION:PT1H
X-Robots-Tag:noindex
X-PUBLISHED-TTL:PT1H
BEGIN:VTIMEZONE
TZID:Europe/Madrid
BEGIN:DAYLIGHT
TZOFFSETFROM:+0100
TZOFFSETTO:+0200
TZNAME:CEST
DTSTART:20210328T010000
END:DAYLIGHT
BEGIN:STANDARD
TZOFFSETFROM:+0200
TZOFFSETTO:+0100
TZNAME:CET
DTSTART:20211031T010000
END:STANDARD
END:VTIMEZONE
BEGIN:VEVENT
DTSTART;TZID=Europe/Madrid:20210309T180000
DTEND;TZID=Europe/Madrid:20210309T193000
DTSTAMP:20260424T093403
CREATED:20210304T191657Z
LAST-MODIFIED:20210304T191657Z
UID:62841-1615312800-1615318200@historico.ateneovalencia.es
SUMMARY:“Rusia: el autoritarismo que vuelve\, en la superpotencia que nunca dejó de serlo”
DESCRIPTION:El Foro Sensus Communis se vuelve a reunir el próximo martes 9 de marzo a las 18 horas con una conferencia online que llega bajo el título "Rusia: el autoritarismo que vuelve\, en la superpotencia que nunca dejó de serlo" y el ponente será catedrático de Derecho Constitucional de la Universitat de València\, Prof. Dr. Carlos Flores Juberías. \nEnlace para la conferencia online: https://zoom.us/j/96401135250\n\nLa extinción de la antigua Unión Soviética supuso para la población rusa un notable trauma que planteó importantes retos nacionales\, como la reordenación de fronteras\, el colapso económico\, o el del Estado. Estos difíciles retos internos (que\, en muchos casos aún no han sido superados) se ven acrecentados por los dilemas a los que Rusia\, como potencia mundial\, debe hacer frente en el contexto internacional actual. La respuesta rusa a esta situación ha sido liderada por una nueva elite dirigente\, surgida del entramado de intereses del complejo militar-industrial generado durante el periodo soviético\, que ha llevado a Rusia a un amplio proceso de recuperación económica y fortalecimiento del poder del Estado. \nEl régimen de Putin ha restaurado el orden y recuperado el funcionamiento de la economía en Rusia\, devolviendo a sus ciudadanos el orgullo colectivo. Aunque persisten todavía serios problemas estructurales\, el futuro ruso se muestra así ahora de una forma mucho más optimista que hace tan sólo unos años. \nCartel:\n \n 
URL:https://historico.ateneovalencia.es/evento/rusia-el-autoritarismo-que-vuelve-en-la-superpotencia-que-nunca-dejo-de-serlo/
LOCATION:On line
CATEGORIES:Sensus Communis
ATTACH;FMTTYPE=image/jpeg:https://historico.ateneovalencia.es/wp-content/uploads/2021/03/20210309-Rusia-Sensus-Communis-.jpg
END:VEVENT
END:VCALENDAR