BEGIN:VCALENDAR
VERSION:2.0
PRODID:-//Ateneo Mercantil de Valencia - ECPv6.0.4//NONSGML v1.0//EN
CALSCALE:GREGORIAN
METHOD:PUBLISH
X-WR-CALNAME:Ateneo Mercantil de Valencia
X-ORIGINAL-URL:https://historico.ateneovalencia.es
X-WR-CALDESC:Eventos para Ateneo Mercantil de Valencia
REFRESH-INTERVAL;VALUE=DURATION:PT1H
X-Robots-Tag:noindex
X-PUBLISHED-TTL:PT1H
BEGIN:VTIMEZONE
TZID:Europe/Madrid
BEGIN:DAYLIGHT
TZOFFSETFROM:+0100
TZOFFSETTO:+0200
TZNAME:CEST
DTSTART:20210328T010000
END:DAYLIGHT
BEGIN:STANDARD
TZOFFSETFROM:+0200
TZOFFSETTO:+0100
TZNAME:CET
DTSTART:20211031T010000
END:STANDARD
END:VTIMEZONE
BEGIN:VEVENT
DTSTART;TZID=Europe/Madrid:20210217T180000
DTEND;TZID=Europe/Madrid:20210217T200000
DTSTAMP:20260424T121838
CREATED:20210112T134308Z
LAST-MODIFIED:20210113T085228Z
UID:61751-1613584800-1613592000@historico.ateneovalencia.es
SUMMARY:Sensus Communis: “Derechos de los animales: la última frontera”
DESCRIPTION:El Foro Sensus Communis llega con una nueva reunión el próximo miércoles 17 de febrero a las 18 horas en el Salón Stolz bajo el título "Derechos de los animales: la última frontera" que impartirá la Registradora de la propiedad\, investigadora\, doctora en Derecho y licenciada en Filosofía\, Dra. Virtudes Azpitarte. \nEnlace para la conferencia On line: https://zoom.us/j/97164656469\nNo todos los animales están protegidos ante un maltratador. Y es este hecho el que suscita una de las principales críticas que se hacen a la reciente reforma del Código Penal. Hablar de derechos de los animales puede suscitar en los estudiosos del Derecho un pero\, un apunte filosófico que\, si bien está cargado de razón\, no debe distraernos del objetivo que cada vez reclama más y más gente en nuestro país: proteger a los animales. \nCartel:\n \n 
URL:https://historico.ateneovalencia.es/evento/sensus-communis-derechos-de-los-animales-la-ultima-frontera/
LOCATION:Salón Stolz - Ateneo Mercantil de Valencia\, Plaza del Ayuntamiento\, 18\, Valencia\, España\, Valencia\, Valencia\, 46002\, España
CATEGORIES:Sensus Communis
ATTACH;FMTTYPE=image/jpeg:https://historico.ateneovalencia.es/wp-content/uploads/2021/01/20210217-Sensus-Communis-Derechos-Animales.jpg
END:VEVENT
END:VCALENDAR