BEGIN:VCALENDAR
VERSION:2.0
PRODID:-//Ateneo Mercantil de Valencia - ECPv6.0.4//NONSGML v1.0//EN
CALSCALE:GREGORIAN
METHOD:PUBLISH
X-WR-CALNAME:Ateneo Mercantil de Valencia
X-ORIGINAL-URL:https://historico.ateneovalencia.es
X-WR-CALDESC:Eventos para Ateneo Mercantil de Valencia
REFRESH-INTERVAL;VALUE=DURATION:PT1H
X-Robots-Tag:noindex
X-PUBLISHED-TTL:PT1H
BEGIN:VTIMEZONE
TZID:Europe/Madrid
BEGIN:DAYLIGHT
TZOFFSETFROM:+0100
TZOFFSETTO:+0200
TZNAME:CEST
DTSTART:20200329T010000
END:DAYLIGHT
BEGIN:STANDARD
TZOFFSETFROM:+0200
TZOFFSETTO:+0100
TZNAME:CET
DTSTART:20201025T010000
END:STANDARD
END:VTIMEZONE
BEGIN:VEVENT
DTSTART;TZID=Europe/Madrid:20200609T180000
DTEND;TZID=Europe/Madrid:20200609T200000
DTSTAMP:20260425T162801
CREATED:20200508T155517Z
LAST-MODIFIED:20200515T172453Z
UID:58801-1591725600-1591732800@historico.ateneovalencia.es
SUMMARY:Webinar Sensus Communis: “La libertad de expresión en nuestros días”
DESCRIPTION:El Foro Sensus Communis regresa este martes 9 de junio a las 18 horas con una nueva webinar que llega bajo el título: "La libertad de expresión en nuestros días"\, una conferencia que correrá a cargo del jurista\, abogado y catedrático de Derecho Constitucional de la Universitat de València\, el Dr. D. Vicente Garrido Mayol. La charla estará presentada por el vicepresidente de la Fundación Ateneo Mercantil\, D. Carlos Climent. \nLa libertad de expresión y opinión es lo más grande que tenemos en una democracia. Cada vez más la clase política coarta estas libertades y son lo más sagrado que poseemos. Además\, no se pueden justificar actuaciones que van en contra de la libertad personal del ciudadano. ¿Ustedes creen que en la ctualidad se puede escribir\, se puede decir en la radio o en la televisión lo que uno quiere expresar realmente? ¿Esto es democrático? ¿Para qué están los jueces? \nSin libertades fundamentales\, son la libertad de expresión\, una democracia no es tal. Por eso han de consagrarse y defenderse a toda costa. Pero también hay que destacar que existe un problema que resulta de la sobreexpansión de derechos. Bajo el ámbito de la libertad de expresión hay ciertos mensajes de odio\, fake news y elementos ofensivos que son perseguidos y por tanto limita las libertades de otros individuos o colectivos y que pone en peligro la propia democracia. \nEnlace a la sesión: https://us02web.zoom.us/webinar/register/WN_DlEHShoATmul5Qbzp22jqA\nCartel:
URL:https://historico.ateneovalencia.es/evento/webinar-sensus-communis-la-libertad-de-expresion-en-nuestros-dias/
LOCATION:Externo\, Valencia
CATEGORIES:Sensus Communis
ATTACH;FMTTYPE=image/jpeg:https://historico.ateneovalencia.es/wp-content/uploads/2020/05/20200609-Sensus-Communis-Libertad-Expresion.jpg
END:VEVENT
END:VCALENDAR