BEGIN:VCALENDAR
VERSION:2.0
PRODID:-//Ateneo Mercantil de Valencia - ECPv6.0.4//NONSGML v1.0//EN
CALSCALE:GREGORIAN
METHOD:PUBLISH
X-WR-CALNAME:Ateneo Mercantil de Valencia
X-ORIGINAL-URL:https://historico.ateneovalencia.es
X-WR-CALDESC:Eventos para Ateneo Mercantil de Valencia
REFRESH-INTERVAL;VALUE=DURATION:PT1H
X-Robots-Tag:noindex
X-PUBLISHED-TTL:PT1H
BEGIN:VTIMEZONE
TZID:Europe/Madrid
BEGIN:DAYLIGHT
TZOFFSETFROM:+0100
TZOFFSETTO:+0200
TZNAME:CEST
DTSTART:20200329T010000
END:DAYLIGHT
BEGIN:STANDARD
TZOFFSETFROM:+0200
TZOFFSETTO:+0100
TZNAME:CET
DTSTART:20201025T010000
END:STANDARD
END:VTIMEZONE
BEGIN:VEVENT
DTSTART;TZID=Europe/Madrid:20200520T190000
DTEND;TZID=Europe/Madrid:20200520T203000
DTSTAMP:20260425T174219
CREATED:20200507T113232Z
LAST-MODIFIED:20200515T171107Z
UID:58753-1590001200-1590006600@historico.ateneovalencia.es
SUMMARY:Webinar Sensus Communis: “La sociedad civil\, motor de cambio. Es hora”
DESCRIPTION:El próximo miércoles 20 de mayo se celebrará una nueva reunión del Foro Sensus Communis a las 19 horas. Una nueva nueva webinar organizada por el Ateneo Mercantil de Valencia en la que se tratará el papel de la sociedad civil en la actualidad y llega bajo el título: "La sociedad civil\, motor de cambio. Es hora" y el ponente será D. Fernando Mut\, arquitecto y presidente de Sociedad Civil Valenciana. Presenta el acto la presidenta del Ateneo Mercantil\, Dª. Carmen de Rosa y coordina el acto\, vicepresidente de la Fundación del Ateneo Mercantil CV\, D. Carlos Climent. \nEn la actualidad estamos viviendo momentos muy duros con una gran crisis sanitaria\, pero ha sido la sociedad civil la que ha dado una mejor respuesta a la pandemia y a las medidas implementadas para solucionarla. Ha llegado el momento de fortalecer a la Sociedad Civil para que sea el motor de cambio. La Sociedad Civil cada vez más se secuestiona las medidas\, el propio sistema\, cada vez son mayores los deseos de que tiene que ser el pueblo el que lidere el cambio y que se protagonista de las decisiones que le afectan directamente. La sociedad civil debe dar un paso adelante\, debe escribir la historia frente a la fuerte caída de la popularidad de las instituciones políticas.\n \nEnlace a la sesión: https://us02web.zoom.us/webinar/register/WN_NRaSMHayRKGEl3zA9SGbLg\nCartel:
URL:https://historico.ateneovalencia.es/evento/webinar-sensus-communis-la-sociedad-civil-motor-de-cambio-es-hora/
LOCATION:Externo\, Valencia
CATEGORIES:Sensus Communis
ATTACH;FMTTYPE=image/jpeg:https://historico.ateneovalencia.es/wp-content/uploads/2020/05/20200520-Sensus-Communis-Sociedad-Civil-Cambio.jpg
END:VEVENT
END:VCALENDAR