BEGIN:VCALENDAR
VERSION:2.0
PRODID:-//Ateneo Mercantil de Valencia - ECPv6.0.4//NONSGML v1.0//EN
CALSCALE:GREGORIAN
METHOD:PUBLISH
X-WR-CALNAME:Ateneo Mercantil de Valencia
X-ORIGINAL-URL:https://historico.ateneovalencia.es
X-WR-CALDESC:Eventos para Ateneo Mercantil de Valencia
REFRESH-INTERVAL;VALUE=DURATION:PT1H
X-Robots-Tag:noindex
X-PUBLISHED-TTL:PT1H
BEGIN:VTIMEZONE
TZID:Europe/Madrid
BEGIN:DAYLIGHT
TZOFFSETFROM:+0100
TZOFFSETTO:+0200
TZNAME:CEST
DTSTART:20200329T010000
END:DAYLIGHT
BEGIN:STANDARD
TZOFFSETFROM:+0200
TZOFFSETTO:+0100
TZNAME:CET
DTSTART:20201025T010000
END:STANDARD
END:VTIMEZONE
BEGIN:VEVENT
DTSTART;TZID=Europe/Madrid:20200506T190000
DTEND;TZID=Europe/Madrid:20200506T210000
DTSTAMP:20260425T162711
CREATED:20200422T192648Z
LAST-MODIFIED:20200422T192648Z
UID:58547-1588791600-1588798800@historico.ateneovalencia.es
SUMMARY:Webinar Sensus Communis: “La independencia de la Justicia”
DESCRIPTION:El próximo miércoles 6 de mayo a las 19 horas se llevará a cabo una nueva webinar del Foro Sensus Communis que llega con el título: "La independencia de la Justicia" y la llevarán a cabo dos especialistas en la materia como son los magistrados D. José María Tomás y Tío\, que además\, es presidente de la Fundación por la Justicia\, y D. Carlos Climent Durán\, que también es vicepresidente de la Fundación del Ateneo Mercantil de Valencia. \nLa independencia judicial es un concepto de que la judicatura debe ser inmune de las injerencias de los poderes políticos (ejecutivo y legislativo) o extra políticos de intereses privados poderosos\, del electorado\, de la nación\, partidistas o cualquier otro grupo de presión. La independencia judicial es vital e importante para la separación de poderes. \nImportante: Si quieres participar de una forma más activa\, los 20 primeros espectadores que accedan a la sesión\, podrán vivirlo como un ponente y estar presentes con su cámara. \nEnlace a la sesión: \nhttps://us02web.zoom.us/webinar/register/WN_ES8WkSZqT8uYGWq67xWDaA\nCartel:\n \n 
URL:https://historico.ateneovalencia.es/evento/webinar-sensus-communis-la-independencia-de-la-justicia/
LOCATION:Externo\, Valencia
CATEGORIES:Sensus Communis
ATTACH;FMTTYPE=image/jpeg:https://historico.ateneovalencia.es/wp-content/uploads/2020/04/20200506-Sensus-Communis-Independencia-Justicia.jpg
END:VEVENT
END:VCALENDAR