BEGIN:VCALENDAR
VERSION:2.0
PRODID:-//Ateneo Mercantil de Valencia - ECPv6.0.4//NONSGML v1.0//EN
CALSCALE:GREGORIAN
METHOD:PUBLISH
X-ORIGINAL-URL:https://historico.ateneovalencia.es
X-WR-CALDESC:Eventos para Ateneo Mercantil de Valencia
REFRESH-INTERVAL;VALUE=DURATION:PT1H
X-Robots-Tag:noindex
X-PUBLISHED-TTL:PT1H
BEGIN:VTIMEZONE
TZID:Europe/Madrid
BEGIN:DAYLIGHT
TZOFFSETFROM:+0100
TZOFFSETTO:+0200
TZNAME:CEST
DTSTART:20200329T010000
END:DAYLIGHT
BEGIN:STANDARD
TZOFFSETFROM:+0200
TZOFFSETTO:+0100
TZNAME:CET
DTSTART:20201025T010000
END:STANDARD
END:VTIMEZONE
BEGIN:VEVENT
DTSTART;TZID=Europe/Madrid:20200421T190000
DTEND;TZID=Europe/Madrid:20200421T200000
DTSTAMP:20260425T174345
CREATED:20200417T111452Z
LAST-MODIFIED:20200417T112118Z
UID:58432-1587495600-1587499200@historico.ateneovalencia.es
SUMMARY:Webinar Sensus Communis: "Dos retos para la Sociedad Civil: despolitizar nuestro entorno y recuperar las Humanidades”
DESCRIPTION:El próximo martes 21 de abril a las 19 horas se llevará a cabo una nueva webinar del Foro Sensus Communis que organiza el Ateneo Mercantil de Valencia y cuyo invitado será D. Antonio Penadés\, que es historiador\, periodista y abogado\, además\, de presidente de Acción Cívica\, y llega para realizar una exposición sobre un tema de actualidad como es la despolitización de la sociedad. Llega bajo el título: "Dos retos para la Sociedad Civil: despolitizar nuestro entorno y recuperar las Humanidades”. \nPara bien y para mal\, la política manda en todo en España\, por tanto\, manda en nuestra sociedad. La española se ha convertido en una sociedad política porque se ha politizado el entorno de la sociedad civil desde hace mucho años\, incluso décadas. Eso ha provocado que la sociedad se mueva por sentimientos extremos y parece que se va a necesitar mucho tiempo para cambiar esta mentalidad. Hay que generar nuevas estructuras sociales que no sólo provengan de la política\, sino que vengan de las Humanidades. Y es que\, las humanidades tienen mucho que ofrecer a la sociedad en lo que respecta a los grandes retos del siglo XXI. \nLa presentación estará a cargo de D. Carlos Climent Durán\, Vicepresidente de la Fundación del Ateneo de Valencia. \nImportante: Si quieres participar de una forma más activa\, los 20 primeros espectadores que accedan a la sesión\, podrán vivirlo como un ponente y estar presentes con su cámara. \nEnlace a la sesión del martes día 21 de abril: \nhttps://zoom.us/webinar/register/WN_VkKLjzHjQzWSw0UQ1sK4wA\nCartel:
URL:https://historico.ateneovalencia.es/evento/webinar-sensus-communis-dos-retos-para-la-sociedad-civil-despolitizar-nuestro-entorno-y-recuperar-las-humanidades/
LOCATION:Externo\, Valencia
CATEGORIES:Sensus Communis
ATTACH;FMTTYPE=image/jpeg:https://historico.ateneovalencia.es/wp-content/uploads/2020/04/20200421-Webinar-Sensus-Communis-Sociedad-Civil.jpg
END:VEVENT
END:VCALENDAR