BEGIN:VCALENDAR
VERSION:2.0
PRODID:-//Ateneo Mercantil de Valencia - ECPv6.0.4//NONSGML v1.0//EN
CALSCALE:GREGORIAN
METHOD:PUBLISH
X-ORIGINAL-URL:https://historico.ateneovalencia.es
X-WR-CALDESC:Eventos para Ateneo Mercantil de Valencia
REFRESH-INTERVAL;VALUE=DURATION:PT1H
X-Robots-Tag:noindex
X-PUBLISHED-TTL:PT1H
BEGIN:VTIMEZONE
TZID:Europe/Madrid
BEGIN:DAYLIGHT
TZOFFSETFROM:+0100
TZOFFSETTO:+0200
TZNAME:CEST
DTSTART:20190331T010000
END:DAYLIGHT
BEGIN:STANDARD
TZOFFSETFROM:+0200
TZOFFSETTO:+0100
TZNAME:CET
DTSTART:20191027T010000
END:STANDARD
END:VTIMEZONE
BEGIN:VEVENT
DTSTART;TZID=Europe/Madrid:20191113T193000
DTEND;TZID=Europe/Madrid:20191113T213000
DTSTAMP:20260426T030136
CREATED:20191031T110735Z
LAST-MODIFIED:20191031T110735Z
UID:53680-1573673400-1573680600@historico.ateneovalencia.es
SUMMARY:Sensus Communis: "Qué cosas concretas puedo hacer para reducir el cambio climático"
DESCRIPTION:Las informaciones sobre el cambio climático están a la orden del día por eso el Foro Sensus Communis trae un tema de enorme actualidad\, pero lo hará acercando algunas de las medidas que el ciudadano puede hacer de manera individual y que contribuyan a reducir el calentamiento global y a paliar el cambio climático. Todos somos responsables de hacer buen uso del planeta\, ya que la huella humana es la responsable del cambio climático. \nUna conferencia que será el próximo miércoles 13 de noviembre a las 19.30 horas en la Sala de Ocio y que expondrá un experto en la materia como es el físico por la Universidad Complutense de Madrid\, meteorólogo y experto en escenarios climáticos\, Luis Balairon. El ponente explicará varias medidas para paliar los efectos de este problema. \n- Energía limpia: la apuesta por fuentes de energía renovables. Energía hidráulica\, eólica o fotovoltaica. \n- Eficiencia en el transporte: Compartir coche\, utilizar el transporte público o bicicletas y patinetes eléctricos. \n- Consumir alimentos ecológicos: disminuir el consumo de carne. \n- Reciclar\, reducir y reutilizar: es la base del consumo responsable que permite ahorrar en materiales como agua\, petróleo y algunas materias primas. \n- Activo con la climatología: exigir y aplicar medidas. Difundir el mensaje para aumentar conciencia. \nCartel:
URL:https://historico.ateneovalencia.es/evento/sensus-communis-que-cosas-concretas-puedo-hacer-para-reducir-el-cambio-climatico/
LOCATION:Sala de Ocio - Ateneo Mercantil de Valencia\, Plaza del Ayuntamiento\, 18\, Valencia\, España\, Valencia\, Valencia\, 46002\, España
CATEGORIES:Sensus Communis
ATTACH;FMTTYPE=image/jpeg:https://historico.ateneovalencia.es/wp-content/uploads/2019/10/20191113-Sensus-Communis-Cambio-Climático.jpg
END:VEVENT
END:VCALENDAR