BEGIN:VCALENDAR
VERSION:2.0
PRODID:-//Ateneo Mercantil de Valencia - ECPv6.0.4//NONSGML v1.0//EN
CALSCALE:GREGORIAN
METHOD:PUBLISH
X-WR-CALNAME:Ateneo Mercantil de Valencia
X-ORIGINAL-URL:https://historico.ateneovalencia.es
X-WR-CALDESC:Eventos para Ateneo Mercantil de Valencia
REFRESH-INTERVAL;VALUE=DURATION:PT1H
X-Robots-Tag:noindex
X-PUBLISHED-TTL:PT1H
BEGIN:VTIMEZONE
TZID:Europe/Madrid
BEGIN:DAYLIGHT
TZOFFSETFROM:+0100
TZOFFSETTO:+0200
TZNAME:CEST
DTSTART:20190331T010000
END:DAYLIGHT
BEGIN:STANDARD
TZOFFSETFROM:+0200
TZOFFSETTO:+0100
TZNAME:CET
DTSTART:20191027T010000
END:STANDARD
END:VTIMEZONE
BEGIN:VEVENT
DTSTART;TZID=Europe/Madrid:20191017T191500
DTEND;TZID=Europe/Madrid:20191017T210000
DTSTAMP:20260426T043553
CREATED:20190927T112128Z
LAST-MODIFIED:20190927T112128Z
UID:51151-1571339700-1571346000@historico.ateneovalencia.es
SUMMARY:Sensus Communis: Mesa redonda y presentación del libro: "Para una nueva cultura política"
DESCRIPTION:El próximo jueves 17 de octubre a las 19.15 horas se celebrará en el Hall del Restaurante (sexta planta) una nueva cita del Foro Sensus Communis\, con la presentación del libro "Para una nueva cultura política" y una mesa redonda en la que intervendrán especialistas en la materias y los autores y el editor del libro. Los participantes de la mesa redonda serán D. Vicente Bellver\, catedrático de Filosofía del Derecho y Filosofía Política de la Universitat de València y autor del libro; D. José Marí Olano\, abogado del Estado\, director del Área jurídica de KPMG de la Comunidad Valenciana y autor del libro; D. Aniceto Masferrer\, catedrático de Historia del Derecho de la Universitat de València\, editor y autor del libro y Dª. Josefa Ridaura\, catedrática de Derecho Constitucional de la Universitat de València\, lectora y comentarista del libro. Moderará el coloquio la presidenta del Ateneo Mercantil de Valencia\, Dª. Carmen de Rosa. \nUn libro que se compone de 42 breves ensayos\, en los que sus autores\, reconocidos filósofos y juristas del mundo universitario y académico\, indagan en algunas claves para la regeneración política en nuestro país a raíz de la crisis social y económica que golpeó a la ciudadanía en la última década\, y agravada por los múltiples casos de corrupción política. Sus reflexiones discurren así en ámbitos como la cultura\, las clases y los partidos políticos\, la democracia y valores como la igualdad y la libertad\, la educación\, la cuestión territorial y la comunicación. Se trata de un libro que no pretende satisfacer un mero interés académico o mediático\, sino que recoge el fruto maduro de quienes han reflexionado sosegadamente sobre la tarea de gobernar y sobre la necesidad de promover una sólida ética pública\, capaz de proponer un modelo ciudadano que desactive el actual paradigma individualista. \nCartel:
URL:https://historico.ateneovalencia.es/evento/sensus-communis-mesa-redonda-y-presentacion-del-libro-para-una-nueva-cultura-politica/
LOCATION:Hall Restaurante - Ateneo Mercantil de Valencia\, Plaza del Ayuntamiento\, 18\, Valencia\, España\, Valencia\, Valencia\, 46002\, España
CATEGORIES:Sensus Communis
ATTACH;FMTTYPE=image/jpeg:https://historico.ateneovalencia.es/wp-content/uploads/2019/09/20191017-Sensus-Communis-Nueva-Politica.jpg
END:VEVENT
END:VCALENDAR