BEGIN:VCALENDAR
VERSION:2.0
PRODID:-//Ateneo Mercantil de Valencia - ECPv6.0.4//NONSGML v1.0//EN
CALSCALE:GREGORIAN
METHOD:PUBLISH
X-WR-CALNAME:Ateneo Mercantil de Valencia
X-ORIGINAL-URL:https://historico.ateneovalencia.es
X-WR-CALDESC:Eventos para Ateneo Mercantil de Valencia
REFRESH-INTERVAL;VALUE=DURATION:PT1H
X-Robots-Tag:noindex
X-PUBLISHED-TTL:PT1H
BEGIN:VTIMEZONE
TZID:Europe/Madrid
BEGIN:DAYLIGHT
TZOFFSETFROM:+0100
TZOFFSETTO:+0200
TZNAME:CEST
DTSTART:20240331T010000
END:DAYLIGHT
BEGIN:STANDARD
TZOFFSETFROM:+0200
TZOFFSETTO:+0100
TZNAME:CET
DTSTART:20241027T010000
END:STANDARD
END:VTIMEZONE
BEGIN:VEVENT
DTSTART;TZID=Europe/Madrid:20240507T193000
DTEND;TZID=Europe/Madrid:20240507T210000
DTSTAMP:20260423T004023
CREATED:20240506T115352Z
LAST-MODIFIED:20240506T115353Z
UID:77915-1715110200-1715115600@historico.ateneovalencia.es
SUMMARY:Foro Universitas - Sensus Communis: "Cómo convertirte en el protagonista de tu vida"
DESCRIPTION:Regresa al Ateneo Mercantil de Valencia el Foro Universitas - Sensus Communis\, impulsado por Free Thinkers\, para ofrecernos una interesante sesión que llega bajo el título "Cómo convertirte en el protagonista de tu vida" y el ponente será Aniceto Masferrer (@anicetomasferrer). Modera el acto\, Marta Cartín. \nTendremos una nueva charla en la que se nos hablará de cómo ser el autor de nuestra propia historia. Si te animas\, recuerda que tienes que apuntarte en la siguiente inscripción: \nLink de inscripción: https://forms.gle/g41QK4G16VTqeUXW8\nTítulo: "Cómo convertirte en el protagonista de tu vida" \nConferenciante: Aniceto Masferrer. Catedrático de Historia del Derecho y cofundador de Free Thinkers. \nDía: Martes 7 de mayo de 2023 \nHora: 19.30 horas \nLugar: Hall Colonial (Sexta Planta) \nEntrada libre y gratuita hasta completar el aforo \nCartel:\n \n 
URL:https://historico.ateneovalencia.es/evento/foro-universitas-sensus-communis-como-convertirte-en-el-protagonista-de-tu-vida/
LOCATION:Hall Restaurante - Ateneo Mercantil de Valencia\, Plaza del Ayuntamiento\, 18\, Valencia\, España\, Valencia\, Valencia\, 46002\, España
CATEGORIES:Sensus Communis
ATTACH;FMTTYPE=image/jpeg:https://historico.ateneovalencia.es/wp-content/uploads/2024/05/20240507-Sensus-Protagonista-Vida.jpg
END:VEVENT
END:VCALENDAR