BEGIN:VCALENDAR
VERSION:2.0
PRODID:-//Ateneo Mercantil de Valencia - ECPv6.0.4//NONSGML v1.0//EN
CALSCALE:GREGORIAN
METHOD:PUBLISH
X-ORIGINAL-URL:https://historico.ateneovalencia.es
X-WR-CALDESC:Eventos para Ateneo Mercantil de Valencia
REFRESH-INTERVAL;VALUE=DURATION:PT1H
X-Robots-Tag:noindex
X-PUBLISHED-TTL:PT1H
BEGIN:VTIMEZONE
TZID:Europe/Madrid
BEGIN:DAYLIGHT
TZOFFSETFROM:+0100
TZOFFSETTO:+0200
TZNAME:CEST
DTSTART:20220327T010000
END:DAYLIGHT
BEGIN:STANDARD
TZOFFSETFROM:+0200
TZOFFSETTO:+0100
TZNAME:CET
DTSTART:20221030T010000
END:STANDARD
END:VTIMEZONE
BEGIN:VEVENT
DTSTART;TZID=Europe/Madrid:20221117T193000
DTEND;TZID=Europe/Madrid:20221117T203000
DTSTAMP:20260421T213343
CREATED:20221114T103834Z
LAST-MODIFIED:20221114T104547Z
UID:71802-1668713400-1668717000@historico.ateneovalencia.es
SUMMARY:Sensus Communis: "La salud mental en tiempos de catástrofe"
DESCRIPTION:Regresa al Ateneo Mercantil el Foro Universitas de Análisis Social-Foro Sensus Communis para hablarnos de un problema cada vez más común: la salud mental. La pandemia de COVID-19\, las guerras\, la subida de los precios\, las olas de calor por el cambio climático\, las amenazas y peligros globales tienen un impacto extraordinario sobre el conjunto de la sociedad\, pero\, de una manera muy especial\, sobre ciertas personas: aquellas que\, por su edad\, por vivir solas\, por estar sujetas a un fuerte estrés derivado de los problemas económicos o de su actividad familiar\, escolar\, laboral\, o porque están afectadas por problemas mentales o del cuerpo\, son especialmente sensibles. \nLa exposición permanente y acumulativa a situaciones adversas globales está descompensado a personas con enfermedad mental\, pero\, también nos avisa que cualquiera puede alcanzar la condición de persona depresiva\, adicta\, bebedora\, angustiada\, con deterioro cognitivo o con intención de morirse. \nPor poner sólo un par de ejemplos\, en primer lugar\, la pandemia covid-19 ha intervenido en la aparición de 53\,2 millones de nuevos cuadros depresivos severos y 76\,2 millones de casos de trastorno de ansiedad a nivel mundial en 2020; en segundo lugar\, la salud mental se ha convertido en el mayor problema de salud al que se enfrenta la población en España y en otros muchos países\, por delante del cáncer y la infección por covid-19. \nTítulo: "La salud mental en tiempos de catástrofe" \nConferenciante: Prof. Dr. Rafael Tabarés Seisdedos \nFecha: Jueves\, 17 de noviembre de 2022 \nHora: 19.30 horas \nLugar: Salón Sorolla \nEntrada Gratuita y libre hasta completar Aforo \nCurriculum abreviado de Rafael Tabarés Seisdedos:\n\nEl Profesor Tabarés es Catedrático de Psiquiatría de la Universitat de València\, Investigador Principal en el Centro de Investigaciones Biomédicas en Red de Salud Mental (CIBERSAM) del Ministerio de Ciencia e Innovación\, y de uno de los grupos de Excelencia del programa PROMETEO. \nDirector del Grupo de Investigación en Trastornos Mentales Graves de la Universitat de València y Coordinador del microcluster de "Autonomía Personal\, Dependencia y Trastornos Mentales Graves\, MCI" dentro del Campus de Excelencia VLC/CAMPUS del Ministerio de Ciencia e Innovación constituido en Unidad de investigación\, miembro del Comité Científico de Expertos del Ministerio de Sanidad y Política Social-IMSERSO para la aplicación del Centro de Referencia de Atención socio-sanitaria para Personas con Trastorno Mental Grave en Valencia. \nMiembro del comité editorial y de expertos de varias revistas de prestigio\, ha obtenido múltiples premios y reconocimientos. \n\nCartel:
URL:https://historico.ateneovalencia.es/evento/sensus-communis-la-salud-mental-en-tiempos-de-catastrofe/
LOCATION:Salón Sorolla - Ateneo Mercantil de Valencia\, Plaza del Ayuntamiento 18\, Valencia\, Valencia\, 46002\, España
CATEGORIES:Sensus Communis
ATTACH;FMTTYPE=image/jpeg:https://historico.ateneovalencia.es/wp-content/uploads/2022/11/20221117-Sensus-Communis-La-Salud-Mental.jpg
END:VEVENT
BEGIN:VEVENT
DTSTART;TZID=Europe/Madrid:20221129T193000
DTEND;TZID=Europe/Madrid:20221129T203000
DTSTAMP:20260421T213343
CREATED:20221114T112147Z
LAST-MODIFIED:20221114T114112Z
UID:71808-1669750200-1669753800@historico.ateneovalencia.es
SUMMARY:Sensus Communis: "A vivir se aprende"
DESCRIPTION:El Foro Universitas de Análisis Social y el Foro Sensus Communis han organizado un segundo encuentro en el mes de noviembre para hablarnos de cómo vivir la vida para que sea plena. Vivir la propia vida tiene que ver con conectar con tus propios deseos\, los más profundos\, y con tus propios dolores\, los más profundos. Tiene que ver con la certeza de que la vida es más que todos ellos. \nLa vida es un continuo de golpes\, caídas y lecciones aprendidas. Estas\, aunque no lo creas\, te guiarán en tu camino hacia la felicidad. Para aprender a vivir no hay un manual de instrucciones. Por eso\, se madura a base de equivocaciones\, mientras se trata de adquirir nuevas enseñanzas por el camino. Sin embargo\, muchas veces esto puede resultar muy complicado. Pero los golpes duelen y\, en ocasiones\, se tiene miedo de volver a intentarlo. \nNo obstante\, no hay que dejar que el pánico se adueñe de las elecciones vitales. Quedarse en la zona de confort por miedo a salir herido es una equivocación que\, a la larga\, provocará una gran frustración en la persona. Para aprender a vivir hay que previamente aceptar una situación que no se ha elegido\, implica saber darle a cada cosa su justa importancia y saber disfrutar del momento y valorar todas las cosas buenas que hay en tu vida. \nTítulo: "A vivir se aprende" \nConferenciante: Lucía Pérez Forriol\n \nFecha: Martes\, 29 de noviembre de 2022\n \nHora: 19.30 h.\n \nLugar: Salón Sorolla\n \nEntrada Gratuita y libre hasta completar Aforo \nCurriculum abreviado de Lucía Pérez Forriol:\n\nLucía Pérez. Psicóloga generalista sanitaria. Licenciada en Psicología Clínica por la Universidad Católica de Valencia. Se dedica a la psicología a nivel clínico y a realizar charlas formativas. Tiene experiencia y formación en terapia cognitivo conductual\, sistémica y EMDR. Se dedica a esto por vocación absoluta.\n \n\nCartel:
URL:https://historico.ateneovalencia.es/evento/sensus-communis-a-vivir-se-aprende/
LOCATION:Salón Sorolla - Ateneo Mercantil de Valencia\, Plaza del Ayuntamiento 18\, Valencia\, Valencia\, 46002\, España
CATEGORIES:Sensus Communis
ATTACH;FMTTYPE=image/jpeg:https://historico.ateneovalencia.es/wp-content/uploads/2022/11/20221129-Sensus-Communis-A-Vivir-se-aprende.jpg
END:VEVENT
END:VCALENDAR