BEGIN:VCALENDAR
VERSION:2.0
PRODID:-//Ateneo Mercantil de Valencia - ECPv6.0.4//NONSGML v1.0//EN
CALSCALE:GREGORIAN
METHOD:PUBLISH
X-WR-CALNAME:Ateneo Mercantil de Valencia
X-ORIGINAL-URL:https://historico.ateneovalencia.es
X-WR-CALDESC:Eventos para Ateneo Mercantil de Valencia
REFRESH-INTERVAL;VALUE=DURATION:PT1H
X-Robots-Tag:noindex
X-PUBLISHED-TTL:PT1H
BEGIN:VTIMEZONE
TZID:Europe/Madrid
BEGIN:DAYLIGHT
TZOFFSETFROM:+0100
TZOFFSETTO:+0200
TZNAME:CEST
DTSTART:20220327T010000
END:DAYLIGHT
BEGIN:STANDARD
TZOFFSETFROM:+0200
TZOFFSETTO:+0100
TZNAME:CET
DTSTART:20221030T010000
END:STANDARD
END:VTIMEZONE
BEGIN:VEVENT
DTSTART;TZID=Europe/Madrid:20220518T190000
DTEND;TZID=Europe/Madrid:20220518T203000
DTSTAMP:20260422T235250
CREATED:20220512T045506Z
LAST-MODIFIED:20220512T115106Z
UID:70147-1652900400-1652905800@historico.ateneovalencia.es
SUMMARY:Sensus Communis: "¿Cómo debería ser la educación de hoy en día?"
DESCRIPTION:El Foro Sensus Communis se reúne el próximo 18 de mayo a las 19 horas en la Sala Sorolla para desarrollar un tema que siempre está de actualidad como es el de la educación de nuestros hijos. Una reunión que será presencial y Online\, ya que contaremos un día más con el Prof. Dr. Chris Skowronski\, profesor del Departamento de Estudios Culturales de la Universidad de Opole y Maneger del Berlin Practical Philosophy International Forum e. V. Mientras que el moderador del acto y presentardor será el Dr. Carlos Climent\, magistrado\, Doctor en Derecho y Licenciado en Criminología. \nEnlace para Online: https://us06web.zoom.us/j/83785206391\nBajo el título: "¿Cómo debería ser la educación de hoy en día?"\, el foro propondrá ideas sobre el aprendizaje de los jóvenes teniendo en cuenta la situación actual de la educación con los cambios tecnológicos y sociales\, los retos a los que se enfrentan los docentes de cara al futuro y cómo influyen las emociones en el proceso de enseñanza. Además\, se incidirá sobre la innovación pedagógica en el ámbito de la enseñanza\, ya que esta fluye en el seno de la comunidad estudiantil\, y cómo los docentes tienen que adaptarse para captar la motivación y la atención del estudiante actual. \nCartel:
URL:https://historico.ateneovalencia.es/evento/sensus-communis-como-deberia-ser-la-educacion-de-hoy-en-dia/
LOCATION:Valencia
CATEGORIES:Sensus Communis
ATTACH;FMTTYPE=image/jpeg:https://historico.ateneovalencia.es/wp-content/uploads/2022/05/20220518-Sensus-Communis-Educacion.jpg
END:VEVENT
BEGIN:VEVENT
DTSTART;TZID=Europe/Madrid:20220519T193000
DTEND;TZID=Europe/Madrid:20220519T210000
DTSTAMP:20260422T235250
CREATED:20220316T080828Z
LAST-MODIFIED:20220713T073809Z
UID:68713-1652988600-1652994000@historico.ateneovalencia.es
SUMMARY:Sensus Communis: "Libertad\, ética pública y libertad de expresión"
DESCRIPTION:El Foro Sensus Communis regresa al Ateneo Mercantil de Valencia el próximo jueves 19 de mayo a las 19.30 horas en el Salón Sorolla con una conferencia y posterior debate sobre "Libertad\, ética pública y libertad de expresión" y que ofrecerá el Prof. Dr. Aniceto Masferrer. \nEl profesor Masferrer tratará de la relación entre libertad\, ética pública y libertad de expresión\, cuestión tan compleja como fundamental en una sociedad plural y democrática. ¿Cómo conciliar el respeto a la libertad de cada individuo con la necesidad de un Derecho aplicable al conjunto de la sociedad? ¿A quién corresponde decidir\, y de qué modo\, el modelo ético que debe regir e informar el Derecho de una sociedad? ¿En qué medida el ciudadano puede –o debe– contribuir a su proceso de configuración? ¿Cómo conciliar dos nociones tan fundamentales –para todo ser humano que vive en sociedad– como la libertad y la ética o la justicia social? \nAl tratar de responder a estas cuestiones\, el ponente partirá de unas premisas fundamentales: \n\nQue la vida no sería propiamente humana si uno renunciara a vivir en libertad.\nQue uno no sería realmente libre si se desentendiera de la verdad que sustenta todo aquello que es bueno\, bello y justo.\nQue uno no podría tener acceso a la verdad si no se atreviera a pensar por sí mismo.\nQue la configuración de la ética pública de una sociedad corresponde principalmente a los ciudadanos que la conforman.\nQue el ejercicio de la libertad de expresión (incluyendo la discrepancia) y la cultura del diálogo son claves para salvaguardar y fortalecer la democracia.\n\nCartel:
URL:https://historico.ateneovalencia.es/evento/sensus-communis-libertad-etica-publica-y-libertad-de-expresion/
LOCATION:Salón Sorolla - Ateneo Mercantil de Valencia\, Plaza del Ayuntamiento 18\, Valencia\, Valencia\, 46002\, España
CATEGORIES:Sensus Communis
ATTACH;FMTTYPE=image/jpeg:https://historico.ateneovalencia.es/wp-content/uploads/2022/03/20220329-Sensus-Communis-Libertad-Expresión.jpg
END:VEVENT
BEGIN:VEVENT
DTSTART;TZID=Europe/Madrid:20220525T193000
DTEND;TZID=Europe/Madrid:20220525T210000
DTSTAMP:20260422T235250
CREATED:20220512T082257Z
LAST-MODIFIED:20220523T181507Z
UID:70151-1653507000-1653512400@historico.ateneovalencia.es
SUMMARY:Sensus Communis: "¿Sobrevivirán los paraísos fiscales?"
DESCRIPTION:El Foro Sensus Communis regresa al Ateneo Mercantil de Valencia el próximo miércoles 25 de mayo a las 19 horas en la Sala Multiusos (7ª planta) con una conferencia sobre los paraísos fiscales. El encargado de impartir la ponencia será el Catedrático de Derecho Financiero de la Universitat de València\, el Prof. Dr. Alfredo García Prats. \nEl título de la conferencia llega en torno a una pregunta básica "¿Sobrevivirán los paraísos fiscales?" para tratar de esclarecer el futuro de estos países y territorios en donde existe blanqueo de capitales. Hoy más que nunca parece que existe en la comunidad internacional la determinación de luchar contra un problema largamente denunciado por organizaciones internacionales. \nLa situación geopolítica actual hace que exista una creciente preocupación con el blanqueo de capitales\, ya que hay una relación directa de estas acciones delictivas con la finaciación de conflictos bélicos y del terrorismo. Existe una lucha internacional contra el blanqueo de capitales y por ello se ha producido en los últimos años un importante estrechamiento del cerco sobre los paraísos fiscales. \nCifras en 2019\nSe calcula que hace tres años\, el 8% del patrimonio mundial se encontraba en paraísos fiscales. El 80% de este patrimonio evadido pertenece al 0\,1% más rico de la población. Y si se habla de empresas\, las grandes multinacionales desvían hasta el 36% de sus beneficios\, un total de 600.000 millones de dólares en cuentas localizadas en territorios de baja o nula fiscalidad. \nCartel:\n \n 
URL:https://historico.ateneovalencia.es/evento/sensus-communis-sobreviviran-los-paraisos-fiscales/
LOCATION:Sala Multiusos - Tertulia Taurina
CATEGORIES:Sensus Communis
ATTACH;FMTTYPE=image/jpeg:https://historico.ateneovalencia.es/wp-content/uploads/2022/05/20220525-Sensus-Communis-Paraisos-Fiscales.jpg
END:VEVENT
END:VCALENDAR