BEGIN:VCALENDAR
VERSION:2.0
PRODID:-//Ateneo Mercantil de Valencia - ECPv6.0.4//NONSGML v1.0//EN
CALSCALE:GREGORIAN
METHOD:PUBLISH
X-ORIGINAL-URL:https://historico.ateneovalencia.es
X-WR-CALDESC:Eventos para Ateneo Mercantil de Valencia
REFRESH-INTERVAL;VALUE=DURATION:PT1H
X-Robots-Tag:noindex
X-PUBLISHED-TTL:PT1H
BEGIN:VTIMEZONE
TZID:Europe/Madrid
BEGIN:DAYLIGHT
TZOFFSETFROM:+0100
TZOFFSETTO:+0200
TZNAME:CEST
DTSTART:20220327T010000
END:DAYLIGHT
BEGIN:STANDARD
TZOFFSETFROM:+0200
TZOFFSETTO:+0100
TZNAME:CET
DTSTART:20221030T010000
END:STANDARD
END:VTIMEZONE
BEGIN:VEVENT
DTSTART;TZID=Europe/Madrid:20220405T190000
DTEND;TZID=Europe/Madrid:20220405T203000
DTSTAMP:20260423T013727
CREATED:20220316T184714Z
LAST-MODIFIED:20220404T092444Z
UID:68785-1649185200-1649190600@historico.ateneovalencia.es
SUMMARY:Sensus Communis: "Fondos europeos: una oportunidad para un mercado de trabajo más justo"
DESCRIPTION:El Foro Sensus Communis se reune el próximo martes 5 de abril a las 19 horas en el Salón Sorolla del Ateneo Mercantil de Valencia para debatir en torno a los fondos europeos y el mercado laboral de nuestro país. La conferencia se titula "Fondos europeos: una oportunidad para un mercado de trabajo más justo" y el ponente será el Prof. Dr. Manuel Sanchis i Marco\, Doctor Cum Laude\, y Premio Extraordinario de Doctorado en Ciencias Económicas por la Universidad de Valencia y Profesor Titular de Economía Aplicada de la UV. Es Máster en Ética y Democracia\, y Doctor Cum Laude\, mención internacional\, en Filosofía por la UV. \nEn plena lucha contra la pandemia y frente a una situación global de incertidumbre\, España tiene ante sí un doble objetivo con los fondos europeos\, el de recuperar y\, a la vez\, transformar su economía. Un envite mayúsculo cuyo éxito dependerá\, en gran medida\, de la colaboración entre Gobierno y empresas\, esencial para que España sea capaz de sacar el máximo provecho de las ayudas para la reconstrucción aprobadas por la Unión Europea. \nCartel:
URL:https://historico.ateneovalencia.es/evento/sensus-communis-fondos-europeos-una-oportunidad-para-un-mercado-de-trabajo-mas-justo/
LOCATION:Salón Sorolla - Ateneo Mercantil de Valencia\, Plaza del Ayuntamiento 18\, Valencia\, Valencia\, 46002\, España
CATEGORIES:Sensus Communis
ATTACH;FMTTYPE=image/jpeg:https://historico.ateneovalencia.es/wp-content/uploads/2022/03/20220405-Sensus-Communis-Fondos-Europeos.jpg
END:VEVENT
BEGIN:VEVENT
DTSTART;TZID=Europe/Madrid:20220428T193000
DTEND;TZID=Europe/Madrid:20220428T210000
DTSTAMP:20260423T013727
CREATED:20220329T084250Z
LAST-MODIFIED:20220329T084253Z
UID:69329-1651174200-1651179600@historico.ateneovalencia.es
SUMMARY:Sensus Communis: "Nietzsche y los animales"
DESCRIPTION:Nietzsche es el filósofo que afirmó la vida en la tierra\, nuestra relación con el animal\, el que somos y el que perseguimos\, en terminología de Deleuze. Un filósofo al que hay que despojar de las tergiversaciones y lecturas gruesas de que fue objeto\, para encontrar al filósofo de la alteridad\, en el que la pregunta por lo animal es el centro de su pensamiento\, el arjé de su filosofía. Unas nuevas tablas\, inspiradas en la vida\, en la idea de generosidad\, sin venganza ni compensación\, anuncian una nueva relación con el animal. El hombre del futuro ha de recuperar el sentido de la tierra. No sin sus animales. \nEl Foro Sensus Communis llega con una nueva reunión el próximo jueves 28 de abril a las 19.30 horas en el Salón Sorolla bajo el título "Nietzsche y los animales" que impartirá la Registradora de la propiedad\, investigadora\, doctora en Derecho y licenciada en Filosofía\, Dra. Virtudes Azpitarte. Presentará el acto el Senador por Valencia. D. Francisco Javier de Lucas\, catedrático de filosofía del derecho y filosofía política en el Instituto de Derechos Humanos de la Universitat de València. Coordina el evento\, el Dr. Carlos Climent\, vicepresidente de la Fundación Ateneo Mercantil de CV. \nVirtudes presentará una lectura directa de los textos de Nietzsche\, en diálogo con pensadores de la actualidad. La pregunta por lo animal debería ser una de las grandes cuestiones de la filosofía y\, sin embargo\, la historia de la misma evidencia un gran silencio. Los animales siguen siendo los grandes invisibles para la política y el derecho. Desde el siglo pasado\, se levantan voces en su defensa\, un avance oscurecido por los horrores que ha traído la civilización tecnológica a los animales. La cuestión animal es\, sin duda\, la gran tarea pendiente de la política. \nPero también para la filosofía: el animalismo es el nuevo humanismo. Tras avanzar una posible explicación sobre por qué podemos convivir en silencio con tanto horror\, la autora analiza las causas sociales\, económicas\, jurídicas y políticas que han llevado a una construcción cultural del animal como un extraño al que dominar y explotar. \nCartel:\n \n 
URL:https://historico.ateneovalencia.es/evento/sensus-communis-nietzsche-y-los-animales/
LOCATION:Salón Sorolla - Ateneo Mercantil de Valencia\, Plaza del Ayuntamiento 18\, Valencia\, Valencia\, 46002\, España
CATEGORIES:Sensus Communis
ATTACH;FMTTYPE=image/jpeg:https://historico.ateneovalencia.es/wp-content/uploads/2022/03/20220428-Sensus-Nietzsche-y-Animales.jpg
END:VEVENT
END:VCALENDAR