BEGIN:VCALENDAR
VERSION:2.0
PRODID:-//Ateneo Mercantil de Valencia - ECPv6.0.4//NONSGML v1.0//EN
CALSCALE:GREGORIAN
METHOD:PUBLISH
X-ORIGINAL-URL:https://historico.ateneovalencia.es
X-WR-CALDESC:Eventos para Ateneo Mercantil de Valencia
REFRESH-INTERVAL;VALUE=DURATION:PT1H
X-Robots-Tag:noindex
X-PUBLISHED-TTL:PT1H
BEGIN:VTIMEZONE
TZID:Europe/Madrid
BEGIN:DAYLIGHT
TZOFFSETFROM:+0100
TZOFFSETTO:+0200
TZNAME:CEST
DTSTART:20220327T010000
END:DAYLIGHT
BEGIN:STANDARD
TZOFFSETFROM:+0200
TZOFFSETTO:+0100
TZNAME:CET
DTSTART:20221030T010000
END:STANDARD
END:VTIMEZONE
BEGIN:VEVENT
DTSTART;TZID=Europe/Madrid:20220112T190000
DTEND;TZID=Europe/Madrid:20220112T203000
DTSTAMP:20260423T083311
CREATED:20220110T103247Z
LAST-MODIFIED:20220110T103419Z
UID:66503-1642014000-1642019400@historico.ateneovalencia.es
SUMMARY:Sensus Communis: "Cómo afectan los Medios Sociales a nuestros hijos"
DESCRIPTION:El Foro Sensus Communis regresa al Ateneo Mercantil en este 2022 con una conferencia el próximo miércoles 12 de enero a las 19 horas en el Salón Sorolla. Una sesión que será presencial y online\, ya que los presentadores serán el Prof. Dr. Chris Skowronski\, Profesor en el Departamento de Estudios Culturales de la Universidad de Opole\, y Manager de asuntos científicos del Berlin Practical Philosophy International Forum y el Dr. Carlos Climent\, Vicepresidente de la Fundación del Ateneo Mercantil de CV. El debate será entorno a "Cómo afectan los Medios Sociales a nuestros hijos"\, un problema de actualidad ya que las redes sociales cada vez están moldeando los comportamientos de nuestros hijos. \nEnlace para la conferencia Online: https://us06web.zoom.us/j/81104811452\nLas redes sociales han cambiado la forma de comunicarnos y relacionarnos con los demás. Hay muchos riesgos a los que están expuestos. Para muchos niños el uso de los Medios Sociales se está convirtiendo en algo casi imprescindible. El consumo de las redes sociales se hace cada vez a una edad más temprana. El avance constante de las nuevas tecnologías ha modificado la forma en la que los niños estudian\, se relacionan e invierten su tiempo de ocio. Internet y las redes sociales virtuales ocupan un lugar cada vez más destacado en el proceso de socialización y se han convertido en un elemento esencial para sus vidas. A algunos expertos les preocupa que los adolescentes se sientan más ansiosos y tengan una menor autoestima debido a las redes sociales. \nCartel:
URL:https://historico.ateneovalencia.es/evento/sensus-communis-como-afectan-los-medios-sociales-a-nuestros-hijos/
LOCATION:Salón Sorolla - Ateneo Mercantil de Valencia\, Plaza del Ayuntamiento 18\, Valencia\, Valencia\, 46002\, España
CATEGORIES:Sensus Communis
ATTACH;FMTTYPE=image/jpeg:https://historico.ateneovalencia.es/wp-content/uploads/2022/01/20220112-Sensus-Communis-Medios-Sociales.jpg
END:VEVENT
BEGIN:VEVENT
DTSTART;TZID=Europe/Madrid:20220126T190000
DTEND;TZID=Europe/Madrid:20220126T203000
DTSTAMP:20260423T083311
CREATED:20220110T113142Z
LAST-MODIFIED:20220114T132731Z
UID:66510-1643223600-1643229000@historico.ateneovalencia.es
SUMMARY:Sensus Communis: "Energías Renovables frente a la Energía Nuclear"
DESCRIPTION:El Foro Sensus Communis regresa al Ateneo Mercantil con una conferencia que será presencial el próximo miércoles 26 de enero a las 19 horas en el Salón Sorolla. Una reunión que tratará un tema de enorme actualidad como es el de las "Energías Renovables frente a la Energía Nuclear" y cuyo ponente será el Prof. Dr. Juan Ángel Saiz Jiménez\, profesor de la Universitat Politécnica de València. El presentador será el Dr. Carlos Climent\, Vicepresidente de la Fundación del Ateneo Mercantil CV. \nLa necesidad urgente de reducir las emisiones de gases contaminantes para frenar el calentamiento global ha devuelto a la energía nuclear al centro del debate sobre las alternativas disponibles. Sin embargo\, su uso plantea un dilema complejo entre costes y beneficios: se trata de una energía limpia desde el punto de vista del cambio climático\, pero es cara\, no aporta flexibilidad al suministro eléctrico y\, además\, genera residuos peligrosos que durarán siglos. \nEn España\, el debate se centra en el plazo de funcionamiento de los siete reactores activos (Almaraz I y II\, Ascó I y II\, Cofrentes\, Vandellós II y Trillo)\, que en 2020 proporcionaron el 22 % de la electricidad\, por lo que la nuclear fue la primera fuente de energía del país. Dado que está previsto cerrar las existentes entre 2027 y 2035\, España deberá suplir esa generación con otras fuentes -las renovables marcaron récord el año pasado\, con el 45 %\, y el objetivo es alcanzar el 74 % en 2030- y habrá que decidir si respaldar el suministro con gas\, que contamina la atmósfera\, o con una mayor capacidad de almacenamiento\, lo que elevará el coste. Además\, en la conferencia se tratará de comparar la potencia eléctrica que se puede obtener con la energía solar fotovoltaica\, la eólica y la nuclear\, a partir de una misma inversión económica. \nCartel:\n \n 
URL:https://historico.ateneovalencia.es/evento/sensus-communis-energias-renovables-frente-a-la-energia-nuclear/
LOCATION:Salón Sorolla - Ateneo Mercantil de Valencia\, Plaza del Ayuntamiento 18\, Valencia\, Valencia\, 46002\, España
CATEGORIES:Sensus Communis
ATTACH;FMTTYPE=image/jpeg:https://historico.ateneovalencia.es/wp-content/uploads/2022/01/20220126-Sensus-Communis-Renovables-vs-Nuclear.jpg
END:VEVENT
END:VCALENDAR